BEGIN:VCALENDAR
VERSION:2.0
PRODID:-//South Bersted Primary School - ECPv6.15.5//NONSGML v1.0//EN
CALSCALE:GREGORIAN
METHOD:PUBLISH
X-WR-CALNAME:South Bersted Primary School
X-ORIGINAL-URL:https://www.southbersted.co.uk
X-WR-CALDESC:Events for South Bersted Primary School
REFRESH-INTERVAL;VALUE=DURATION:PT1H
X-Robots-Tag:noindex
X-PUBLISHED-TTL:PT1H
BEGIN:VTIMEZONE
TZID:Europe/London
BEGIN:DAYLIGHT
TZOFFSETFROM:+0000
TZOFFSETTO:+0100
TZNAME:BST
DTSTART:20190331T010000
END:DAYLIGHT
BEGIN:STANDARD
TZOFFSETFROM:+0100
TZOFFSETTO:+0000
TZNAME:GMT
DTSTART:20191027T010000
END:STANDARD
END:VTIMEZONE
BEGIN:VEVENT
DTSTART;VALUE=DATE:20190722
DTEND;VALUE=DATE:20190724
DTSTAMP:20260425T153008
CREATED:20180919T141612Z
LAST-MODIFIED:20180919T141612Z
UID:11536-1563753600-1563926399@www.southbersted.co.uk
SUMMARY:INSET DAY
DESCRIPTION:
URL:https://www.southbersted.co.uk/calendar/inset-day-3-2/
END:VEVENT
BEGIN:VEVENT
DTSTART;TZID=Europe/London:20190719T090000
DTEND;TZID=Europe/London:20190719T100000
DTSTAMP:20260425T153008
CREATED:20180919T141539Z
LAST-MODIFIED:20180919T141539Z
UID:7997-1563526800-1563530400@www.southbersted.co.uk
SUMMARY:Church Service
DESCRIPTION:Parents and carers are welcome to join us for the last church service of the school year
URL:https://www.southbersted.co.uk/calendar/church-service-6/
END:VEVENT
BEGIN:VEVENT
DTSTART;TZID=Europe/London:20190719T090000
DTEND;TZID=Europe/London:20190719T100000
DTSTAMP:20260425T153008
CREATED:20180919T141539Z
LAST-MODIFIED:20180919T141539Z
UID:11535-1563526800-1563530400@www.southbersted.co.uk
SUMMARY:Church Service
DESCRIPTION:Parents and carers are welcome to join us for the last church service of the school year
URL:https://www.southbersted.co.uk/calendar/church-service-6-2/
END:VEVENT
BEGIN:VEVENT
DTSTART;TZID=Europe/London:20190719T085000
DTEND;TZID=Europe/London:20190719T151500
DTSTAMP:20260425T153008
CREATED:20180919T141722Z
LAST-MODIFIED:20180919T141722Z
UID:8002-1563526200-1563549300@www.southbersted.co.uk
SUMMARY:End of Summer Term
DESCRIPTION:
URL:https://www.southbersted.co.uk/calendar/end-of-summer-term/
END:VEVENT
BEGIN:VEVENT
DTSTART;TZID=Europe/London:20190719T085000
DTEND;TZID=Europe/London:20190719T151500
DTSTAMP:20260425T153008
CREATED:20180919T141722Z
LAST-MODIFIED:20180919T141722Z
UID:11537-1563526200-1563549300@www.southbersted.co.uk
SUMMARY:End of Summer Term
DESCRIPTION:
URL:https://www.southbersted.co.uk/calendar/end-of-summer-term-2/
END:VEVENT
BEGIN:VEVENT
DTSTART;TZID=Europe/London:20190718T135000
DTEND;TZID=Europe/London:20190718T151500
DTSTAMP:20260425T153008
CREATED:20180919T141433Z
LAST-MODIFIED:20180919T141433Z
UID:7994-1563457800-1563462900@www.southbersted.co.uk
SUMMARY:Dance Extravaganza
DESCRIPTION:Parents and carers are invited join us for our annual Dance Extravaganza.  Gates open at 1.50pm.
URL:https://www.southbersted.co.uk/calendar/dance-extravaganza/
END:VEVENT
BEGIN:VEVENT
DTSTART;TZID=Europe/London:20190718T135000
DTEND;TZID=Europe/London:20190718T151500
DTSTAMP:20260425T153008
CREATED:20180919T141433Z
LAST-MODIFIED:20180919T141433Z
UID:11534-1563457800-1563462900@www.southbersted.co.uk
SUMMARY:Dance Extravaganza
DESCRIPTION:Parents and carers are invited join us for our annual Dance Extravaganza.  Gates open at 1.50pm.
URL:https://www.southbersted.co.uk/calendar/dance-extravaganza-3/
END:VEVENT
BEGIN:VEVENT
DTSTART;TZID=Europe/London:20190718T090000
DTEND;TZID=Europe/London:20190718T100000
DTSTAMP:20260425T153008
CREATED:20190430T101436Z
LAST-MODIFIED:20190430T101436Z
UID:9256-1563440400-1563444000@www.southbersted.co.uk
SUMMARY:Year 6 Class Collective Worship/Leavers
DESCRIPTION:Year 6 parents and carers are invited to join us for this special Collective Worship/Leavers assembly from 9.00am
URL:https://www.southbersted.co.uk/calendar/year-6-class-collective-worship-leavers/
END:VEVENT
BEGIN:VEVENT
DTSTART;TZID=Europe/London:20190718T090000
DTEND;TZID=Europe/London:20190718T100000
DTSTAMP:20260425T153008
CREATED:20190430T101436Z
LAST-MODIFIED:20190430T101436Z
UID:11679-1563440400-1563444000@www.southbersted.co.uk
SUMMARY:Year 6 Class Collective Worship/Leavers
DESCRIPTION:Year 6 parents and carers are invited to join us for this special Collective Worship/Leavers assembly from 9.00am
URL:https://www.southbersted.co.uk/calendar/year-6-class-collective-worship-leavers-2/
END:VEVENT
BEGIN:VEVENT
DTSTART;TZID=Europe/London:20190717T151500
DTEND;TZID=Europe/London:20190717T180000
DTSTAMP:20260425T153008
CREATED:20190712T130257Z
LAST-MODIFIED:20190712T130257Z
UID:9452-1563376500-1563386400@www.southbersted.co.uk
SUMMARY:Year 6 - Leavers Games/Takeaway
DESCRIPTION:Year 6 children will take part in some fun games and activities after school\, followed by a takeaway of their choice.  Children must be collected at 6.00pm.
URL:https://www.southbersted.co.uk/calendar/year-6-leavers-games-takeaway/
END:VEVENT
BEGIN:VEVENT
DTSTART;TZID=Europe/London:20190717T151500
DTEND;TZID=Europe/London:20190717T180000
DTSTAMP:20260425T153008
CREATED:20190712T130257Z
LAST-MODIFIED:20190712T130257Z
UID:11702-1563376500-1563386400@www.southbersted.co.uk
SUMMARY:Year 6 - Leavers Games/Takeaway
DESCRIPTION:Year 6 children will take part in some fun games and activities after school\, followed by a takeaway of their choice.  Children must be collected at 6.00pm.
URL:https://www.southbersted.co.uk/calendar/year-6-leavers-games-takeaway-2/
END:VEVENT
BEGIN:VEVENT
DTSTART;TZID=Europe/London:20190717T085000
DTEND;TZID=Europe/London:20190717T151500
DTSTAMP:20260425T153008
CREATED:20190712T130100Z
LAST-MODIFIED:20190712T130100Z
UID:9450-1563353400-1563376500@www.southbersted.co.uk
SUMMARY:Year 6 Forest Schools Day
DESCRIPTION:Children should come to school in old clothes suitable for forest schools activities:\n– long sleeves/trousers (arms and legs must be fully covered)\n– Long hair MUST be tied back
URL:https://www.southbersted.co.uk/calendar/year-6-forest-schools-day/
END:VEVENT
BEGIN:VEVENT
DTSTART;TZID=Europe/London:20190717T085000
DTEND;TZID=Europe/London:20190717T151500
DTSTAMP:20260425T153008
CREATED:20190712T130100Z
LAST-MODIFIED:20190712T130100Z
UID:11701-1563353400-1563376500@www.southbersted.co.uk
SUMMARY:Year 6 Forest Schools Day
DESCRIPTION:Children should come to school in old clothes suitable for forest schools activities:\n– long sleeves/trousers (arms and legs must be fully covered)\n– Long hair MUST be tied back
URL:https://www.southbersted.co.uk/calendar/year-6-forest-schools-day-2/
END:VEVENT
BEGIN:VEVENT
DTSTART;TZID=Europe/London:20190716T180000
DTEND;TZID=Europe/London:20190716T190000
DTSTAMP:20260425T153008
CREATED:20190703T092934Z
LAST-MODIFIED:20190703T092934Z
UID:9422-1563300000-1563303600@www.southbersted.co.uk
SUMMARY:Parent Open Evening
DESCRIPTION:Classrooms will be open for parents and carers to view children’s work.  Class teachers will be available if you would like to talk to your child current class teacher\, or their teacher for the next academic year.  Please sign in and out at the main entrance.
URL:https://www.southbersted.co.uk/calendar/parent-open-evening/
END:VEVENT
BEGIN:VEVENT
DTSTART;TZID=Europe/London:20190716T180000
DTEND;TZID=Europe/London:20190716T190000
DTSTAMP:20260425T153008
CREATED:20190703T092934Z
LAST-MODIFIED:20190703T092934Z
UID:11696-1563300000-1563303600@www.southbersted.co.uk
SUMMARY:Parent Open Evening
DESCRIPTION:Classrooms will be open for parents and carers to view children’s work.  Class teachers will be available if you would like to talk to your child current class teacher\, or their teacher for the next academic year.  Please sign in and out at the main entrance.
URL:https://www.southbersted.co.uk/calendar/parent-open-evening-2/
END:VEVENT
BEGIN:VEVENT
DTSTART;TZID=Europe/London:20190716T153000
DTEND;TZID=Europe/London:20190716T163000
DTSTAMP:20260425T153008
CREATED:20180919T140519Z
LAST-MODIFIED:20180919T140519Z
UID:7990-1563291000-1563294600@www.southbersted.co.uk
SUMMARY:Parent Open Evening
DESCRIPTION:Classrooms will be open for parents and carers to view children’s work.  Class teachers will be available if you would like to talk to your child current class teacher\, or their teacher for the next academic year.  Please sign in and out at the main entrance.
URL:https://www.southbersted.co.uk/calendar/parent-open-afternoon/
END:VEVENT
BEGIN:VEVENT
DTSTART;TZID=Europe/London:20190716T153000
DTEND;TZID=Europe/London:20190716T163000
DTSTAMP:20260425T153008
CREATED:20180919T140519Z
LAST-MODIFIED:20180919T140519Z
UID:11533-1563291000-1563294600@www.southbersted.co.uk
SUMMARY:Parent Open Evening
DESCRIPTION:Classrooms will be open for parents and carers to view children’s work.  Class teachers will be available if you would like to talk to your child current class teacher\, or their teacher for the next academic year.  Please sign in and out at the main entrance.
URL:https://www.southbersted.co.uk/calendar/parent-open-afternoon-2/
END:VEVENT
BEGIN:VEVENT
DTSTART;TZID=Europe/London:20190712T085000
DTEND;TZID=Europe/London:20190712T085000
DTSTAMP:20260425T153008
CREATED:20190712T131638Z
LAST-MODIFIED:20190712T131638Z
UID:9469-1562921400-1562921400@www.southbersted.co.uk
SUMMARY:Start of Summer Term
DESCRIPTION:
URL:https://www.southbersted.co.uk/calendar/start-of-summer-term-2/
END:VEVENT
BEGIN:VEVENT
DTSTART;TZID=Europe/London:20190712T085000
DTEND;TZID=Europe/London:20190712T085000
DTSTAMP:20260425T153008
CREATED:20190712T131638Z
LAST-MODIFIED:20190712T131638Z
UID:11707-1562921400-1562921400@www.southbersted.co.uk
SUMMARY:Start of Summer Term
DESCRIPTION:
URL:https://www.southbersted.co.uk/calendar/start-of-summer-term-2-2/
END:VEVENT
BEGIN:VEVENT
DTSTART;VALUE=DATE:20190712
DTEND;VALUE=DATE:20190713
DTSTAMP:20260425T153008
CREATED:20190712T131901Z
LAST-MODIFIED:20190712T131901Z
UID:9475-1562889600-1562975999@www.southbersted.co.uk
SUMMARY:Bank Holiday
DESCRIPTION:
URL:https://www.southbersted.co.uk/calendar/bank-holiday/
END:VEVENT
BEGIN:VEVENT
DTSTART;VALUE=DATE:20190712
DTEND;VALUE=DATE:20190713
DTSTAMP:20260425T153008
CREATED:20190712T131901Z
LAST-MODIFIED:20190712T131901Z
UID:11708-1562889600-1562975999@www.southbersted.co.uk
SUMMARY:Bank Holiday
DESCRIPTION:
URL:https://www.southbersted.co.uk/calendar/bank-holiday-5/
END:VEVENT
BEGIN:VEVENT
DTSTART;TZID=Europe/London:20190710T150000
DTEND;TZID=Europe/London:20190710T170000
DTSTAMP:20260425T153008
CREATED:20190626T113232Z
LAST-MODIFIED:20190626T113232Z
UID:9413-1562770800-1562778000@www.southbersted.co.uk
SUMMARY:Book Fair
DESCRIPTION:The Book People will be holding a book fair during our open afternoon on Wednesday 10th July.  Books will be available to view and order.
URL:https://www.southbersted.co.uk/calendar/book-fair/
END:VEVENT
BEGIN:VEVENT
DTSTART;TZID=Europe/London:20190710T150000
DTEND;TZID=Europe/London:20190710T170000
DTSTAMP:20260425T153008
CREATED:20190626T113232Z
LAST-MODIFIED:20190626T113232Z
UID:11695-1562770800-1562778000@www.southbersted.co.uk
SUMMARY:Book Fair
DESCRIPTION:The Book People will be holding a book fair during our open afternoon on Wednesday 10th July.  Books will be available to view and order.
URL:https://www.southbersted.co.uk/calendar/book-fair-3/
END:VEVENT
BEGIN:VEVENT
DTSTART;TZID=Europe/London:20190710T140000
DTEND;TZID=Europe/London:20190710T150000
DTSTAMP:20260425T153008
CREATED:20190430T103901Z
LAST-MODIFIED:20190430T103901Z
UID:9269-1562767200-1562770800@www.southbersted.co.uk
SUMMARY:New Reception Intake - Welcome Session
DESCRIPTION:New reception children who will be joining us in September are invited to attend today from 2.00 – 3.00pm.
URL:https://www.southbersted.co.uk/calendar/new-reception-intake-welcome-session-2019-07-10/
END:VEVENT
BEGIN:VEVENT
DTSTART;TZID=Europe/London:20190710T140000
DTEND;TZID=Europe/London:20190710T150000
DTSTAMP:20260425T153008
CREATED:20190430T103901Z
LAST-MODIFIED:20190430T103901Z
UID:11686-1562767200-1562770800@www.southbersted.co.uk
SUMMARY:New Reception Intake - Welcome Session
DESCRIPTION:New reception children who will be joining us in September are invited to attend today from 2.00 – 3.00pm.
URL:https://www.southbersted.co.uk/calendar/new-reception-intake-welcome-session-2019-07-10-2/
END:VEVENT
BEGIN:VEVENT
DTSTART;TZID=Europe/London:20190709T170000
DTEND;TZID=Europe/London:20190709T190000
DTSTAMP:20260425T153008
CREATED:20180919T135535Z
LAST-MODIFIED:20180919T135535Z
UID:7988-1562691600-1562698800@www.southbersted.co.uk
SUMMARY:Governor Monthly Meeting
DESCRIPTION:
URL:https://www.southbersted.co.uk/calendar/governor-monthly-meeting-2/
END:VEVENT
BEGIN:VEVENT
DTSTART;TZID=Europe/London:20190709T170000
DTEND;TZID=Europe/London:20190709T190000
DTSTAMP:20260425T153008
CREATED:20180919T135535Z
LAST-MODIFIED:20180919T135535Z
UID:11532-1562691600-1562698800@www.southbersted.co.uk
SUMMARY:Governor Monthly Meeting
DESCRIPTION:
URL:https://www.southbersted.co.uk/calendar/governor-monthly-meeting-2-2/
END:VEVENT
BEGIN:VEVENT
DTSTART;VALUE=DATE:20190708
DTEND;VALUE=DATE:20190713
DTSTAMP:20260425T153008
CREATED:20180919T135451Z
LAST-MODIFIED:20180919T135451Z
UID:7985-1562544000-1562975999@www.southbersted.co.uk
SUMMARY:Year 6 Residential
DESCRIPTION:Further details to follow in due course
URL:https://www.southbersted.co.uk/calendar/proposed-date-for-year-6-residential/
END:VEVENT
BEGIN:VEVENT
DTSTART;VALUE=DATE:20190708
DTEND;VALUE=DATE:20190713
DTSTAMP:20260425T153008
CREATED:20180919T135451Z
LAST-MODIFIED:20180919T135451Z
UID:11531-1562544000-1562975999@www.southbersted.co.uk
SUMMARY:Year 6 Residential
DESCRIPTION:Further details to follow in due course
URL:https://www.southbersted.co.uk/calendar/proposed-date-for-year-6-residential-2/
END:VEVENT
BEGIN:VEVENT
DTSTART;TZID=Europe/London:20190705T151500
DTEND;TZID=Europe/London:20190705T164500
DTSTAMP:20260425T153008
CREATED:20180924T095601Z
LAST-MODIFIED:20180924T095601Z
UID:8079-1562339700-1562345100@www.southbersted.co.uk
SUMMARY:Summer Fete
DESCRIPTION:Please do come and join us after school for our Summer Fair.\nWe will have lots of activities and stalls including:\nTeddy Tombola * Sweetie Tombola * Lucky Boxes\nBouncy Castle * Beat the Goalie * Raffle\nSecond Hand Uniform will also be on sale during this event \n 
URL:https://www.southbersted.co.uk/calendar/summer-fete/
END:VEVENT
END:VCALENDAR