BEGIN:VCALENDAR
VERSION:2.0
PRODID:-//South Bersted Primary School - ECPv6.15.5//NONSGML v1.0//EN
CALSCALE:GREGORIAN
METHOD:PUBLISH
X-WR-CALNAME:South Bersted Primary School
X-ORIGINAL-URL:https://www.southbersted.co.uk
X-WR-CALDESC:Events for South Bersted Primary School
REFRESH-INTERVAL;VALUE=DURATION:PT1H
X-Robots-Tag:noindex
X-PUBLISHED-TTL:PT1H
BEGIN:VTIMEZONE
TZID:Europe/London
BEGIN:DAYLIGHT
TZOFFSETFROM:+0000
TZOFFSETTO:+0100
TZNAME:BST
DTSTART:20190331T010000
END:DAYLIGHT
BEGIN:STANDARD
TZOFFSETFROM:+0100
TZOFFSETTO:+0000
TZNAME:GMT
DTSTART:20191027T010000
END:STANDARD
END:VTIMEZONE
BEGIN:VEVENT
DTSTART;TZID=Europe/London:20191023T090000
DTEND;TZID=Europe/London:20191023T104500
DTSTAMP:20260425T135913
CREATED:20191015T110545Z
LAST-MODIFIED:20191015T110545Z
UID:11742-1571821200-1571827500@www.southbersted.co.uk
SUMMARY:Prospective New Parents Open Morning
DESCRIPTION:9.00am – 9.45am OR 10.00 – 10.45am \nIs your child starting school in September 2020? If so\, please come and join us at our open morning when staff\, governors and pupils will be available to answer any questions you have. You will also have an opportunity to view the school and grounds. \nIf you are unable to attend on 23rd October\, please contact the school office on 01243 821678 (office@southbersted.co.uk) to make a more suitable time. \nWe look forward to welcoming you to South Bersted CE Primary School.
URL:https://www.southbersted.co.uk/calendar/propective-new-parents-open-morning-2/
END:VEVENT
BEGIN:VEVENT
DTSTART;TZID=Europe/London:20191022T090000
DTEND;TZID=Europe/London:20191022T130000
DTSTAMP:20260425T135913
CREATED:20190925T132136Z
LAST-MODIFIED:20190925T132136Z
UID:9782-1571734800-1571749200@www.southbersted.co.uk
SUMMARY:Y6 Local Walk/Bognor Museum visit
DESCRIPTION:To support our learning theme ‘Is technology taking over the world?’\, we will be taking a walk to Bognor Regis town centre to research technology in and around the town.  We will then visit Bognor Regis museum to find out more about how technology has changed in Bognor Regis over time.
URL:https://www.southbersted.co.uk/calendar/y6-local-walk-bognor-museum-visit/
END:VEVENT
BEGIN:VEVENT
DTSTART;TZID=Europe/London:20191022T090000
DTEND;TZID=Europe/London:20191022T130000
DTSTAMP:20260425T135913
CREATED:20190925T132136Z
LAST-MODIFIED:20190925T132136Z
UID:11726-1571734800-1571749200@www.southbersted.co.uk
SUMMARY:Y6 Local Walk/Bognor Museum visit
DESCRIPTION:To support our learning theme ‘Is technology taking over the world?’\, we will be taking a walk to Bognor Regis town centre to research technology in and around the town.  We will then visit Bognor Regis museum to find out more about how technology has changed in Bognor Regis over time.
URL:https://www.southbersted.co.uk/calendar/y6-local-walk-bognor-museum-visit-2/
END:VEVENT
BEGIN:VEVENT
DTSTART;TZID=Europe/London:20191018T151500
DTEND;TZID=Europe/London:20191018T173000
DTSTAMP:20260425T135913
CREATED:20191009T102840Z
LAST-MODIFIED:20191009T102840Z
UID:9897-1571411700-1571419800@www.southbersted.co.uk
SUMMARY:Film Night (Years 1-6)
DESCRIPTION:Tickets will be on sale from Friday 11th October 2019.  Please note that tickets are limited and will be issued on a first come-first served basis. Tickets cannot be reserved in advance.\n\nPlease complete the form and bring it\, with payment\, to the school office.  Ticket price includes a hotdog\, drink\, popcorn and a small bag of sweets (no additional money is needed).   Tickets £3 per child. \n 
URL:https://www.southbersted.co.uk/calendar/film-night-years-1-6/
END:VEVENT
BEGIN:VEVENT
DTSTART;TZID=Europe/London:20191018T151500
DTEND;TZID=Europe/London:20191018T173000
DTSTAMP:20260425T135913
CREATED:20191009T102840Z
LAST-MODIFIED:20191009T102840Z
UID:11733-1571411700-1571419800@www.southbersted.co.uk
SUMMARY:Film Night (Years 1-6)
DESCRIPTION:Tickets will be on sale from Friday 11th October 2019.  Please note that tickets are limited and will be issued on a first come-first served basis. Tickets cannot be reserved in advance.\n\nPlease complete the form and bring it\, with payment\, to the school office.  Ticket price includes a hotdog\, drink\, popcorn and a small bag of sweets (no additional money is needed).   Tickets £3 per child. \n 
URL:https://www.southbersted.co.uk/calendar/film-night-years-1-6-3/
END:VEVENT
BEGIN:VEVENT
DTSTART;TZID=Europe/London:20191018T130000
DTEND;TZID=Europe/London:20191018T150000
DTSTAMP:20260425T135913
CREATED:20190402T104025Z
LAST-MODIFIED:20190402T104025Z
UID:9191-1571403600-1571410800@www.southbersted.co.uk
SUMMARY:Year 3 and 5 - Swimming
DESCRIPTION:
URL:https://www.southbersted.co.uk/calendar/year-3-and-5-swimming-5-2019-10-18/
END:VEVENT
BEGIN:VEVENT
DTSTART;TZID=Europe/London:20191018T130000
DTEND;TZID=Europe/London:20191018T150000
DTSTAMP:20260425T135913
CREATED:20190402T104025Z
LAST-MODIFIED:20190402T104025Z
UID:11663-1571403600-1571410800@www.southbersted.co.uk
SUMMARY:Year 3 and 5 - Swimming
DESCRIPTION:
URL:https://www.southbersted.co.uk/calendar/year-3-and-5-swimming-5-2019-10-18-2/
END:VEVENT
BEGIN:VEVENT
DTSTART;TZID=Europe/London:20191018T100000
DTEND;TZID=Europe/London:20191018T120000
DTSTAMP:20260425T135913
CREATED:20191014T104530Z
LAST-MODIFIED:20191014T104530Z
UID:9940-1571392800-1571400000@www.southbersted.co.uk
SUMMARY:Boccia Event at The Arena
DESCRIPTION:Selected children will be walked to and from the event by South Bersted School staff.  Children should have PE kit in school on the day.
URL:https://www.southbersted.co.uk/calendar/boccia-event-at-the-arena/
END:VEVENT
BEGIN:VEVENT
DTSTART;TZID=Europe/London:20191018T100000
DTEND;TZID=Europe/London:20191018T120000
DTSTAMP:20260425T135913
CREATED:20191014T104530Z
LAST-MODIFIED:20191014T104530Z
UID:11735-1571392800-1571400000@www.southbersted.co.uk
SUMMARY:Boccia Event at The Arena
DESCRIPTION:Selected children will be walked to and from the event by South Bersted School staff.  Children should have PE kit in school on the day.
URL:https://www.southbersted.co.uk/calendar/boccia-event-at-the-arena-2/
END:VEVENT
BEGIN:VEVENT
DTSTART;VALUE=DATE:20191018
DTEND;VALUE=DATE:20191019
DTSTAMP:20260425T135913
CREATED:20191009T103749Z
LAST-MODIFIED:20191009T103749Z
UID:9900-1571356800-1571443199@www.southbersted.co.uk
SUMMARY:NON-UNIFORM DAY
DESCRIPTION:Children may come to school in non-uniform in return for a bottle donation for our Christmas Fair.  Bottles can include wine\, bubble bath etc.
URL:https://www.southbersted.co.uk/calendar/non-uniform-day-4/
END:VEVENT
BEGIN:VEVENT
DTSTART;VALUE=DATE:20191018
DTEND;VALUE=DATE:20191019
DTSTAMP:20260425T135913
CREATED:20191009T103749Z
LAST-MODIFIED:20191009T103749Z
UID:11734-1571356800-1571443199@www.southbersted.co.uk
SUMMARY:NON-UNIFORM DAY
DESCRIPTION:Children may come to school in non-uniform in return for a bottle donation for our Christmas Fair.  Bottles can include wine\, bubble bath etc.
URL:https://www.southbersted.co.uk/calendar/non-uniform-day-4-2/
END:VEVENT
BEGIN:VEVENT
DTSTART;TZID=Europe/London:20191017T130000
DTEND;TZID=Europe/London:20191017T150000
DTSTAMP:20260425T135913
CREATED:20191015T104709Z
LAST-MODIFIED:20191015T104709Z
UID:9952-1571317200-1571324400@www.southbersted.co.uk
SUMMARY:Year 1 Outdoor Learning
DESCRIPTION:Children should bring a change of clothes (old clothes please) suitable for wearing outdoors.  Long sleeves/trousers are required\, and an old pair of shoes or trainers.
URL:https://www.southbersted.co.uk/calendar/year-1-outdoor-learning/
END:VEVENT
BEGIN:VEVENT
DTSTART;TZID=Europe/London:20191017T130000
DTEND;TZID=Europe/London:20191017T150000
DTSTAMP:20260425T135913
CREATED:20191015T104709Z
LAST-MODIFIED:20191015T104709Z
UID:11736-1571317200-1571324400@www.southbersted.co.uk
SUMMARY:Year 1 Outdoor Learning
DESCRIPTION:Children should bring a change of clothes (old clothes please) suitable for wearing outdoors.  Long sleeves/trousers are required\, and an old pair of shoes or trainers.
URL:https://www.southbersted.co.uk/calendar/year-1-outdoor-learning-4/
END:VEVENT
BEGIN:VEVENT
DTSTART;VALUE=DATE:20191015
DTEND;VALUE=DATE:20191016
DTSTAMP:20260425T135913
CREATED:20191015T120346Z
LAST-MODIFIED:20191015T120346Z
UID:10020-1571097600-1571183999@www.southbersted.co.uk
SUMMARY:Safer Internet Day
DESCRIPTION:
URL:https://www.southbersted.co.uk/calendar/safer-internet-day-2/
END:VEVENT
BEGIN:VEVENT
DTSTART;VALUE=DATE:20191015
DTEND;VALUE=DATE:20191016
DTSTAMP:20260425T135913
CREATED:20191015T120346Z
LAST-MODIFIED:20191015T120346Z
UID:11758-1571097600-1571183999@www.southbersted.co.uk
SUMMARY:Safer Internet Day
DESCRIPTION:
URL:https://www.southbersted.co.uk/calendar/safer-internet-day-2-2/
END:VEVENT
BEGIN:VEVENT
DTSTART;VALUE=DATE:20191015
DTEND;VALUE=DATE:20191016
DTSTAMP:20260425T135913
CREATED:20191015T120251Z
LAST-MODIFIED:20191015T120251Z
UID:10015-1571097600-1571183999@www.southbersted.co.uk
SUMMARY:Year 3 visiting Fishbourne Roman Palace
DESCRIPTION:Further details to follow
URL:https://www.southbersted.co.uk/calendar/year-3-visiting-fishbourne-roman-palace-2/
END:VEVENT
BEGIN:VEVENT
DTSTART;VALUE=DATE:20191015
DTEND;VALUE=DATE:20191016
DTSTAMP:20260425T135913
CREATED:20191015T120251Z
LAST-MODIFIED:20191015T120251Z
UID:11756-1571097600-1571183999@www.southbersted.co.uk
SUMMARY:Year 3 visiting Fishbourne Roman Palace
DESCRIPTION:Further details to follow
URL:https://www.southbersted.co.uk/calendar/year-3-visiting-fishbourne-roman-palace-2-2/
END:VEVENT
BEGIN:VEVENT
DTSTART;TZID=Europe/London:20191014T083000
DTEND;TZID=Europe/London:20191014T113000
DTSTAMP:20260425T135913
CREATED:20190121T100653Z
LAST-MODIFIED:20190121T100653Z
UID:8927-1571041800-1571052600@www.southbersted.co.uk
SUMMARY:Individual Photographs
DESCRIPTION:Younger siblings may be photographed with their older siblings from 8.30am
URL:https://www.southbersted.co.uk/calendar/individual-photographs-2/
END:VEVENT
BEGIN:VEVENT
DTSTART;TZID=Europe/London:20191014T083000
DTEND;TZID=Europe/London:20191014T113000
DTSTAMP:20260425T135913
CREATED:20190121T100653Z
LAST-MODIFIED:20190121T100653Z
UID:11620-1571041800-1571052600@www.southbersted.co.uk
SUMMARY:Individual Photographs
DESCRIPTION:Younger siblings may be photographed with their older siblings from 8.30am
URL:https://www.southbersted.co.uk/calendar/individual-photographs-2-2/
END:VEVENT
BEGIN:VEVENT
DTSTART;TZID=Europe/London:20191011T130000
DTEND;TZID=Europe/London:20191011T150000
DTSTAMP:20260425T135913
CREATED:20190402T104025Z
LAST-MODIFIED:20190402T104025Z
UID:9190-1570798800-1570806000@www.southbersted.co.uk
SUMMARY:Year 3 and 5 - Swimming
DESCRIPTION:
URL:https://www.southbersted.co.uk/calendar/year-3-and-5-swimming-5-2019-10-11/
END:VEVENT
BEGIN:VEVENT
DTSTART;TZID=Europe/London:20191011T130000
DTEND;TZID=Europe/London:20191011T150000
DTSTAMP:20260425T135913
CREATED:20190402T104025Z
LAST-MODIFIED:20190402T104025Z
UID:11662-1570798800-1570806000@www.southbersted.co.uk
SUMMARY:Year 3 and 5 - Swimming
DESCRIPTION:
URL:https://www.southbersted.co.uk/calendar/year-3-and-5-swimming-5-2019-10-11-2/
END:VEVENT
BEGIN:VEVENT
DTSTART;TZID=Europe/London:20191011T090000
DTEND;TZID=Europe/London:20191011T151500
DTSTAMP:20260425T135913
CREATED:20191003T114600Z
LAST-MODIFIED:20191003T114600Z
UID:9866-1570784400-1570806900@www.southbersted.co.uk
SUMMARY:Reception Superhero Day
DESCRIPTION:Reception class are invited to dress as their favourite caped superhero for the day.
URL:https://www.southbersted.co.uk/calendar/reception-superhero-day/
END:VEVENT
BEGIN:VEVENT
DTSTART;TZID=Europe/London:20191011T090000
DTEND;TZID=Europe/London:20191011T151500
DTSTAMP:20260425T135913
CREATED:20191003T114600Z
LAST-MODIFIED:20191003T114600Z
UID:11731-1570784400-1570806900@www.southbersted.co.uk
SUMMARY:Reception Superhero Day
DESCRIPTION:Reception class are invited to dress as their favourite caped superhero for the day.
URL:https://www.southbersted.co.uk/calendar/reception-superhero-day-2/
END:VEVENT
BEGIN:VEVENT
DTSTART;TZID=Europe/London:20191010T130000
DTEND;TZID=Europe/London:20191010T150000
DTSTAMP:20260425T135913
CREATED:20191015T110328Z
LAST-MODIFIED:20191015T110328Z
UID:9967-1570712400-1570719600@www.southbersted.co.uk
SUMMARY:Year 2 Outdoor Learning
DESCRIPTION:Children should bring a change of clothes (old clothes please) suitable for wearing outdoors.  Long sleeves/trousers are required\, and an old pair of shoes or trainers.
URL:https://www.southbersted.co.uk/calendar/year-2-outdoor-learning/
END:VEVENT
BEGIN:VEVENT
DTSTART;TZID=Europe/London:20191010T130000
DTEND;TZID=Europe/London:20191010T150000
DTSTAMP:20260425T135913
CREATED:20191015T110328Z
LAST-MODIFIED:20191015T110328Z
UID:11741-1570712400-1570719600@www.southbersted.co.uk
SUMMARY:Year 2 Outdoor Learning
DESCRIPTION:Children should bring a change of clothes (old clothes please) suitable for wearing outdoors.  Long sleeves/trousers are required\, and an old pair of shoes or trainers.
URL:https://www.southbersted.co.uk/calendar/year-2-outdoor-learning-4/
END:VEVENT
BEGIN:VEVENT
DTSTART;TZID=Europe/London:20191004T130000
DTEND;TZID=Europe/London:20191004T150000
DTSTAMP:20260425T135913
CREATED:20190402T104025Z
LAST-MODIFIED:20190402T104025Z
UID:9189-1570194000-1570201200@www.southbersted.co.uk
SUMMARY:Year 3 and 5 - Swimming
DESCRIPTION:
URL:https://www.southbersted.co.uk/calendar/year-3-and-5-swimming-5-2019-10-04/
END:VEVENT
BEGIN:VEVENT
DTSTART;TZID=Europe/London:20191004T130000
DTEND;TZID=Europe/London:20191004T150000
DTSTAMP:20260425T135913
CREATED:20190402T104025Z
LAST-MODIFIED:20190402T104025Z
UID:11661-1570194000-1570201200@www.southbersted.co.uk
SUMMARY:Year 3 and 5 - Swimming
DESCRIPTION:
URL:https://www.southbersted.co.uk/calendar/year-3-and-5-swimming-5-2019-10-04-2/
END:VEVENT
BEGIN:VEVENT
DTSTART;TZID=Europe/London:20191004T084000
DTEND;TZID=Europe/London:20191004T103000
DTSTAMP:20260425T135913
CREATED:20190925T133452Z
LAST-MODIFIED:20190925T133452Z
UID:9791-1570178400-1570185000@www.southbersted.co.uk
SUMMARY:Reception - Bedtime Breakfast Event
DESCRIPTION:Children should come to school wearing pyjamas in place of school uniform.  Once you have taken your child to the classroom please come to the hall where a light breakfast will be available (croissants\, tea and coffee etc).  Miss Stanton will then share a story with the children and parents/carers will then be encouraged to share a story with their child.
URL:https://www.southbersted.co.uk/calendar/reception-bedtime-breakfast-event/
END:VEVENT
BEGIN:VEVENT
DTSTART;TZID=Europe/London:20191004T084000
DTEND;TZID=Europe/London:20191004T103000
DTSTAMP:20260425T135913
CREATED:20190925T133452Z
LAST-MODIFIED:20190925T133452Z
UID:11729-1570178400-1570185000@www.southbersted.co.uk
SUMMARY:Reception - Bedtime Breakfast Event
DESCRIPTION:Children should come to school wearing pyjamas in place of school uniform.  Once you have taken your child to the classroom please come to the hall where a light breakfast will be available (croissants\, tea and coffee etc).  Miss Stanton will then share a story with the children and parents/carers will then be encouraged to share a story with their child.
URL:https://www.southbersted.co.uk/calendar/reception-bedtime-breakfast-event-2/
END:VEVENT
BEGIN:VEVENT
DTSTART;TZID=Europe/London:20191003T130000
DTEND;TZID=Europe/London:20191003T150000
DTSTAMP:20260425T135913
CREATED:20191015T110257Z
LAST-MODIFIED:20191015T110257Z
UID:9964-1570107600-1570114800@www.southbersted.co.uk
SUMMARY:Year 3 Outdoor Learning
DESCRIPTION:Children should bring a change of clothes (old clothes please) suitable for wearing outdoors.  Long sleeves/trousers are required\, and an old pair of shoes or trainers.
URL:https://www.southbersted.co.uk/calendar/year-3-outdoor-learning/
END:VEVENT
END:VCALENDAR