BEGIN:VCALENDAR
VERSION:2.0
PRODID:-//South Bersted Primary School - ECPv6.15.5//NONSGML v1.0//EN
CALSCALE:GREGORIAN
METHOD:PUBLISH
X-WR-CALNAME:South Bersted Primary School
X-ORIGINAL-URL:https://www.southbersted.co.uk
X-WR-CALDESC:Events for South Bersted Primary School
REFRESH-INTERVAL;VALUE=DURATION:PT1H
X-Robots-Tag:noindex
X-PUBLISHED-TTL:PT1H
BEGIN:VTIMEZONE
TZID:Europe/London
BEGIN:DAYLIGHT
TZOFFSETFROM:+0000
TZOFFSETTO:+0100
TZNAME:BST
DTSTART:20190331T010000
END:DAYLIGHT
BEGIN:STANDARD
TZOFFSETFROM:+0100
TZOFFSETTO:+0000
TZNAME:GMT
DTSTART:20191027T010000
END:STANDARD
END:VTIMEZONE
BEGIN:VEVENT
DTSTART;TZID=Europe/London:20191113T160000
DTEND;TZID=Europe/London:20191113T190000
DTSTAMP:20260425T045115
CREATED:20191015T115200Z
LAST-MODIFIED:20191015T115200Z
UID:9997-1573660800-1573671600@www.southbersted.co.uk
SUMMARY:Parent/Teacher Consultations
DESCRIPTION:More information regarding how to book an appointment will be sent home after half term.
URL:https://www.southbersted.co.uk/calendar/parent-teacher-consultations-5/
END:VEVENT
BEGIN:VEVENT
DTSTART;TZID=Europe/London:20191113T160000
DTEND;TZID=Europe/London:20191113T190000
DTSTAMP:20260425T045115
CREATED:20191015T115200Z
LAST-MODIFIED:20191015T115200Z
UID:11749-1573660800-1573671600@www.southbersted.co.uk
SUMMARY:Parent/Teacher Consultations
DESCRIPTION:More information regarding how to book an appointment will be sent home after half term.
URL:https://www.southbersted.co.uk/calendar/parent-teacher-consultations-5-2/
END:VEVENT
BEGIN:VEVENT
DTSTART;VALUE=DATE:20191112
DTEND;VALUE=DATE:20191113
DTSTAMP:20260425T045115
CREATED:20191107T105440Z
LAST-MODIFIED:20191107T105440Z
UID:10223-1573516800-1573603199@www.southbersted.co.uk
SUMMARY:Odd Socks Day
DESCRIPTION:If your child would like to take part\, he or she may wear odd socks to school Tuesday 12th November in place of normal school socks or tights.  With the exception of the socks\,\nnormal school uniform must be worn.
URL:https://www.southbersted.co.uk/calendar/odd-socks-day/
END:VEVENT
BEGIN:VEVENT
DTSTART;VALUE=DATE:20191112
DTEND;VALUE=DATE:20191113
DTSTAMP:20260425T045115
CREATED:20191107T105440Z
LAST-MODIFIED:20191107T105440Z
UID:11787-1573516800-1573603199@www.southbersted.co.uk
SUMMARY:Odd Socks Day
DESCRIPTION:If your child would like to take part\, he or she may wear odd socks to school Tuesday 12th November in place of normal school socks or tights.  With the exception of the socks\,\nnormal school uniform must be worn.
URL:https://www.southbersted.co.uk/calendar/odd-socks-day-2/
END:VEVENT
BEGIN:VEVENT
DTSTART;TZID=Europe/London:20191111T153000
DTEND;TZID=Europe/London:20191111T173000
DTSTAMP:20260425T045115
CREATED:20191015T114951Z
LAST-MODIFIED:20191015T114951Z
UID:9992-1573486200-1573493400@www.southbersted.co.uk
SUMMARY:Parent/Teacher Consultations
DESCRIPTION:Information regarding how to book an appointment with your child’s class teacher will be sent out after half term
URL:https://www.southbersted.co.uk/calendar/parent-teacher-consultations-4/
END:VEVENT
BEGIN:VEVENT
DTSTART;TZID=Europe/London:20191111T153000
DTEND;TZID=Europe/London:20191111T173000
DTSTAMP:20260425T045115
CREATED:20191015T114951Z
LAST-MODIFIED:20191015T114951Z
UID:11747-1573486200-1573493400@www.southbersted.co.uk
SUMMARY:Parent/Teacher Consultations
DESCRIPTION:Information regarding how to book an appointment with your child’s class teacher will be sent out after half term
URL:https://www.southbersted.co.uk/calendar/parent-teacher-consultations-4-2/
END:VEVENT
BEGIN:VEVENT
DTSTART;VALUE=DATE:20191111
DTEND;VALUE=DATE:20191112
DTSTAMP:20260425T045115
CREATED:20191107T105819Z
LAST-MODIFIED:20191107T105819Z
UID:10229-1573430400-1573516799@www.southbersted.co.uk
SUMMARY:Year 4 Outdoor Learning Day
DESCRIPTION:During the day children will take part in a variety of outdoor activities and will complete training for their ‘expedition’ to the South Pole!  Children should wear old\, warm clothes\, including a waterproof coat\, old trainers/wellies.
URL:https://www.southbersted.co.uk/calendar/year-4-outdoor-learning-day/
END:VEVENT
BEGIN:VEVENT
DTSTART;VALUE=DATE:20191111
DTEND;VALUE=DATE:20191112
DTSTAMP:20260425T045115
CREATED:20191107T105819Z
LAST-MODIFIED:20191107T105819Z
UID:11788-1573430400-1573516799@www.southbersted.co.uk
SUMMARY:Year 4 Outdoor Learning Day
DESCRIPTION:During the day children will take part in a variety of outdoor activities and will complete training for their ‘expedition’ to the South Pole!  Children should wear old\, warm clothes\, including a waterproof coat\, old trainers/wellies.
URL:https://www.southbersted.co.uk/calendar/year-4-outdoor-learning-day-2/
END:VEVENT
BEGIN:VEVENT
DTSTART;VALUE=DATE:20191111
DTEND;VALUE=DATE:20191116
DTSTAMP:20260425T045115
CREATED:20191015T114826Z
LAST-MODIFIED:20191015T114826Z
UID:9990-1573430400-1573862399@www.southbersted.co.uk
SUMMARY:Anti Bullying Week
DESCRIPTION:
URL:https://www.southbersted.co.uk/calendar/anti-bullying-week-2/
END:VEVENT
BEGIN:VEVENT
DTSTART;VALUE=DATE:20191111
DTEND;VALUE=DATE:20191116
DTSTAMP:20260425T045115
CREATED:20191015T114826Z
LAST-MODIFIED:20191015T114826Z
UID:11746-1573430400-1573862399@www.southbersted.co.uk
SUMMARY:Anti Bullying Week
DESCRIPTION:
URL:https://www.southbersted.co.uk/calendar/anti-bullying-week-2-2/
END:VEVENT
BEGIN:VEVENT
DTSTART;TZID=Europe/London:20191108T130000
DTEND;TZID=Europe/London:20191108T150000
DTSTAMP:20260425T045115
CREATED:20190402T104025Z
LAST-MODIFIED:20190402T104025Z
UID:9194-1573218000-1573225200@www.southbersted.co.uk
SUMMARY:Year 3 and 5 - Swimming
DESCRIPTION:
URL:https://www.southbersted.co.uk/calendar/year-3-and-5-swimming-5-2019-11-08/
END:VEVENT
BEGIN:VEVENT
DTSTART;TZID=Europe/London:20191108T130000
DTEND;TZID=Europe/London:20191108T150000
DTSTAMP:20260425T045115
CREATED:20190402T104025Z
LAST-MODIFIED:20190402T104025Z
UID:11665-1573218000-1573225200@www.southbersted.co.uk
SUMMARY:Year 3 and 5 - Swimming
DESCRIPTION:
URL:https://www.southbersted.co.uk/calendar/year-3-and-5-swimming-5-2019-11-08-2/
END:VEVENT
BEGIN:VEVENT
DTSTART;VALUE=DATE:20191031
DTEND;VALUE=DATE:20191101
DTSTAMP:20260425T045115
CREATED:20190910T120542Z
LAST-MODIFIED:20190910T120542Z
UID:9694-1572480000-1572566399@www.southbersted.co.uk
SUMMARY:Y6 Secondary Transfer - Application Deadline
DESCRIPTION:Applications for Year 6 children to transfer to Secondary School must be submitted by 31st October 2019.  Your chance of securing a place at one of your preferred schools could be seriously affected if your application is submitted late.  Apply online at www.westsussex.gov.uk/admissions
URL:https://www.southbersted.co.uk/calendar/y6-secondary-transfer-application-deadline/
END:VEVENT
BEGIN:VEVENT
DTSTART;VALUE=DATE:20191031
DTEND;VALUE=DATE:20191101
DTSTAMP:20260425T045115
CREATED:20190910T120542Z
LAST-MODIFIED:20190910T120542Z
UID:11717-1572480000-1572566399@www.southbersted.co.uk
SUMMARY:Y6 Secondary Transfer - Application Deadline
DESCRIPTION:Applications for Year 6 children to transfer to Secondary School must be submitted by 31st October 2019.  Your chance of securing a place at one of your preferred schools could be seriously affected if your application is submitted late.  Apply online at www.westsussex.gov.uk/admissions
URL:https://www.southbersted.co.uk/calendar/y6-secondary-transfer-application-deadline-2/
END:VEVENT
BEGIN:VEVENT
DTSTART;VALUE=DATE:20191028
DTEND;VALUE=DATE:20191102
DTSTAMP:20260425T045115
CREATED:20190712T130633Z
LAST-MODIFIED:20190712T130633Z
UID:9458-1572220800-1572652799@www.southbersted.co.uk
SUMMARY:Half Term
DESCRIPTION:
URL:https://www.southbersted.co.uk/calendar/half-term-4/
END:VEVENT
BEGIN:VEVENT
DTSTART;VALUE=DATE:20191028
DTEND;VALUE=DATE:20191102
DTSTAMP:20260425T045115
CREATED:20190712T130633Z
LAST-MODIFIED:20190712T130633Z
UID:11704-1572220800-1572652799@www.southbersted.co.uk
SUMMARY:Half Term
DESCRIPTION:
URL:https://www.southbersted.co.uk/calendar/half-term-4-2/
END:VEVENT
BEGIN:VEVENT
DTSTART;TZID=Europe/London:20191025T130000
DTEND;TZID=Europe/London:20191025T150000
DTSTAMP:20260425T045115
CREATED:20190402T104025Z
LAST-MODIFIED:20190402T104025Z
UID:9192-1572008400-1572015600@www.southbersted.co.uk
SUMMARY:Year 3 and 5 - Swimming
DESCRIPTION:
URL:https://www.southbersted.co.uk/calendar/year-3-and-5-swimming-5-2019-10-25/
END:VEVENT
BEGIN:VEVENT
DTSTART;TZID=Europe/London:20191025T130000
DTEND;TZID=Europe/London:20191025T150000
DTSTAMP:20260425T045115
CREATED:20190402T104025Z
LAST-MODIFIED:20190402T104025Z
UID:11664-1572008400-1572015600@www.southbersted.co.uk
SUMMARY:Year 3 and 5 - Swimming
DESCRIPTION:
URL:https://www.southbersted.co.uk/calendar/year-3-and-5-swimming-5-2019-10-25-2/
END:VEVENT
BEGIN:VEVENT
DTSTART;VALUE=DATE:20191025
DTEND;VALUE=DATE:20191026
DTSTAMP:20260425T045115
CREATED:20190709T102017Z
LAST-MODIFIED:20190709T102017Z
UID:9438-1571961600-1572047999@www.southbersted.co.uk
SUMMARY:INSET DAY
DESCRIPTION:
URL:https://www.southbersted.co.uk/calendar/inset-day-6/
END:VEVENT
BEGIN:VEVENT
DTSTART;VALUE=DATE:20191025
DTEND;VALUE=DATE:20191026
DTSTAMP:20260425T045115
CREATED:20190709T102017Z
LAST-MODIFIED:20190709T102017Z
UID:11697-1571961600-1572047999@www.southbersted.co.uk
SUMMARY:INSET DAY
DESCRIPTION:
URL:https://www.southbersted.co.uk/calendar/inset-day-6-2/
END:VEVENT
BEGIN:VEVENT
DTSTART;TZID=Europe/London:20191024T151500
DTEND;TZID=Europe/London:20191024T154500
DTSTAMP:20260425T045115
CREATED:20191015T114744Z
LAST-MODIFIED:20191015T114744Z
UID:9987-1571930100-1571931900@www.southbersted.co.uk
SUMMARY:Creative Home Learning Exhibition
DESCRIPTION:Please join us after school to view the children’s creative home learning projects which will be on display in the individual classrooms
URL:https://www.southbersted.co.uk/calendar/creative-home-learning-exhibition-4/
END:VEVENT
BEGIN:VEVENT
DTSTART;TZID=Europe/London:20191024T151500
DTEND;TZID=Europe/London:20191024T154500
DTSTAMP:20260425T045115
CREATED:20191015T114744Z
LAST-MODIFIED:20191015T114744Z
UID:11745-1571930100-1571931900@www.southbersted.co.uk
SUMMARY:Creative Home Learning Exhibition
DESCRIPTION:Please join us after school to view the children’s creative home learning projects which will be on display in the individual classrooms
URL:https://www.southbersted.co.uk/calendar/creative-home-learning-exhibition-4-2/
END:VEVENT
BEGIN:VEVENT
DTSTART;TZID=Europe/London:20191024T090000
DTEND;TZID=Europe/London:20191024T094500
DTSTAMP:20260425T045115
CREATED:20191015T114354Z
LAST-MODIFIED:20191015T114354Z
UID:9980-1571907600-1571910300@www.southbersted.co.uk
SUMMARY:Harvest Festival
DESCRIPTION:Parents and carers are invited to join us at the church at 9.00am for the Harvest Festival.  Donations of food items will be gratefully received.  Children should bring these to school on the morning of 24th October\, and they will be carried to the church.  All donated items will then be passed to the UK Harvest charity for distribution.
URL:https://www.southbersted.co.uk/calendar/harvest-festival/
END:VEVENT
BEGIN:VEVENT
DTSTART;TZID=Europe/London:20191024T090000
DTEND;TZID=Europe/London:20191024T094500
DTSTAMP:20260425T045115
CREATED:20191015T114354Z
LAST-MODIFIED:20191015T114354Z
UID:11744-1571907600-1571910300@www.southbersted.co.uk
SUMMARY:Harvest Festival
DESCRIPTION:Parents and carers are invited to join us at the church at 9.00am for the Harvest Festival.  Donations of food items will be gratefully received.  Children should bring these to school on the morning of 24th October\, and they will be carried to the church.  All donated items will then be passed to the UK Harvest charity for distribution.
URL:https://www.southbersted.co.uk/calendar/harvest-festival-2/
END:VEVENT
BEGIN:VEVENT
DTSTART;TZID=Europe/London:20191023T144500
DTEND;TZID=Europe/London:20191023T144500
DTSTAMP:20260425T045115
CREATED:20191015T114126Z
LAST-MODIFIED:20191015T114126Z
UID:9977-1571841900-1571841900@www.southbersted.co.uk
SUMMARY:Year 6 Residential - Parents Information Meeting
DESCRIPTION:Parents and carers of Year 6 children are invited to come along to the information meeting to find out about the Year 6 Residential in 2020.
URL:https://www.southbersted.co.uk/calendar/year-6-residential-parents-information-meeting/
END:VEVENT
BEGIN:VEVENT
DTSTART;TZID=Europe/London:20191023T144500
DTEND;TZID=Europe/London:20191023T144500
DTSTAMP:20260425T045115
CREATED:20191015T114126Z
LAST-MODIFIED:20191015T114126Z
UID:11743-1571841900-1571841900@www.southbersted.co.uk
SUMMARY:Year 6 Residential - Parents Information Meeting
DESCRIPTION:Parents and carers of Year 6 children are invited to come along to the information meeting to find out about the Year 6 Residential in 2020.
URL:https://www.southbersted.co.uk/calendar/year-6-residential-parents-information-meeting-2/
END:VEVENT
BEGIN:VEVENT
DTSTART;TZID=Europe/London:20191023T090000
DTEND;TZID=Europe/London:20191023T104500
DTSTAMP:20260425T045115
CREATED:20191015T110545Z
LAST-MODIFIED:20191015T110545Z
UID:9970-1571821200-1571827500@www.southbersted.co.uk
SUMMARY:Prospective New Parents Open Morning
DESCRIPTION:9.00am – 9.45am OR 10.00 – 10.45am \nIs your child starting school in September 2020? If so\, please come and join us at our open morning when staff\, governors and pupils will be available to answer any questions you have. You will also have an opportunity to view the school and grounds. \nIf you are unable to attend on 23rd October\, please contact the school office on 01243 821678 (office@southbersted.co.uk) to make a more suitable time. \nWe look forward to welcoming you to South Bersted CE Primary School.
URL:https://www.southbersted.co.uk/calendar/propective-new-parents-open-morning/
END:VEVENT
BEGIN:VEVENT
DTSTART;TZID=Europe/London:20191023T090000
DTEND;TZID=Europe/London:20191023T104500
DTSTAMP:20260425T045115
CREATED:20191015T110545Z
LAST-MODIFIED:20191015T110545Z
UID:11742-1571821200-1571827500@www.southbersted.co.uk
SUMMARY:Prospective New Parents Open Morning
DESCRIPTION:9.00am – 9.45am OR 10.00 – 10.45am \nIs your child starting school in September 2020? If so\, please come and join us at our open morning when staff\, governors and pupils will be available to answer any questions you have. You will also have an opportunity to view the school and grounds. \nIf you are unable to attend on 23rd October\, please contact the school office on 01243 821678 (office@southbersted.co.uk) to make a more suitable time. \nWe look forward to welcoming you to South Bersted CE Primary School.
URL:https://www.southbersted.co.uk/calendar/propective-new-parents-open-morning-2/
END:VEVENT
BEGIN:VEVENT
DTSTART;TZID=Europe/London:20191022T090000
DTEND;TZID=Europe/London:20191022T130000
DTSTAMP:20260425T045115
CREATED:20190925T132136Z
LAST-MODIFIED:20190925T132136Z
UID:9782-1571734800-1571749200@www.southbersted.co.uk
SUMMARY:Y6 Local Walk/Bognor Museum visit
DESCRIPTION:To support our learning theme ‘Is technology taking over the world?’\, we will be taking a walk to Bognor Regis town centre to research technology in and around the town.  We will then visit Bognor Regis museum to find out more about how technology has changed in Bognor Regis over time.
URL:https://www.southbersted.co.uk/calendar/y6-local-walk-bognor-museum-visit/
END:VEVENT
BEGIN:VEVENT
DTSTART;TZID=Europe/London:20191022T090000
DTEND;TZID=Europe/London:20191022T130000
DTSTAMP:20260425T045115
CREATED:20190925T132136Z
LAST-MODIFIED:20190925T132136Z
UID:11726-1571734800-1571749200@www.southbersted.co.uk
SUMMARY:Y6 Local Walk/Bognor Museum visit
DESCRIPTION:To support our learning theme ‘Is technology taking over the world?’\, we will be taking a walk to Bognor Regis town centre to research technology in and around the town.  We will then visit Bognor Regis museum to find out more about how technology has changed in Bognor Regis over time.
URL:https://www.southbersted.co.uk/calendar/y6-local-walk-bognor-museum-visit-2/
END:VEVENT
END:VCALENDAR