BEGIN:VCALENDAR
VERSION:2.0
PRODID:-//South Bersted Primary School - ECPv6.15.5//NONSGML v1.0//EN
CALSCALE:GREGORIAN
METHOD:PUBLISH
X-WR-CALNAME:South Bersted Primary School
X-ORIGINAL-URL:https://www.southbersted.co.uk
X-WR-CALDESC:Events for South Bersted Primary School
REFRESH-INTERVAL;VALUE=DURATION:PT1H
X-Robots-Tag:noindex
X-PUBLISHED-TTL:PT1H
BEGIN:VTIMEZONE
TZID:Europe/London
BEGIN:DAYLIGHT
TZOFFSETFROM:+0000
TZOFFSETTO:+0100
TZNAME:BST
DTSTART:20190331T010000
END:DAYLIGHT
BEGIN:STANDARD
TZOFFSETFROM:+0100
TZOFFSETTO:+0000
TZNAME:GMT
DTSTART:20191027T010000
END:STANDARD
END:VTIMEZONE
BEGIN:VEVENT
DTSTART;TZID=Europe/London:20191129T130000
DTEND;TZID=Europe/London:20191129T150000
DTSTAMP:20260425T001604
CREATED:20190402T104025Z
LAST-MODIFIED:20190402T104025Z
UID:11668-1575032400-1575039600@www.southbersted.co.uk
SUMMARY:Year 3 and 5 - Swimming
DESCRIPTION:
URL:https://www.southbersted.co.uk/calendar/year-3-and-5-swimming-5-2019-11-29-2/
END:VEVENT
BEGIN:VEVENT
DTSTART;VALUE=DATE:20191129
DTEND;VALUE=DATE:20191130
DTSTAMP:20260425T001604
CREATED:20191111T113439Z
LAST-MODIFIED:20191111T113439Z
UID:10250-1574985600-1575071999@www.southbersted.co.uk
SUMMARY:Non-Uniform Day
DESCRIPTION:Children may wear non-uniform to school in return for a ‘fine’ of a chocolate donation for our Christmas Fair.  Please hand chocolate donations to the school office or class teacher.
URL:https://www.southbersted.co.uk/calendar/non-uniform-day-5/
END:VEVENT
BEGIN:VEVENT
DTSTART;VALUE=DATE:20191129
DTEND;VALUE=DATE:20191130
DTSTAMP:20260425T001604
CREATED:20191111T113439Z
LAST-MODIFIED:20191111T113439Z
UID:11791-1574985600-1575071999@www.southbersted.co.uk
SUMMARY:Non-Uniform Day
DESCRIPTION:Children may wear non-uniform to school in return for a ‘fine’ of a chocolate donation for our Christmas Fair.  Please hand chocolate donations to the school office or class teacher.
URL:https://www.southbersted.co.uk/calendar/non-uniform-day-5-2/
END:VEVENT
BEGIN:VEVENT
DTSTART;TZID=Europe/London:20191127T140000
DTEND;TZID=Europe/London:20191127T150000
DTSTAMP:20260425T001604
CREATED:20191015T115654Z
LAST-MODIFIED:20191015T115654Z
UID:10000-1574863200-1574866800@www.southbersted.co.uk
SUMMARY:Year 1 Toy Discovery Afternoon
DESCRIPTION:We would like grandparents\, great-grandparents and parents to join us for a Toy Discovery session.  Please bring in a toy from your own childhood.  During the session\, we would like the children to find out about the toy and how it is made.  We will then have an opportunity to play with the toy and some other traditional games.
URL:https://www.southbersted.co.uk/calendar/year-1-toy-discovery-afternoon-2/
END:VEVENT
BEGIN:VEVENT
DTSTART;TZID=Europe/London:20191127T140000
DTEND;TZID=Europe/London:20191127T150000
DTSTAMP:20260425T001604
CREATED:20191015T115654Z
LAST-MODIFIED:20191015T115654Z
UID:11750-1574863200-1574866800@www.southbersted.co.uk
SUMMARY:Year 1 Toy Discovery Afternoon
DESCRIPTION:We would like grandparents\, great-grandparents and parents to join us for a Toy Discovery session.  Please bring in a toy from your own childhood.  During the session\, we would like the children to find out about the toy and how it is made.  We will then have an opportunity to play with the toy and some other traditional games.
URL:https://www.southbersted.co.uk/calendar/year-1-toy-discovery-afternoon-2-2/
END:VEVENT
BEGIN:VEVENT
DTSTART;TZID=Europe/London:20191126T090000
DTEND;TZID=Europe/London:20191126T140000
DTSTAMP:20260425T001604
CREATED:20190717T120133Z
LAST-MODIFIED:20190717T120133Z
UID:9503-1574758800-1574776800@www.southbersted.co.uk
SUMMARY:Year 5 visiting Ford Materials Recycling Centre
DESCRIPTION:Children will be transported to and from the venue by coach.
URL:https://www.southbersted.co.uk/calendar/year-5-visiting-ford-materials-recycling-centre/
END:VEVENT
BEGIN:VEVENT
DTSTART;TZID=Europe/London:20191126T090000
DTEND;TZID=Europe/London:20191126T140000
DTSTAMP:20260425T001604
CREATED:20190717T120133Z
LAST-MODIFIED:20190717T120133Z
UID:11716-1574758800-1574776800@www.southbersted.co.uk
SUMMARY:Year 5 visiting Ford Materials Recycling Centre
DESCRIPTION:Children will be transported to and from the venue by coach.
URL:https://www.southbersted.co.uk/calendar/year-5-visiting-ford-materials-recycling-centre-2/
END:VEVENT
BEGIN:VEVENT
DTSTART;VALUE=DATE:20191125
DTEND;VALUE=DATE:20191126
DTSTAMP:20260425T001604
CREATED:20191114T110025Z
LAST-MODIFIED:20191114T110025Z
UID:10265-1574640000-1574726399@www.southbersted.co.uk
SUMMARY:Year 6 Evacuation Day
DESCRIPTION:Year 6 children should come to school dressed in 1940’s/WW2 attire
URL:https://www.southbersted.co.uk/calendar/year-6-evacuation-day-2/
END:VEVENT
BEGIN:VEVENT
DTSTART;VALUE=DATE:20191125
DTEND;VALUE=DATE:20191126
DTSTAMP:20260425T001604
CREATED:20191114T110025Z
LAST-MODIFIED:20191114T110025Z
UID:11794-1574640000-1574726399@www.southbersted.co.uk
SUMMARY:Year 6 Evacuation Day
DESCRIPTION:Year 6 children should come to school dressed in 1940’s/WW2 attire
URL:https://www.southbersted.co.uk/calendar/year-6-evacuation-day-2-2/
END:VEVENT
BEGIN:VEVENT
DTSTART;TZID=Europe/London:20191122T130000
DTEND;TZID=Europe/London:20191122T150000
DTSTAMP:20260425T001604
CREATED:20190402T104025Z
LAST-MODIFIED:20190402T104025Z
UID:9196-1574427600-1574434800@www.southbersted.co.uk
SUMMARY:Year 3 and 5 - Swimming
DESCRIPTION:
URL:https://www.southbersted.co.uk/calendar/year-3-and-5-swimming-5-2019-11-22/
END:VEVENT
BEGIN:VEVENT
DTSTART;TZID=Europe/London:20191122T130000
DTEND;TZID=Europe/London:20191122T150000
DTSTAMP:20260425T001604
CREATED:20190402T104025Z
LAST-MODIFIED:20190402T104025Z
UID:11667-1574427600-1574434800@www.southbersted.co.uk
SUMMARY:Year 3 and 5 - Swimming
DESCRIPTION:
URL:https://www.southbersted.co.uk/calendar/year-3-and-5-swimming-5-2019-11-22-2/
END:VEVENT
BEGIN:VEVENT
DTSTART;TZID=Europe/London:20191122T100000
DTEND;TZID=Europe/London:20191122T120000
DTSTAMP:20260425T001604
CREATED:20191113T105301Z
LAST-MODIFIED:20191113T105301Z
UID:10259-1574416800-1574424000@www.southbersted.co.uk
SUMMARY:UK Harvest Food Drive at The Regis School
DESCRIPTION:Junior Governors are invited to join this event to help sort the food donated at the harvest festivals so that it can be donated to local charities.  Parents to transport children to and from this event
URL:https://www.southbersted.co.uk/calendar/uk-harvest-food-drive-at-the-regis-school/
END:VEVENT
BEGIN:VEVENT
DTSTART;TZID=Europe/London:20191122T100000
DTEND;TZID=Europe/London:20191122T120000
DTSTAMP:20260425T001604
CREATED:20191113T105301Z
LAST-MODIFIED:20191113T105301Z
UID:11793-1574416800-1574424000@www.southbersted.co.uk
SUMMARY:UK Harvest Food Drive at The Regis School
DESCRIPTION:Junior Governors are invited to join this event to help sort the food donated at the harvest festivals so that it can be donated to local charities.  Parents to transport children to and from this event
URL:https://www.southbersted.co.uk/calendar/uk-harvest-food-drive-at-the-regis-school-2/
END:VEVENT
BEGIN:VEVENT
DTSTART;TZID=Europe/London:20191121T090000
DTEND;TZID=Europe/London:20191121T150000
DTSTAMP:20260425T001604
CREATED:20190925T114324Z
LAST-MODIFIED:20190925T114324Z
UID:9778-1574326800-1574348400@www.southbersted.co.uk
SUMMARY:Y6 visit to Tangmere Aviation Museum
DESCRIPTION:During the visit\, the children will watch a short presentation on the history of RAF Tangmere\, followed by a workshop where they will be split into groups to research a designated person of interest.  Afterwards\, the children will spend time in the museum itself before returning to school in time for the normal end of day.
URL:https://www.southbersted.co.uk/calendar/y6-visit-to-tangmere-aviation-museum/
END:VEVENT
BEGIN:VEVENT
DTSTART;TZID=Europe/London:20191121T090000
DTEND;TZID=Europe/London:20191121T150000
DTSTAMP:20260425T001604
CREATED:20190925T114324Z
LAST-MODIFIED:20190925T114324Z
UID:11725-1574326800-1574348400@www.southbersted.co.uk
SUMMARY:Y6 visit to Tangmere Aviation Museum
DESCRIPTION:During the visit\, the children will watch a short presentation on the history of RAF Tangmere\, followed by a workshop where they will be split into groups to research a designated person of interest.  Afterwards\, the children will spend time in the museum itself before returning to school in time for the normal end of day.
URL:https://www.southbersted.co.uk/calendar/y6-visit-to-tangmere-aviation-museum-2/
END:VEVENT
BEGIN:VEVENT
DTSTART;TZID=Europe/London:20191120T090000
DTEND;TZID=Europe/London:20191120T160000
DTSTAMP:20260425T001604
CREATED:20190926T085545Z
LAST-MODIFIED:20190926T085545Z
UID:9822-1574240400-1574265600@www.southbersted.co.uk
SUMMARY:Year 1 visiting Brighton Toy Museum
DESCRIPTION:We will be visiting the museum\, travelling by train to Brighton\, returning at 4.00pm.
URL:https://www.southbersted.co.uk/calendar/year-1-visiting-brighton-toy-museum-2/
END:VEVENT
BEGIN:VEVENT
DTSTART;TZID=Europe/London:20191120T090000
DTEND;TZID=Europe/London:20191120T160000
DTSTAMP:20260425T001604
CREATED:20190926T085545Z
LAST-MODIFIED:20190926T085545Z
UID:11730-1574240400-1574265600@www.southbersted.co.uk
SUMMARY:Year 1 visiting Brighton Toy Museum
DESCRIPTION:We will be visiting the museum\, travelling by train to Brighton\, returning at 4.00pm.
URL:https://www.southbersted.co.uk/calendar/year-1-visiting-brighton-toy-museum-2-2/
END:VEVENT
BEGIN:VEVENT
DTSTART;TZID=Europe/London:20191119T170000
DTEND;TZID=Europe/London:20191119T190000
DTSTAMP:20260425T001604
CREATED:20191015T115055Z
LAST-MODIFIED:20191015T115055Z
UID:9995-1574182800-1574190000@www.southbersted.co.uk
SUMMARY:Governors Monthly Meeting
DESCRIPTION:
URL:https://www.southbersted.co.uk/calendar/governors-monthly-meeting-7/
END:VEVENT
BEGIN:VEVENT
DTSTART;TZID=Europe/London:20191119T170000
DTEND;TZID=Europe/London:20191119T190000
DTSTAMP:20260425T001604
CREATED:20191015T115055Z
LAST-MODIFIED:20191015T115055Z
UID:11748-1574182800-1574190000@www.southbersted.co.uk
SUMMARY:Governors Monthly Meeting
DESCRIPTION:
URL:https://www.southbersted.co.uk/calendar/governors-monthly-meeting-7-2/
END:VEVENT
BEGIN:VEVENT
DTSTART;TZID=Europe/London:20191115T140000
DTEND;TZID=Europe/London:20191115T150000
DTSTAMP:20260425T001604
CREATED:20191108T144223Z
LAST-MODIFIED:20191108T144223Z
UID:10238-1573826400-1573830000@www.southbersted.co.uk
SUMMARY:Friends of South Bersted Meeting
DESCRIPTION:Please join us to discuss plans for the Christmas fair.
URL:https://www.southbersted.co.uk/calendar/friends-of-south-bersted-meeting-2/
END:VEVENT
BEGIN:VEVENT
DTSTART;TZID=Europe/London:20191115T140000
DTEND;TZID=Europe/London:20191115T150000
DTSTAMP:20260425T001604
CREATED:20191108T144223Z
LAST-MODIFIED:20191108T144223Z
UID:11789-1573826400-1573830000@www.southbersted.co.uk
SUMMARY:Friends of South Bersted Meeting
DESCRIPTION:Please join us to discuss plans for the Christmas fair.
URL:https://www.southbersted.co.uk/calendar/friends-of-south-bersted-meeting-2-2/
END:VEVENT
BEGIN:VEVENT
DTSTART;TZID=Europe/London:20191115T130000
DTEND;TZID=Europe/London:20191115T150000
DTSTAMP:20260425T001604
CREATED:20190402T104025Z
LAST-MODIFIED:20190402T104025Z
UID:9195-1573822800-1573830000@www.southbersted.co.uk
SUMMARY:Year 3 and 5 - Swimming
DESCRIPTION:
URL:https://www.southbersted.co.uk/calendar/year-3-and-5-swimming-5-2019-11-15/
END:VEVENT
BEGIN:VEVENT
DTSTART;TZID=Europe/London:20191115T130000
DTEND;TZID=Europe/London:20191115T150000
DTSTAMP:20260425T001604
CREATED:20190402T104025Z
LAST-MODIFIED:20190402T104025Z
UID:11666-1573822800-1573830000@www.southbersted.co.uk
SUMMARY:Year 3 and 5 - Swimming
DESCRIPTION:
URL:https://www.southbersted.co.uk/calendar/year-3-and-5-swimming-5-2019-11-15-2/
END:VEVENT
BEGIN:VEVENT
DTSTART;TZID=Europe/London:20191113T160000
DTEND;TZID=Europe/London:20191113T190000
DTSTAMP:20260425T001604
CREATED:20191015T115200Z
LAST-MODIFIED:20191015T115200Z
UID:9997-1573660800-1573671600@www.southbersted.co.uk
SUMMARY:Parent/Teacher Consultations
DESCRIPTION:More information regarding how to book an appointment will be sent home after half term.
URL:https://www.southbersted.co.uk/calendar/parent-teacher-consultations-5/
END:VEVENT
BEGIN:VEVENT
DTSTART;TZID=Europe/London:20191113T160000
DTEND;TZID=Europe/London:20191113T190000
DTSTAMP:20260425T001604
CREATED:20191015T115200Z
LAST-MODIFIED:20191015T115200Z
UID:11749-1573660800-1573671600@www.southbersted.co.uk
SUMMARY:Parent/Teacher Consultations
DESCRIPTION:More information regarding how to book an appointment will be sent home after half term.
URL:https://www.southbersted.co.uk/calendar/parent-teacher-consultations-5-2/
END:VEVENT
BEGIN:VEVENT
DTSTART;VALUE=DATE:20191112
DTEND;VALUE=DATE:20191113
DTSTAMP:20260425T001604
CREATED:20191107T105440Z
LAST-MODIFIED:20191107T105440Z
UID:10223-1573516800-1573603199@www.southbersted.co.uk
SUMMARY:Odd Socks Day
DESCRIPTION:If your child would like to take part\, he or she may wear odd socks to school Tuesday 12th November in place of normal school socks or tights.  With the exception of the socks\,\nnormal school uniform must be worn.
URL:https://www.southbersted.co.uk/calendar/odd-socks-day/
END:VEVENT
BEGIN:VEVENT
DTSTART;VALUE=DATE:20191112
DTEND;VALUE=DATE:20191113
DTSTAMP:20260425T001604
CREATED:20191107T105440Z
LAST-MODIFIED:20191107T105440Z
UID:11787-1573516800-1573603199@www.southbersted.co.uk
SUMMARY:Odd Socks Day
DESCRIPTION:If your child would like to take part\, he or she may wear odd socks to school Tuesday 12th November in place of normal school socks or tights.  With the exception of the socks\,\nnormal school uniform must be worn.
URL:https://www.southbersted.co.uk/calendar/odd-socks-day-2/
END:VEVENT
BEGIN:VEVENT
DTSTART;TZID=Europe/London:20191111T153000
DTEND;TZID=Europe/London:20191111T173000
DTSTAMP:20260425T001604
CREATED:20191015T114951Z
LAST-MODIFIED:20191015T114951Z
UID:9992-1573486200-1573493400@www.southbersted.co.uk
SUMMARY:Parent/Teacher Consultations
DESCRIPTION:Information regarding how to book an appointment with your child’s class teacher will be sent out after half term
URL:https://www.southbersted.co.uk/calendar/parent-teacher-consultations-4/
END:VEVENT
BEGIN:VEVENT
DTSTART;TZID=Europe/London:20191111T153000
DTEND;TZID=Europe/London:20191111T173000
DTSTAMP:20260425T001604
CREATED:20191015T114951Z
LAST-MODIFIED:20191015T114951Z
UID:11747-1573486200-1573493400@www.southbersted.co.uk
SUMMARY:Parent/Teacher Consultations
DESCRIPTION:Information regarding how to book an appointment with your child’s class teacher will be sent out after half term
URL:https://www.southbersted.co.uk/calendar/parent-teacher-consultations-4-2/
END:VEVENT
BEGIN:VEVENT
DTSTART;VALUE=DATE:20191111
DTEND;VALUE=DATE:20191112
DTSTAMP:20260425T001604
CREATED:20191107T105819Z
LAST-MODIFIED:20191107T105819Z
UID:10229-1573430400-1573516799@www.southbersted.co.uk
SUMMARY:Year 4 Outdoor Learning Day
DESCRIPTION:During the day children will take part in a variety of outdoor activities and will complete training for their ‘expedition’ to the South Pole!  Children should wear old\, warm clothes\, including a waterproof coat\, old trainers/wellies.
URL:https://www.southbersted.co.uk/calendar/year-4-outdoor-learning-day/
END:VEVENT
END:VCALENDAR