BEGIN:VCALENDAR
VERSION:2.0
PRODID:-//South Bersted Primary School - ECPv6.15.5//NONSGML v1.0//EN
CALSCALE:GREGORIAN
METHOD:PUBLISH
X-WR-CALNAME:South Bersted Primary School
X-ORIGINAL-URL:https://www.southbersted.co.uk
X-WR-CALDESC:Events for South Bersted Primary School
REFRESH-INTERVAL;VALUE=DURATION:PT1H
X-Robots-Tag:noindex
X-PUBLISHED-TTL:PT1H
BEGIN:VTIMEZONE
TZID:Europe/London
BEGIN:DAYLIGHT
TZOFFSETFROM:+0000
TZOFFSETTO:+0100
TZNAME:BST
DTSTART:20190331T010000
END:DAYLIGHT
BEGIN:STANDARD
TZOFFSETFROM:+0100
TZOFFSETTO:+0000
TZNAME:GMT
DTSTART:20191027T010000
END:STANDARD
BEGIN:DAYLIGHT
TZOFFSETFROM:+0000
TZOFFSETTO:+0100
TZNAME:BST
DTSTART:20200329T010000
END:DAYLIGHT
BEGIN:STANDARD
TZOFFSETFROM:+0100
TZOFFSETTO:+0000
TZNAME:GMT
DTSTART:20201025T010000
END:STANDARD
END:VTIMEZONE
BEGIN:VEVENT
DTSTART;VALUE=DATE:20200106
DTEND;VALUE=DATE:20200107
DTSTAMP:20260426T030432
CREATED:20190709T102102Z
LAST-MODIFIED:20190709T102102Z
UID:11698-1578268800-1578355199@www.southbersted.co.uk
SUMMARY:INSET DAY
DESCRIPTION:
URL:https://www.southbersted.co.uk/calendar/inset-day-7-2/
END:VEVENT
BEGIN:VEVENT
DTSTART;VALUE=DATE:20191223
DTEND;VALUE=DATE:20200104
DTSTAMP:20260426T030432
CREATED:20190712T130931Z
LAST-MODIFIED:20190712T130931Z
UID:9460-1577059200-1578095999@www.southbersted.co.uk
SUMMARY:Christmas Holiday
DESCRIPTION:
URL:https://www.southbersted.co.uk/calendar/christmas-holiday-2/
END:VEVENT
BEGIN:VEVENT
DTSTART;VALUE=DATE:20191223
DTEND;VALUE=DATE:20200104
DTSTAMP:20260426T030432
CREATED:20190712T130931Z
LAST-MODIFIED:20190712T130931Z
UID:11705-1577059200-1578095999@www.southbersted.co.uk
SUMMARY:Christmas Holiday
DESCRIPTION:
URL:https://www.southbersted.co.uk/calendar/christmas-holiday-2-2/
END:VEVENT
BEGIN:VEVENT
DTSTART;TZID=Europe/London:20191220T120000
DTEND;TZID=Europe/London:20191220T130000
DTSTAMP:20260426T030432
CREATED:20190925T132817Z
LAST-MODIFIED:20190925T132817Z
UID:9785-1576843200-1576846800@www.southbersted.co.uk
SUMMARY:Chartwells Christmas Dinner
DESCRIPTION:Orders should be placed via Parentmail by 2nd December\, or www.mealselector.co.uk by 11.59pm on Sunday 8th December.  Please contact the school office if you are unsure whether a meal has been ordered for your child.
URL:https://www.southbersted.co.uk/calendar/chartwells-christmas-dinner/
END:VEVENT
BEGIN:VEVENT
DTSTART;TZID=Europe/London:20191220T120000
DTEND;TZID=Europe/London:20191220T130000
DTSTAMP:20260426T030432
CREATED:20190925T132817Z
LAST-MODIFIED:20190925T132817Z
UID:11727-1576843200-1576846800@www.southbersted.co.uk
SUMMARY:Chartwells Christmas Dinner
DESCRIPTION:Orders should be placed via Parentmail by 2nd December\, or www.mealselector.co.uk by 11.59pm on Sunday 8th December.  Please contact the school office if you are unsure whether a meal has been ordered for your child.
URL:https://www.southbersted.co.uk/calendar/chartwells-christmas-dinner-2/
END:VEVENT
BEGIN:VEVENT
DTSTART;TZID=Europe/London:20191220T090000
DTEND;TZID=Europe/London:20191220T094500
DTSTAMP:20260426T030432
CREATED:20191015T120115Z
LAST-MODIFIED:20191015T120115Z
UID:10010-1576832400-1576835100@www.southbersted.co.uk
SUMMARY:Church Service
DESCRIPTION:Parents and carers are invited to join us at the church at 9.00am for this end of term church service.
URL:https://www.southbersted.co.uk/calendar/church-service-9/
END:VEVENT
BEGIN:VEVENT
DTSTART;TZID=Europe/London:20191220T090000
DTEND;TZID=Europe/London:20191220T094500
DTSTAMP:20260426T030432
CREATED:20191015T120115Z
LAST-MODIFIED:20191015T120115Z
UID:11754-1576832400-1576835100@www.southbersted.co.uk
SUMMARY:Church Service
DESCRIPTION:Parents and carers are invited to join us at the church at 9.00am for this end of term church service.
URL:https://www.southbersted.co.uk/calendar/church-service-9-2/
END:VEVENT
BEGIN:VEVENT
DTSTART;VALUE=DATE:20191220
DTEND;VALUE=DATE:20191221
DTSTAMP:20260426T030432
CREATED:20190925T133054Z
LAST-MODIFIED:20190925T133054Z
UID:9788-1576800000-1576886399@www.southbersted.co.uk
SUMMARY:Christmas Jumper Day
DESCRIPTION:Children are invited to wear a Christmas jumper today in place of their school jumper. \nPlease note:  all other normal school uniform must be worn.  This is NOT a full non-uniform day.
URL:https://www.southbersted.co.uk/calendar/christmas-jumper-day/
END:VEVENT
BEGIN:VEVENT
DTSTART;VALUE=DATE:20191220
DTEND;VALUE=DATE:20191221
DTSTAMP:20260426T030432
CREATED:20190925T133054Z
LAST-MODIFIED:20190925T133054Z
UID:11728-1576800000-1576886399@www.southbersted.co.uk
SUMMARY:Christmas Jumper Day
DESCRIPTION:Children are invited to wear a Christmas jumper today in place of their school jumper. \nPlease note:  all other normal school uniform must be worn.  This is NOT a full non-uniform day.
URL:https://www.southbersted.co.uk/calendar/christmas-jumper-day-2/
END:VEVENT
BEGIN:VEVENT
DTSTART;TZID=Europe/London:20191219T151500
DTEND;TZID=Europe/London:20191219T154500
DTSTAMP:20260426T030432
CREATED:20191213T143018Z
LAST-MODIFIED:20191213T143018Z
UID:10412-1576768500-1576770300@www.southbersted.co.uk
SUMMARY:Creative Home Learning Exhibition
DESCRIPTION:The children’s creative home learning will be on display in the classrooms after school for you to view.  Please come and have a look at the wonderful creations.
URL:https://www.southbersted.co.uk/calendar/creative-home-learning-exhibition-5/
END:VEVENT
BEGIN:VEVENT
DTSTART;TZID=Europe/London:20191219T151500
DTEND;TZID=Europe/London:20191219T154500
DTSTAMP:20260426T030432
CREATED:20191213T143018Z
LAST-MODIFIED:20191213T143018Z
UID:11798-1576768500-1576770300@www.southbersted.co.uk
SUMMARY:Creative Home Learning Exhibition
DESCRIPTION:The children’s creative home learning will be on display in the classrooms after school for you to view.  Please come and have a look at the wonderful creations.
URL:https://www.southbersted.co.uk/calendar/creative-home-learning-exhibition-5-2/
END:VEVENT
BEGIN:VEVENT
DTSTART;TZID=Europe/London:20191219T110000
DTEND;TZID=Europe/London:20191219T113000
DTSTAMP:20260426T030432
CREATED:20191216T140956Z
LAST-MODIFIED:20191216T140956Z
UID:10430-1576753200-1576755000@www.southbersted.co.uk
SUMMARY:Reception Class visit to South Bersted Church
DESCRIPTION:The children will be visiting the church\,  During their visit they will look around the church and listen to a story read by Tim.
URL:https://www.southbersted.co.uk/calendar/reception-class-visit-to-south-bersted-church/
END:VEVENT
BEGIN:VEVENT
DTSTART;TZID=Europe/London:20191219T110000
DTEND;TZID=Europe/London:20191219T113000
DTSTAMP:20260426T030432
CREATED:20191216T140956Z
LAST-MODIFIED:20191216T140956Z
UID:11804-1576753200-1576755000@www.southbersted.co.uk
SUMMARY:Reception Class visit to South Bersted Church
DESCRIPTION:The children will be visiting the church\,  During their visit they will look around the church and listen to a story read by Tim.
URL:https://www.southbersted.co.uk/calendar/reception-class-visit-to-south-bersted-church-2/
END:VEVENT
BEGIN:VEVENT
DTSTART;TZID=Europe/London:20191219T091500
DTEND;TZID=Europe/London:20191219T100000
DTSTAMP:20260426T030432
CREATED:20191213T143311Z
LAST-MODIFIED:20191213T143311Z
UID:10421-1576746900-1576749600@www.southbersted.co.uk
SUMMARY:Year 1 and 2 Christmas Performance
DESCRIPTION:
URL:https://www.southbersted.co.uk/calendar/year-1-and-2-christmas-performance-2/
END:VEVENT
BEGIN:VEVENT
DTSTART;TZID=Europe/London:20191219T091500
DTEND;TZID=Europe/London:20191219T100000
DTSTAMP:20260426T030432
CREATED:20191213T143311Z
LAST-MODIFIED:20191213T143311Z
UID:11802-1576746900-1576749600@www.southbersted.co.uk
SUMMARY:Year 1 and 2 Christmas Performance
DESCRIPTION:
URL:https://www.southbersted.co.uk/calendar/year-1-and-2-christmas-performance-2-2/
END:VEVENT
BEGIN:VEVENT
DTSTART;TZID=Europe/London:20191218T140000
DTEND;TZID=Europe/London:20191218T150000
DTSTAMP:20260426T030432
CREATED:20191213T143237Z
LAST-MODIFIED:20191213T143237Z
UID:10419-1576677600-1576681200@www.southbersted.co.uk
SUMMARY:Year 1 and 2 Christmas Performance
DESCRIPTION:
URL:https://www.southbersted.co.uk/calendar/year-1-and-2-christmas-performance/
END:VEVENT
BEGIN:VEVENT
DTSTART;TZID=Europe/London:20191218T140000
DTEND;TZID=Europe/London:20191218T150000
DTSTAMP:20260426T030432
CREATED:20191213T143237Z
LAST-MODIFIED:20191213T143237Z
UID:11801-1576677600-1576681200@www.southbersted.co.uk
SUMMARY:Year 1 and 2 Christmas Performance
DESCRIPTION:
URL:https://www.southbersted.co.uk/calendar/year-1-and-2-christmas-performance-3/
END:VEVENT
BEGIN:VEVENT
DTSTART;VALUE=DATE:20191218
DTEND;VALUE=DATE:20191219
DTSTAMP:20260426T030432
CREATED:20191015T120009Z
LAST-MODIFIED:20191015T120009Z
UID:10007-1576627200-1576713599@www.southbersted.co.uk
SUMMARY:Flu Vaccinations (rescheduled)
DESCRIPTION:Children from all year groups\, who have parental consent\, will receive the nasal flu vaccination (this is a rescheduled date)
URL:https://www.southbersted.co.uk/calendar/flu-vaccinations-rescheduled/
END:VEVENT
BEGIN:VEVENT
DTSTART;VALUE=DATE:20191218
DTEND;VALUE=DATE:20191219
DTSTAMP:20260426T030432
CREATED:20191015T120009Z
LAST-MODIFIED:20191015T120009Z
UID:11753-1576627200-1576713599@www.southbersted.co.uk
SUMMARY:Flu Vaccinations (rescheduled)
DESCRIPTION:Children from all year groups\, who have parental consent\, will receive the nasal flu vaccination (this is a rescheduled date)
URL:https://www.southbersted.co.uk/calendar/flu-vaccinations-rescheduled-2/
END:VEVENT
BEGIN:VEVENT
DTSTART;TZID=Europe/London:20191217T180000
DTEND;TZID=Europe/London:20191217T190000
DTSTAMP:20260426T030432
CREATED:20191213T143626Z
LAST-MODIFIED:20191213T143626Z
UID:10424-1576605600-1576609200@www.southbersted.co.uk
SUMMARY:Key Stage 2 Carol Service
DESCRIPTION:Children should arrive at 5.45pm prompt in full school uniform. \nThe Carol Service will run from 6.00 – 7.00pm.  Mince Pies\, tea and coffee will be available.
URL:https://www.southbersted.co.uk/calendar/key-stage-2-carol-service-2/
END:VEVENT
BEGIN:VEVENT
DTSTART;TZID=Europe/London:20191217T180000
DTEND;TZID=Europe/London:20191217T190000
DTSTAMP:20260426T030432
CREATED:20191213T143626Z
LAST-MODIFIED:20191213T143626Z
UID:11803-1576605600-1576609200@www.southbersted.co.uk
SUMMARY:Key Stage 2 Carol Service
DESCRIPTION:Children should arrive at 5.45pm prompt in full school uniform. \nThe Carol Service will run from 6.00 – 7.00pm.  Mince Pies\, tea and coffee will be available.
URL:https://www.southbersted.co.uk/calendar/key-stage-2-carol-service-2-2/
END:VEVENT
BEGIN:VEVENT
DTSTART;TZID=Europe/London:20191213T140000
DTEND;TZID=Europe/London:20191213T143000
DTSTAMP:20260426T030432
CREATED:20191213T143154Z
LAST-MODIFIED:20191213T143154Z
UID:10417-1576245600-1576247400@www.southbersted.co.uk
SUMMARY:Reception Class - Nativity
DESCRIPTION:
URL:https://www.southbersted.co.uk/calendar/reception-class-nativity-2/
END:VEVENT
BEGIN:VEVENT
DTSTART;TZID=Europe/London:20191213T140000
DTEND;TZID=Europe/London:20191213T143000
DTSTAMP:20260426T030432
CREATED:20191213T143154Z
LAST-MODIFIED:20191213T143154Z
UID:11800-1576245600-1576247400@www.southbersted.co.uk
SUMMARY:Reception Class - Nativity
DESCRIPTION:
URL:https://www.southbersted.co.uk/calendar/reception-class-nativity-2-2/
END:VEVENT
BEGIN:VEVENT
DTSTART;TZID=Europe/London:20191212T130000
DTEND;TZID=Europe/London:20191212T150000
DTSTAMP:20260426T030432
CREATED:20191112T111738Z
LAST-MODIFIED:20191112T111738Z
UID:10255-1576155600-1576162800@www.southbersted.co.uk
SUMMARY:Whole School Panto - Cinderella
DESCRIPTION:We are delighted to welcome the West End in Schools theatre company to school to perform their own version of Cinderella.
URL:https://www.southbersted.co.uk/calendar/whole-school-panto-cinderella/
END:VEVENT
BEGIN:VEVENT
DTSTART;TZID=Europe/London:20191212T130000
DTEND;TZID=Europe/London:20191212T150000
DTSTAMP:20260426T030432
CREATED:20191112T111738Z
LAST-MODIFIED:20191112T111738Z
UID:11792-1576155600-1576162800@www.southbersted.co.uk
SUMMARY:Whole School Panto - Cinderella
DESCRIPTION:We are delighted to welcome the West End in Schools theatre company to school to perform their own version of Cinderella.
URL:https://www.southbersted.co.uk/calendar/whole-school-panto-cinderella-2/
END:VEVENT
BEGIN:VEVENT
DTSTART;TZID=Europe/London:20191212T091500
DTEND;TZID=Europe/London:20191212T094500
DTSTAMP:20260426T030432
CREATED:20191213T143125Z
LAST-MODIFIED:20191213T143125Z
UID:10415-1576142100-1576143900@www.southbersted.co.uk
SUMMARY:Reception Class - Nativity
DESCRIPTION:
URL:https://www.southbersted.co.uk/calendar/reception-class-nativity/
END:VEVENT
BEGIN:VEVENT
DTSTART;TZID=Europe/London:20191212T091500
DTEND;TZID=Europe/London:20191212T094500
DTSTAMP:20260426T030432
CREATED:20191213T143125Z
LAST-MODIFIED:20191213T143125Z
UID:11799-1576142100-1576143900@www.southbersted.co.uk
SUMMARY:Reception Class - Nativity
DESCRIPTION:
URL:https://www.southbersted.co.uk/calendar/reception-class-nativity-3/
END:VEVENT
BEGIN:VEVENT
DTSTART;TZID=Europe/London:20191210T170000
DTEND;TZID=Europe/London:20191210T190000
DTSTAMP:20260426T030432
CREATED:20191015T115827Z
LAST-MODIFIED:20191015T115827Z
UID:10005-1575997200-1576004400@www.southbersted.co.uk
SUMMARY:Governors Monthly Meeting
DESCRIPTION:
URL:https://www.southbersted.co.uk/calendar/governors-monthly-meeting-8/
END:VEVENT
BEGIN:VEVENT
DTSTART;TZID=Europe/London:20191210T170000
DTEND;TZID=Europe/London:20191210T190000
DTSTAMP:20260426T030432
CREATED:20191015T115827Z
LAST-MODIFIED:20191015T115827Z
UID:11752-1575997200-1576004400@www.southbersted.co.uk
SUMMARY:Governors Monthly Meeting
DESCRIPTION:
URL:https://www.southbersted.co.uk/calendar/governors-monthly-meeting-8-2/
END:VEVENT
BEGIN:VEVENT
DTSTART;TZID=Europe/London:20191206T151500
DTEND;TZID=Europe/London:20191206T163000
DTSTAMP:20260426T030432
CREATED:20191015T115756Z
LAST-MODIFIED:20191015T115756Z
UID:10002-1575645300-1575649800@www.southbersted.co.uk
SUMMARY:Christmas Fair
DESCRIPTION:More details to follow
URL:https://www.southbersted.co.uk/calendar/christmas-fair/
END:VEVENT
END:VCALENDAR