BEGIN:VCALENDAR
VERSION:2.0
PRODID:-//South Bersted Primary School - ECPv6.15.5//NONSGML v1.0//EN
CALSCALE:GREGORIAN
METHOD:PUBLISH
X-WR-CALNAME:South Bersted Primary School
X-ORIGINAL-URL:https://www.southbersted.co.uk
X-WR-CALDESC:Events for South Bersted Primary School
REFRESH-INTERVAL;VALUE=DURATION:PT1H
X-Robots-Tag:noindex
X-PUBLISHED-TTL:PT1H
BEGIN:VTIMEZONE
TZID:Europe/London
BEGIN:DAYLIGHT
TZOFFSETFROM:+0000
TZOFFSETTO:+0100
TZNAME:BST
DTSTART:20190331T010000
END:DAYLIGHT
BEGIN:STANDARD
TZOFFSETFROM:+0100
TZOFFSETTO:+0000
TZNAME:GMT
DTSTART:20191027T010000
END:STANDARD
BEGIN:DAYLIGHT
TZOFFSETFROM:+0000
TZOFFSETTO:+0100
TZNAME:BST
DTSTART:20200329T010000
END:DAYLIGHT
BEGIN:STANDARD
TZOFFSETFROM:+0100
TZOFFSETTO:+0000
TZNAME:GMT
DTSTART:20201025T010000
END:STANDARD
END:VTIMEZONE
BEGIN:VEVENT
DTSTART;TZID=Europe/London:20200116T130000
DTEND;TZID=Europe/London:20200116T150000
DTSTAMP:20260424T174449
CREATED:20200116T113737Z
LAST-MODIFIED:20200116T113737Z
UID:11826-1579179600-1579186800@www.southbersted.co.uk
SUMMARY:Year 5 Outdoor Learning
DESCRIPTION:Children should bring a change of clothes with them (old clothes\, warm coat\, trainers/wellies – suitable for wearing outside.  Clothes and shoes will get muddy and wet)
URL:https://www.southbersted.co.uk/calendar/year-5-outdoor-learning-2-2/
END:VEVENT
BEGIN:VEVENT
DTSTART;TZID=Europe/London:20200116T123000
DTEND;TZID=Europe/London:20200116T130000
DTSTAMP:20260424T174449
CREATED:20200114T123733Z
LAST-MODIFIED:20200114T123733Z
UID:10507-1579177800-1579179600@www.southbersted.co.uk
SUMMARY:Lunchtime Drawing Skills Club (first session)
DESCRIPTION:
URL:https://www.southbersted.co.uk/calendar/lunchtime-drawing-skills-club-first-session/
END:VEVENT
BEGIN:VEVENT
DTSTART;TZID=Europe/London:20200116T123000
DTEND;TZID=Europe/London:20200116T130000
DTSTAMP:20260424T174449
CREATED:20200114T123733Z
LAST-MODIFIED:20200114T123733Z
UID:11818-1579177800-1579179600@www.southbersted.co.uk
SUMMARY:Lunchtime Drawing Skills Club (first session)
DESCRIPTION:
URL:https://www.southbersted.co.uk/calendar/lunchtime-drawing-skills-club-first-session-2/
END:VEVENT
BEGIN:VEVENT
DTSTART;TZID=Europe/London:20200114T154500
DTEND;TZID=Europe/London:20200114T173000
DTSTAMP:20260424T174449
CREATED:20200108T103911Z
LAST-MODIFIED:20200108T103911Z
UID:10464-1579016700-1579023000@www.southbersted.co.uk
SUMMARY:FAB Football/Netball Fixture - CANCELLED
DESCRIPTION:*** THIS EVENT HAS BEEN CANCELLED DUE TO WEATHER *** \n 
URL:https://www.southbersted.co.uk/calendar/fab-football-netball-fixture/
END:VEVENT
BEGIN:VEVENT
DTSTART;TZID=Europe/London:20200114T154500
DTEND;TZID=Europe/London:20200114T173000
DTSTAMP:20260424T174449
CREATED:20200108T103911Z
LAST-MODIFIED:20200108T103911Z
UID:11805-1579016700-1579023000@www.southbersted.co.uk
SUMMARY:FAB Football/Netball Fixture - CANCELLED
DESCRIPTION:*** THIS EVENT HAS BEEN CANCELLED DUE TO WEATHER *** \n 
URL:https://www.southbersted.co.uk/calendar/fab-football-netball-fixture-2/
END:VEVENT
BEGIN:VEVENT
DTSTART;TZID=Europe/London:20200114T031500
DTEND;TZID=Europe/London:20200114T041500
DTSTAMP:20260424T174449
CREATED:20200114T123241Z
LAST-MODIFIED:20200114T123241Z
UID:10496-1578971700-1578975300@www.southbersted.co.uk
SUMMARY:Outdoor Games Club (first session)
DESCRIPTION:
URL:https://www.southbersted.co.uk/calendar/outdoor-games-club-first-session/
END:VEVENT
BEGIN:VEVENT
DTSTART;TZID=Europe/London:20200114T031500
DTEND;TZID=Europe/London:20200114T041500
DTSTAMP:20260424T174449
CREATED:20200114T123241Z
LAST-MODIFIED:20200114T123241Z
UID:11813-1578971700-1578975300@www.southbersted.co.uk
SUMMARY:Outdoor Games Club (first session)
DESCRIPTION:
URL:https://www.southbersted.co.uk/calendar/outdoor-games-club-first-session-2/
END:VEVENT
BEGIN:VEVENT
DTSTART;TZID=Europe/London:20200113T151500
DTEND;TZID=Europe/London:20200113T161500
DTSTAMP:20260424T174449
CREATED:20200114T123028Z
LAST-MODIFIED:20200114T123028Z
UID:10492-1578928500-1578932100@www.southbersted.co.uk
SUMMARY:Netball Club (first session)
DESCRIPTION:
URL:https://www.southbersted.co.uk/calendar/netball-club-first-session-2/
END:VEVENT
BEGIN:VEVENT
DTSTART;TZID=Europe/London:20200113T151500
DTEND;TZID=Europe/London:20200113T161500
DTSTAMP:20260424T174449
CREATED:20200114T123028Z
LAST-MODIFIED:20200114T123028Z
UID:11811-1578928500-1578932100@www.southbersted.co.uk
SUMMARY:Netball Club (first session)
DESCRIPTION:
URL:https://www.southbersted.co.uk/calendar/netball-club-first-session-2-2/
END:VEVENT
BEGIN:VEVENT
DTSTART;TZID=Europe/London:20200113T151500
DTEND;TZID=Europe/London:20200113T161500
DTSTAMP:20260424T174449
CREATED:20200114T122957Z
LAST-MODIFIED:20200114T122957Z
UID:10489-1578928500-1578932100@www.southbersted.co.uk
SUMMARY:Dance House Club (first session)
DESCRIPTION:
URL:https://www.southbersted.co.uk/calendar/dance-house-club-first-session/
END:VEVENT
BEGIN:VEVENT
DTSTART;TZID=Europe/London:20200113T151500
DTEND;TZID=Europe/London:20200113T161500
DTSTAMP:20260424T174449
CREATED:20200114T122957Z
LAST-MODIFIED:20200114T122957Z
UID:11810-1578928500-1578932100@www.southbersted.co.uk
SUMMARY:Dance House Club (first session)
DESCRIPTION:
URL:https://www.southbersted.co.uk/calendar/dance-house-club-first-session-2/
END:VEVENT
BEGIN:VEVENT
DTSTART;TZID=Europe/London:20200110T100000
DTEND;TZID=Europe/London:20200110T120000
DTSTAMP:20260424T174449
CREATED:20200108T111000Z
LAST-MODIFIED:20200108T111000Z
UID:10477-1578650400-1578657600@www.southbersted.co.uk
SUMMARY:New Age Kurling Event
DESCRIPTION:Participating children will be walked to and from this event by South Bersted School staff.  Children should wear full PE kit for this event.
URL:https://www.southbersted.co.uk/calendar/new-age-kurling-event/
END:VEVENT
BEGIN:VEVENT
DTSTART;TZID=Europe/London:20200110T100000
DTEND;TZID=Europe/London:20200110T120000
DTSTAMP:20260424T174449
CREATED:20200108T111000Z
LAST-MODIFIED:20200108T111000Z
UID:11807-1578650400-1578657600@www.southbersted.co.uk
SUMMARY:New Age Kurling Event
DESCRIPTION:Participating children will be walked to and from this event by South Bersted School staff.  Children should wear full PE kit for this event.
URL:https://www.southbersted.co.uk/calendar/new-age-kurling-event-2/
END:VEVENT
BEGIN:VEVENT
DTSTART;TZID=Europe/London:20200110T090000
DTEND;TZID=Europe/London:20200110T094500
DTSTAMP:20260424T174449
CREATED:20200108T104031Z
LAST-MODIFIED:20200108T104031Z
UID:10467-1578646800-1578649500@www.southbersted.co.uk
SUMMARY:Church Service
DESCRIPTION:Parents and carers are invited to join us at the church for the service.
URL:https://www.southbersted.co.uk/calendar/church-service-12/
END:VEVENT
BEGIN:VEVENT
DTSTART;TZID=Europe/London:20200110T090000
DTEND;TZID=Europe/London:20200110T094500
DTSTAMP:20260424T174449
CREATED:20200108T104031Z
LAST-MODIFIED:20200108T104031Z
UID:11806-1578646800-1578649500@www.southbersted.co.uk
SUMMARY:Church Service
DESCRIPTION:Parents and carers are invited to join us at the church for the service.
URL:https://www.southbersted.co.uk/calendar/church-service-12-2/
END:VEVENT
BEGIN:VEVENT
DTSTART;TZID=Europe/London:20200109T130000
DTEND;TZID=Europe/London:20200109T150000
DTSTAMP:20260424T174449
CREATED:20200116T113513Z
LAST-MODIFIED:20200116T113513Z
UID:10533-1578574800-1578582000@www.southbersted.co.uk
SUMMARY:Year 6 Outdoor Learning
DESCRIPTION:Children should bring a change of clothes with them (old clothes\, warm coat\, trainers/wellies – suitable for wearing outside.  Clothes and shoes will get muddy and wet)
URL:https://www.southbersted.co.uk/calendar/year-6-outdoor-learning-2/
END:VEVENT
BEGIN:VEVENT
DTSTART;TZID=Europe/London:20200109T130000
DTEND;TZID=Europe/London:20200109T150000
DTSTAMP:20260424T174449
CREATED:20200116T113513Z
LAST-MODIFIED:20200116T113513Z
UID:11824-1578574800-1578582000@www.southbersted.co.uk
SUMMARY:Year 6 Outdoor Learning
DESCRIPTION:Children should bring a change of clothes with them (old clothes\, warm coat\, trainers/wellies – suitable for wearing outside.  Clothes and shoes will get muddy and wet)
URL:https://www.southbersted.co.uk/calendar/year-6-outdoor-learning-2-2/
END:VEVENT
BEGIN:VEVENT
DTSTART;TZID=Europe/London:20200107T085000
DTEND;TZID=Europe/London:20200107T085000
DTSTAMP:20260424T174449
CREATED:20190712T131047Z
LAST-MODIFIED:20190712T131047Z
UID:9462-1578387000-1578387000@www.southbersted.co.uk
SUMMARY:Start of Spring Term
DESCRIPTION:
URL:https://www.southbersted.co.uk/calendar/start-of-spring-term-2/
END:VEVENT
BEGIN:VEVENT
DTSTART;TZID=Europe/London:20200107T085000
DTEND;TZID=Europe/London:20200107T085000
DTSTAMP:20260424T174449
CREATED:20190712T131047Z
LAST-MODIFIED:20190712T131047Z
UID:11706-1578387000-1578387000@www.southbersted.co.uk
SUMMARY:Start of Spring Term
DESCRIPTION:
URL:https://www.southbersted.co.uk/calendar/start-of-spring-term-2-2/
END:VEVENT
BEGIN:VEVENT
DTSTART;VALUE=DATE:20200106
DTEND;VALUE=DATE:20200107
DTSTAMP:20260424T174449
CREATED:20190709T102102Z
LAST-MODIFIED:20190709T102102Z
UID:9440-1578268800-1578355199@www.southbersted.co.uk
SUMMARY:INSET DAY
DESCRIPTION:
URL:https://www.southbersted.co.uk/calendar/inset-day-7/
END:VEVENT
BEGIN:VEVENT
DTSTART;VALUE=DATE:20200106
DTEND;VALUE=DATE:20200107
DTSTAMP:20260424T174449
CREATED:20190709T102102Z
LAST-MODIFIED:20190709T102102Z
UID:11698-1578268800-1578355199@www.southbersted.co.uk
SUMMARY:INSET DAY
DESCRIPTION:
URL:https://www.southbersted.co.uk/calendar/inset-day-7-2/
END:VEVENT
BEGIN:VEVENT
DTSTART;VALUE=DATE:20191223
DTEND;VALUE=DATE:20200104
DTSTAMP:20260424T174449
CREATED:20190712T130931Z
LAST-MODIFIED:20190712T130931Z
UID:9460-1577059200-1578095999@www.southbersted.co.uk
SUMMARY:Christmas Holiday
DESCRIPTION:
URL:https://www.southbersted.co.uk/calendar/christmas-holiday-2/
END:VEVENT
BEGIN:VEVENT
DTSTART;VALUE=DATE:20191223
DTEND;VALUE=DATE:20200104
DTSTAMP:20260424T174449
CREATED:20190712T130931Z
LAST-MODIFIED:20190712T130931Z
UID:11705-1577059200-1578095999@www.southbersted.co.uk
SUMMARY:Christmas Holiday
DESCRIPTION:
URL:https://www.southbersted.co.uk/calendar/christmas-holiday-2-2/
END:VEVENT
BEGIN:VEVENT
DTSTART;TZID=Europe/London:20191220T120000
DTEND;TZID=Europe/London:20191220T130000
DTSTAMP:20260424T174449
CREATED:20190925T132817Z
LAST-MODIFIED:20190925T132817Z
UID:9785-1576843200-1576846800@www.southbersted.co.uk
SUMMARY:Chartwells Christmas Dinner
DESCRIPTION:Orders should be placed via Parentmail by 2nd December\, or www.mealselector.co.uk by 11.59pm on Sunday 8th December.  Please contact the school office if you are unsure whether a meal has been ordered for your child.
URL:https://www.southbersted.co.uk/calendar/chartwells-christmas-dinner/
END:VEVENT
BEGIN:VEVENT
DTSTART;TZID=Europe/London:20191220T120000
DTEND;TZID=Europe/London:20191220T130000
DTSTAMP:20260424T174449
CREATED:20190925T132817Z
LAST-MODIFIED:20190925T132817Z
UID:11727-1576843200-1576846800@www.southbersted.co.uk
SUMMARY:Chartwells Christmas Dinner
DESCRIPTION:Orders should be placed via Parentmail by 2nd December\, or www.mealselector.co.uk by 11.59pm on Sunday 8th December.  Please contact the school office if you are unsure whether a meal has been ordered for your child.
URL:https://www.southbersted.co.uk/calendar/chartwells-christmas-dinner-2/
END:VEVENT
BEGIN:VEVENT
DTSTART;TZID=Europe/London:20191220T090000
DTEND;TZID=Europe/London:20191220T094500
DTSTAMP:20260424T174449
CREATED:20191015T120115Z
LAST-MODIFIED:20191015T120115Z
UID:10010-1576832400-1576835100@www.southbersted.co.uk
SUMMARY:Church Service
DESCRIPTION:Parents and carers are invited to join us at the church at 9.00am for this end of term church service.
URL:https://www.southbersted.co.uk/calendar/church-service-9/
END:VEVENT
BEGIN:VEVENT
DTSTART;TZID=Europe/London:20191220T090000
DTEND;TZID=Europe/London:20191220T094500
DTSTAMP:20260424T174449
CREATED:20191015T120115Z
LAST-MODIFIED:20191015T120115Z
UID:11754-1576832400-1576835100@www.southbersted.co.uk
SUMMARY:Church Service
DESCRIPTION:Parents and carers are invited to join us at the church at 9.00am for this end of term church service.
URL:https://www.southbersted.co.uk/calendar/church-service-9-2/
END:VEVENT
BEGIN:VEVENT
DTSTART;VALUE=DATE:20191220
DTEND;VALUE=DATE:20191221
DTSTAMP:20260424T174449
CREATED:20190925T133054Z
LAST-MODIFIED:20190925T133054Z
UID:9788-1576800000-1576886399@www.southbersted.co.uk
SUMMARY:Christmas Jumper Day
DESCRIPTION:Children are invited to wear a Christmas jumper today in place of their school jumper. \nPlease note:  all other normal school uniform must be worn.  This is NOT a full non-uniform day.
URL:https://www.southbersted.co.uk/calendar/christmas-jumper-day/
END:VEVENT
BEGIN:VEVENT
DTSTART;VALUE=DATE:20191220
DTEND;VALUE=DATE:20191221
DTSTAMP:20260424T174449
CREATED:20190925T133054Z
LAST-MODIFIED:20190925T133054Z
UID:11728-1576800000-1576886399@www.southbersted.co.uk
SUMMARY:Christmas Jumper Day
DESCRIPTION:Children are invited to wear a Christmas jumper today in place of their school jumper. \nPlease note:  all other normal school uniform must be worn.  This is NOT a full non-uniform day.
URL:https://www.southbersted.co.uk/calendar/christmas-jumper-day-2/
END:VEVENT
BEGIN:VEVENT
DTSTART;TZID=Europe/London:20191219T151500
DTEND;TZID=Europe/London:20191219T154500
DTSTAMP:20260424T174449
CREATED:20191213T143018Z
LAST-MODIFIED:20191213T143018Z
UID:10412-1576768500-1576770300@www.southbersted.co.uk
SUMMARY:Creative Home Learning Exhibition
DESCRIPTION:The children’s creative home learning will be on display in the classrooms after school for you to view.  Please come and have a look at the wonderful creations.
URL:https://www.southbersted.co.uk/calendar/creative-home-learning-exhibition-5/
END:VEVENT
END:VCALENDAR