BEGIN:VCALENDAR
VERSION:2.0
PRODID:-//South Bersted Primary School - ECPv6.15.5//NONSGML v1.0//EN
CALSCALE:GREGORIAN
METHOD:PUBLISH
X-WR-CALNAME:South Bersted Primary School
X-ORIGINAL-URL:https://www.southbersted.co.uk
X-WR-CALDESC:Events for South Bersted Primary School
REFRESH-INTERVAL;VALUE=DURATION:PT1H
X-Robots-Tag:noindex
X-PUBLISHED-TTL:PT1H
BEGIN:VTIMEZONE
TZID:Europe/London
BEGIN:DAYLIGHT
TZOFFSETFROM:+0000
TZOFFSETTO:+0100
TZNAME:BST
DTSTART:20200329T010000
END:DAYLIGHT
BEGIN:STANDARD
TZOFFSETFROM:+0100
TZOFFSETTO:+0000
TZNAME:GMT
DTSTART:20201025T010000
END:STANDARD
END:VTIMEZONE
BEGIN:VEVENT
DTSTART;TZID=Europe/London:20200128T090000
DTEND;TZID=Europe/London:20200128T103000
DTSTAMP:20260424T150843
CREATED:20200122T115616Z
LAST-MODIFIED:20200122T115616Z
UID:11845-1580202000-1580207400@www.southbersted.co.uk
SUMMARY:Year 1 'Bikeability Balance' Training
DESCRIPTION:As all sessions will take place within the school grounds.   All equipment and helmets will be provided. \nChildren should wear their normal school uniform.  However\, as the training will take place outside we recommend all children bring a named pair of gloves and a hat.  All children must have a warm coat.
URL:https://www.southbersted.co.uk/calendar/year-1-bikeability-balance-training-2-2/
END:VEVENT
BEGIN:VEVENT
DTSTART;TZID=Europe/London:20200127T090000
DTEND;TZID=Europe/London:20200127T103000
DTSTAMP:20260424T150843
CREATED:20200122T115419Z
LAST-MODIFIED:20200122T115419Z
UID:10613-1580115600-1580121000@www.southbersted.co.uk
SUMMARY:Year 1 'Bikeability Balance' training
DESCRIPTION:As all sessions will take place within the school grounds.   All equipment and helmets will be provided. \nChildren should wear their normal school uniform.  However\, as the training will take place outside we recommend all children bring a named pair of gloves and a hat.  All children must have a warm coat.
URL:https://www.southbersted.co.uk/calendar/year-1-bikeability-balance-training/
END:VEVENT
BEGIN:VEVENT
DTSTART;TZID=Europe/London:20200127T090000
DTEND;TZID=Europe/London:20200127T103000
DTSTAMP:20260424T150843
CREATED:20200122T115419Z
LAST-MODIFIED:20200122T115419Z
UID:11844-1580115600-1580121000@www.southbersted.co.uk
SUMMARY:Year 1 'Bikeability Balance' training
DESCRIPTION:As all sessions will take place within the school grounds.   All equipment and helmets will be provided. \nChildren should wear their normal school uniform.  However\, as the training will take place outside we recommend all children bring a named pair of gloves and a hat.  All children must have a warm coat.
URL:https://www.southbersted.co.uk/calendar/year-1-bikeability-balance-training-5/
END:VEVENT
BEGIN:VEVENT
DTSTART;TZID=Europe/London:20200124T090000
DTEND;TZID=Europe/London:20200124T093000
DTSTAMP:20260424T150843
CREATED:20200224T105438Z
LAST-MODIFIED:20200224T105438Z
UID:10797-1579856400-1579858200@www.southbersted.co.uk
SUMMARY:Year 5 Class Collective Worship
DESCRIPTION:Year 5 parents and carers are invited to join us for Collective Worship at 9.00am
URL:https://www.southbersted.co.uk/calendar/year-5-class-collective-worship-3/
END:VEVENT
BEGIN:VEVENT
DTSTART;TZID=Europe/London:20200124T090000
DTEND;TZID=Europe/London:20200124T093000
DTSTAMP:20260424T150843
CREATED:20200224T105438Z
LAST-MODIFIED:20200224T105438Z
UID:11877-1579856400-1579858200@www.southbersted.co.uk
SUMMARY:Year 5 Class Collective Worship
DESCRIPTION:Year 5 parents and carers are invited to join us for Collective Worship at 9.00am
URL:https://www.southbersted.co.uk/calendar/year-5-class-collective-worship-3-2/
END:VEVENT
BEGIN:VEVENT
DTSTART;TZID=Europe/London:20200123T130000
DTEND;TZID=Europe/London:20200123T150000
DTSTAMP:20260424T150843
CREATED:20200116T113855Z
LAST-MODIFIED:20200116T113855Z
UID:10544-1579784400-1579791600@www.southbersted.co.uk
SUMMARY:Year 4 Outdoor Learning
DESCRIPTION:Children should bring a change of clothes with them (old clothes\, warm coat\, trainers/wellies – suitable for wearing outside.  Clothes and shoes will get muddy and wet)
URL:https://www.southbersted.co.uk/calendar/year-4-outdoor-learning-2/
END:VEVENT
BEGIN:VEVENT
DTSTART;TZID=Europe/London:20200123T130000
DTEND;TZID=Europe/London:20200123T150000
DTSTAMP:20260424T150843
CREATED:20200116T113855Z
LAST-MODIFIED:20200116T113855Z
UID:11828-1579784400-1579791600@www.southbersted.co.uk
SUMMARY:Year 4 Outdoor Learning
DESCRIPTION:Children should bring a change of clothes with them (old clothes\, warm coat\, trainers/wellies – suitable for wearing outside.  Clothes and shoes will get muddy and wet)
URL:https://www.southbersted.co.uk/calendar/year-4-outdoor-learning-2-2/
END:VEVENT
BEGIN:VEVENT
DTSTART;TZID=Europe/London:20200123T092000
DTEND;TZID=Europe/London:20200123T150000
DTSTAMP:20260424T150843
CREATED:20200114T122907Z
LAST-MODIFIED:20200114T122907Z
UID:10486-1579771200-1579791600@www.southbersted.co.uk
SUMMARY:Able Writers Event at Portfield Primary Academy
DESCRIPTION:Participating children should be transported to and from the event by parent/carers.\nPacked lunch is required and full uniform should be worn.
URL:https://www.southbersted.co.uk/calendar/able-writers-event-at-portfield-primary-academy/
END:VEVENT
BEGIN:VEVENT
DTSTART;TZID=Europe/London:20200123T092000
DTEND;TZID=Europe/London:20200123T150000
DTSTAMP:20260424T150843
CREATED:20200114T122907Z
LAST-MODIFIED:20200114T122907Z
UID:11809-1579771200-1579791600@www.southbersted.co.uk
SUMMARY:Able Writers Event at Portfield Primary Academy
DESCRIPTION:Participating children should be transported to and from the event by parent/carers.\nPacked lunch is required and full uniform should be worn.
URL:https://www.southbersted.co.uk/calendar/able-writers-event-at-portfield-primary-academy-2/
END:VEVENT
BEGIN:VEVENT
DTSTART;TZID=Europe/London:20200121T170000
DTEND;TZID=Europe/London:20200121T190000
DTSTAMP:20260424T150843
CREATED:20191015T120145Z
LAST-MODIFIED:20191015T120145Z
UID:10013-1579626000-1579633200@www.southbersted.co.uk
SUMMARY:Governors Monthly Meeting
DESCRIPTION:
URL:https://www.southbersted.co.uk/calendar/governors-monthly-meeting-9/
END:VEVENT
BEGIN:VEVENT
DTSTART;TZID=Europe/London:20200121T170000
DTEND;TZID=Europe/London:20200121T190000
DTSTAMP:20260424T150843
CREATED:20191015T120145Z
LAST-MODIFIED:20191015T120145Z
UID:11755-1579626000-1579633200@www.southbersted.co.uk
SUMMARY:Governors Monthly Meeting
DESCRIPTION:
URL:https://www.southbersted.co.uk/calendar/governors-monthly-meeting-9-2/
END:VEVENT
BEGIN:VEVENT
DTSTART;TZID=Europe/London:20200121T130000
DTEND;TZID=Europe/London:20200121T150000
DTSTAMP:20260424T150843
CREATED:20200117T152650Z
LAST-MODIFIED:20200117T152650Z
UID:10575-1579611600-1579618800@www.southbersted.co.uk
SUMMARY:Future Flyers (Session 1)
DESCRIPTION:Participating children should be transported to and from the event by parents/carers.  Children should be collected from school at 12.45pm.  PE kit is required\, a FF t-shirt will be provided at the first session.
URL:https://www.southbersted.co.uk/calendar/future-flyers-session-1/
END:VEVENT
BEGIN:VEVENT
DTSTART;TZID=Europe/London:20200121T130000
DTEND;TZID=Europe/London:20200121T150000
DTSTAMP:20260424T150843
CREATED:20200117T152650Z
LAST-MODIFIED:20200117T152650Z
UID:11839-1579611600-1579618800@www.southbersted.co.uk
SUMMARY:Future Flyers (Session 1)
DESCRIPTION:Participating children should be transported to and from the event by parents/carers.  Children should be collected from school at 12.45pm.  PE kit is required\, a FF t-shirt will be provided at the first session.
URL:https://www.southbersted.co.uk/calendar/future-flyers-session-1-2/
END:VEVENT
BEGIN:VEVENT
DTSTART;TZID=Europe/London:20200118T110000
DTEND;TZID=Europe/London:20200118T120000
DTSTAMP:20260424T150843
CREATED:20200108T121042Z
LAST-MODIFIED:20200108T121042Z
UID:10483-1579345200-1579348800@www.southbersted.co.uk
SUMMARY:Richard Hotham Memorial Service
DESCRIPTION:Junior Governors are invited to attend this short service to commemorate the the date in 1787 on which it is believed that Sir Richard Hotham laid the foundation stone\, marking the beginning of Bognor Regis as a seaside resort. \nParents/Carers must accompany children throughout the event.  Full school uniform is required
URL:https://www.southbersted.co.uk/calendar/richard-hotham-memorial-service/
END:VEVENT
BEGIN:VEVENT
DTSTART;TZID=Europe/London:20200118T110000
DTEND;TZID=Europe/London:20200118T120000
DTSTAMP:20260424T150843
CREATED:20200108T121042Z
LAST-MODIFIED:20200108T121042Z
UID:11808-1579345200-1579348800@www.southbersted.co.uk
SUMMARY:Richard Hotham Memorial Service
DESCRIPTION:Junior Governors are invited to attend this short service to commemorate the the date in 1787 on which it is believed that Sir Richard Hotham laid the foundation stone\, marking the beginning of Bognor Regis as a seaside resort. \nParents/Carers must accompany children throughout the event.  Full school uniform is required
URL:https://www.southbersted.co.uk/calendar/richard-hotham-memorial-service-2/
END:VEVENT
BEGIN:VEVENT
DTSTART;TZID=Europe/London:20200116T151500
DTEND;TZID=Europe/London:20200116T161500
DTSTAMP:20260424T150843
CREATED:20200114T123610Z
LAST-MODIFIED:20200114T123610Z
UID:10504-1579187700-1579191300@www.southbersted.co.uk
SUMMARY:Year 5 and 6 Football Club (first session)
DESCRIPTION:
URL:https://www.southbersted.co.uk/calendar/year-5-and-6-football-club-first-session/
END:VEVENT
BEGIN:VEVENT
DTSTART;TZID=Europe/London:20200116T151500
DTEND;TZID=Europe/London:20200116T161500
DTSTAMP:20260424T150843
CREATED:20200114T123610Z
LAST-MODIFIED:20200114T123610Z
UID:11817-1579187700-1579191300@www.southbersted.co.uk
SUMMARY:Year 5 and 6 Football Club (first session)
DESCRIPTION:
URL:https://www.southbersted.co.uk/calendar/year-5-and-6-football-club-first-session-2/
END:VEVENT
BEGIN:VEVENT
DTSTART;TZID=Europe/London:20200116T151500
DTEND;TZID=Europe/London:20200116T161500
DTSTAMP:20260424T150843
CREATED:20200114T123441Z
LAST-MODIFIED:20200114T123441Z
UID:10500-1579187700-1579191300@www.southbersted.co.uk
SUMMARY:Lego Club (Group 1) first session
DESCRIPTION:
URL:https://www.southbersted.co.uk/calendar/lego-club-group-1-first-session/
END:VEVENT
BEGIN:VEVENT
DTSTART;TZID=Europe/London:20200116T151500
DTEND;TZID=Europe/London:20200116T161500
DTSTAMP:20260424T150843
CREATED:20200114T123441Z
LAST-MODIFIED:20200114T123441Z
UID:11815-1579187700-1579191300@www.southbersted.co.uk
SUMMARY:Lego Club (Group 1) first session
DESCRIPTION:
URL:https://www.southbersted.co.uk/calendar/lego-club-group-1-first-session-2/
END:VEVENT
BEGIN:VEVENT
DTSTART;TZID=Europe/London:20200116T130000
DTEND;TZID=Europe/London:20200116T150000
DTSTAMP:20260424T150843
CREATED:20200116T113737Z
LAST-MODIFIED:20200116T113737Z
UID:10538-1579179600-1579186800@www.southbersted.co.uk
SUMMARY:Year 5 Outdoor Learning
DESCRIPTION:Children should bring a change of clothes with them (old clothes\, warm coat\, trainers/wellies – suitable for wearing outside.  Clothes and shoes will get muddy and wet)
URL:https://www.southbersted.co.uk/calendar/year-5-outdoor-learning-2/
END:VEVENT
BEGIN:VEVENT
DTSTART;TZID=Europe/London:20200116T130000
DTEND;TZID=Europe/London:20200116T150000
DTSTAMP:20260424T150843
CREATED:20200116T113737Z
LAST-MODIFIED:20200116T113737Z
UID:11826-1579179600-1579186800@www.southbersted.co.uk
SUMMARY:Year 5 Outdoor Learning
DESCRIPTION:Children should bring a change of clothes with them (old clothes\, warm coat\, trainers/wellies – suitable for wearing outside.  Clothes and shoes will get muddy and wet)
URL:https://www.southbersted.co.uk/calendar/year-5-outdoor-learning-2-2/
END:VEVENT
BEGIN:VEVENT
DTSTART;TZID=Europe/London:20200116T123000
DTEND;TZID=Europe/London:20200116T130000
DTSTAMP:20260424T150843
CREATED:20200114T123733Z
LAST-MODIFIED:20200114T123733Z
UID:10507-1579177800-1579179600@www.southbersted.co.uk
SUMMARY:Lunchtime Drawing Skills Club (first session)
DESCRIPTION:
URL:https://www.southbersted.co.uk/calendar/lunchtime-drawing-skills-club-first-session/
END:VEVENT
BEGIN:VEVENT
DTSTART;TZID=Europe/London:20200116T123000
DTEND;TZID=Europe/London:20200116T130000
DTSTAMP:20260424T150843
CREATED:20200114T123733Z
LAST-MODIFIED:20200114T123733Z
UID:11818-1579177800-1579179600@www.southbersted.co.uk
SUMMARY:Lunchtime Drawing Skills Club (first session)
DESCRIPTION:
URL:https://www.southbersted.co.uk/calendar/lunchtime-drawing-skills-club-first-session-2/
END:VEVENT
BEGIN:VEVENT
DTSTART;TZID=Europe/London:20200114T154500
DTEND;TZID=Europe/London:20200114T173000
DTSTAMP:20260424T150843
CREATED:20200108T103911Z
LAST-MODIFIED:20200108T103911Z
UID:10464-1579016700-1579023000@www.southbersted.co.uk
SUMMARY:FAB Football/Netball Fixture - CANCELLED
DESCRIPTION:*** THIS EVENT HAS BEEN CANCELLED DUE TO WEATHER *** \n 
URL:https://www.southbersted.co.uk/calendar/fab-football-netball-fixture/
END:VEVENT
BEGIN:VEVENT
DTSTART;TZID=Europe/London:20200114T154500
DTEND;TZID=Europe/London:20200114T173000
DTSTAMP:20260424T150843
CREATED:20200108T103911Z
LAST-MODIFIED:20200108T103911Z
UID:11805-1579016700-1579023000@www.southbersted.co.uk
SUMMARY:FAB Football/Netball Fixture - CANCELLED
DESCRIPTION:*** THIS EVENT HAS BEEN CANCELLED DUE TO WEATHER *** \n 
URL:https://www.southbersted.co.uk/calendar/fab-football-netball-fixture-2/
END:VEVENT
BEGIN:VEVENT
DTSTART;TZID=Europe/London:20200114T031500
DTEND;TZID=Europe/London:20200114T041500
DTSTAMP:20260424T150843
CREATED:20200114T123241Z
LAST-MODIFIED:20200114T123241Z
UID:10496-1578971700-1578975300@www.southbersted.co.uk
SUMMARY:Outdoor Games Club (first session)
DESCRIPTION:
URL:https://www.southbersted.co.uk/calendar/outdoor-games-club-first-session/
END:VEVENT
BEGIN:VEVENT
DTSTART;TZID=Europe/London:20200114T031500
DTEND;TZID=Europe/London:20200114T041500
DTSTAMP:20260424T150843
CREATED:20200114T123241Z
LAST-MODIFIED:20200114T123241Z
UID:11813-1578971700-1578975300@www.southbersted.co.uk
SUMMARY:Outdoor Games Club (first session)
DESCRIPTION:
URL:https://www.southbersted.co.uk/calendar/outdoor-games-club-first-session-2/
END:VEVENT
BEGIN:VEVENT
DTSTART;TZID=Europe/London:20200113T151500
DTEND;TZID=Europe/London:20200113T161500
DTSTAMP:20260424T150843
CREATED:20200114T123028Z
LAST-MODIFIED:20200114T123028Z
UID:10492-1578928500-1578932100@www.southbersted.co.uk
SUMMARY:Netball Club (first session)
DESCRIPTION:
URL:https://www.southbersted.co.uk/calendar/netball-club-first-session-2/
END:VEVENT
BEGIN:VEVENT
DTSTART;TZID=Europe/London:20200113T151500
DTEND;TZID=Europe/London:20200113T161500
DTSTAMP:20260424T150843
CREATED:20200114T123028Z
LAST-MODIFIED:20200114T123028Z
UID:11811-1578928500-1578932100@www.southbersted.co.uk
SUMMARY:Netball Club (first session)
DESCRIPTION:
URL:https://www.southbersted.co.uk/calendar/netball-club-first-session-2-2/
END:VEVENT
BEGIN:VEVENT
DTSTART;TZID=Europe/London:20200113T151500
DTEND;TZID=Europe/London:20200113T161500
DTSTAMP:20260424T150843
CREATED:20200114T122957Z
LAST-MODIFIED:20200114T122957Z
UID:10489-1578928500-1578932100@www.southbersted.co.uk
SUMMARY:Dance House Club (first session)
DESCRIPTION:
URL:https://www.southbersted.co.uk/calendar/dance-house-club-first-session/
END:VEVENT
END:VCALENDAR