BEGIN:VCALENDAR
VERSION:2.0
PRODID:-//South Bersted Primary School - ECPv6.15.5//NONSGML v1.0//EN
CALSCALE:GREGORIAN
METHOD:PUBLISH
X-ORIGINAL-URL:https://www.southbersted.co.uk
X-WR-CALDESC:Events for South Bersted Primary School
REFRESH-INTERVAL;VALUE=DURATION:PT1H
X-Robots-Tag:noindex
X-PUBLISHED-TTL:PT1H
BEGIN:VTIMEZONE
TZID:Europe/London
BEGIN:DAYLIGHT
TZOFFSETFROM:+0000
TZOFFSETTO:+0100
TZNAME:BST
DTSTART:20200329T010000
END:DAYLIGHT
BEGIN:STANDARD
TZOFFSETFROM:+0100
TZOFFSETTO:+0000
TZNAME:GMT
DTSTART:20201025T010000
END:STANDARD
END:VTIMEZONE
BEGIN:VEVENT
DTSTART;TZID=Europe/London:20200211T154500
DTEND;TZID=Europe/London:20200211T173000
DTSTAMP:20260425T152621
CREATED:20200122T125956Z
LAST-MODIFIED:20200122T125956Z
UID:10623-1581435900-1581442200@www.southbersted.co.uk
SUMMARY:FAB Football and Netball Fixtures
DESCRIPTION:Participating children should be transported to and from the event by parents/carers.  PE kit is required.
URL:https://www.southbersted.co.uk/calendar/fab-football-and-netball-fixtures/
END:VEVENT
BEGIN:VEVENT
DTSTART;TZID=Europe/London:20200211T154500
DTEND;TZID=Europe/London:20200211T173000
DTSTAMP:20260425T152621
CREATED:20200122T125956Z
LAST-MODIFIED:20200122T125956Z
UID:11848-1581435900-1581442200@www.southbersted.co.uk
SUMMARY:FAB Football and Netball Fixtures
DESCRIPTION:Participating children should be transported to and from the event by parents/carers.  PE kit is required.
URL:https://www.southbersted.co.uk/calendar/fab-football-and-netball-fixtures-2/
END:VEVENT
BEGIN:VEVENT
DTSTART;VALUE=DATE:20200211
DTEND;VALUE=DATE:20200212
DTSTAMP:20260425T152621
CREATED:20191015T120652Z
LAST-MODIFIED:20191015T120652Z
UID:10023-1581379200-1581465599@www.southbersted.co.uk
SUMMARY:Safer Internet Day
DESCRIPTION:
URL:https://www.southbersted.co.uk/calendar/safer-internet-day-3/
END:VEVENT
BEGIN:VEVENT
DTSTART;VALUE=DATE:20200211
DTEND;VALUE=DATE:20200212
DTSTAMP:20260425T152621
CREATED:20191015T120652Z
LAST-MODIFIED:20191015T120652Z
UID:11759-1581379200-1581465599@www.southbersted.co.uk
SUMMARY:Safer Internet Day
DESCRIPTION:
URL:https://www.southbersted.co.uk/calendar/safer-internet-day-3-2/
END:VEVENT
BEGIN:VEVENT
DTSTART;TZID=Europe/London:20200210T080000
DTEND;TZID=Europe/London:20200210T170000
DTSTAMP:20260425T152621
CREATED:20200107T210928Z
LAST-MODIFIED:20200111T152202Z
UID:57-1581321600-1581354000@www.southbersted.co.uk
SUMMARY:Test Event
DESCRIPTION:This is a test event.
URL:https://www.southbersted.co.uk/calendar/test-event/
END:VEVENT
BEGIN:VEVENT
DTSTART;VALUE=DATE:20200210
DTEND;VALUE=DATE:20200215
DTSTAMP:20260425T152621
CREATED:20191015T120323Z
LAST-MODIFIED:20191015T120323Z
UID:10018-1581292800-1581724799@www.southbersted.co.uk
SUMMARY:Safer Internet Week
DESCRIPTION:
URL:https://www.southbersted.co.uk/calendar/safer-internet-week-2/
END:VEVENT
BEGIN:VEVENT
DTSTART;VALUE=DATE:20200210
DTEND;VALUE=DATE:20200215
DTSTAMP:20260425T152621
CREATED:20191015T120323Z
LAST-MODIFIED:20191015T120323Z
UID:11757-1581292800-1581724799@www.southbersted.co.uk
SUMMARY:Safer Internet Week
DESCRIPTION:
URL:https://www.southbersted.co.uk/calendar/safer-internet-week-2-2/
END:VEVENT
BEGIN:VEVENT
DTSTART;TZID=Europe/London:20200209T080000
DTEND;TZID=Europe/London:20200209T170000
DTSTAMP:20260425T152621
CREATED:20200107T211423Z
LAST-MODIFIED:20200111T152429Z
UID:62-1581235200-1581267600@www.southbersted.co.uk
SUMMARY:Another Event
DESCRIPTION:
URL:https://www.southbersted.co.uk/calendar/another-event/
END:VEVENT
BEGIN:VEVENT
DTSTART;TZID=Europe/London:20200208T080000
DTEND;TZID=Europe/London:20200208T170000
DTSTAMP:20260425T152621
CREATED:20200107T211400Z
LAST-MODIFIED:20200111T152503Z
UID:60-1581148800-1581181200@www.southbersted.co.uk
SUMMARY:Governors Monthly Meeting
DESCRIPTION:
URL:https://www.southbersted.co.uk/calendar/governors-monthly-meeting/
END:VEVENT
BEGIN:VEVENT
DTSTART;TZID=Europe/London:20200207T151500
DTEND;TZID=Europe/London:20200207T170000
DTSTAMP:20260425T152621
CREATED:20200205T113816Z
LAST-MODIFIED:20200205T113816Z
UID:10710-1581088500-1581094800@www.southbersted.co.uk
SUMMARY:Disco (Friendship Ball)
DESCRIPTION:Children should be collected at 5.00pm from the hall
URL:https://www.southbersted.co.uk/calendar/disco-friendship-ball/
END:VEVENT
BEGIN:VEVENT
DTSTART;TZID=Europe/London:20200207T151500
DTEND;TZID=Europe/London:20200207T170000
DTSTAMP:20260425T152621
CREATED:20200205T113816Z
LAST-MODIFIED:20200205T113816Z
UID:11856-1581088500-1581094800@www.southbersted.co.uk
SUMMARY:Disco (Friendship Ball)
DESCRIPTION:Children should be collected at 5.00pm from the hall
URL:https://www.southbersted.co.uk/calendar/disco-friendship-ball-2/
END:VEVENT
BEGIN:VEVENT
DTSTART;TZID=Europe/London:20200207T110000
DTEND;TZID=Europe/London:20200207T120000
DTSTAMP:20260425T152621
CREATED:20200205T113642Z
LAST-MODIFIED:20200205T113642Z
UID:10707-1581073200-1581076800@www.southbersted.co.uk
SUMMARY:Nick Gibb MP visiting (Be Internet Legends assembly)
DESCRIPTION:‘Be Internet Legends’ assembly – this is a free educational programme developed by Google and the experts in digital family life\, Parent Zone\, with the aim to help primary school children become safe and confident explorers of the online world.
URL:https://www.southbersted.co.uk/calendar/nick-gibb-mp-visiting-be-internet-legends-assembly/
END:VEVENT
BEGIN:VEVENT
DTSTART;TZID=Europe/London:20200207T110000
DTEND;TZID=Europe/London:20200207T120000
DTSTAMP:20260425T152621
CREATED:20200205T113642Z
LAST-MODIFIED:20200205T113642Z
UID:11855-1581073200-1581076800@www.southbersted.co.uk
SUMMARY:Nick Gibb MP visiting (Be Internet Legends assembly)
DESCRIPTION:‘Be Internet Legends’ assembly – this is a free educational programme developed by Google and the experts in digital family life\, Parent Zone\, with the aim to help primary school children become safe and confident explorers of the online world.
URL:https://www.southbersted.co.uk/calendar/nick-gibb-mp-visiting-be-internet-legends-assembly-2/
END:VEVENT
BEGIN:VEVENT
DTSTART;TZID=Europe/London:20200207T093000
DTEND;TZID=Europe/London:20200207T110000
DTSTAMP:20260425T152621
CREATED:20200128T130937Z
LAST-MODIFIED:20200128T130937Z
UID:10650-1581067800-1581073200@www.southbersted.co.uk
SUMMARY:EYFS Bus Trip
DESCRIPTION:A group of 6 children per day will take a short trip on the bus around the Bognor area\, accompanied by staff and parent helpers.
URL:https://www.southbersted.co.uk/calendar/eyfs-bus-trip-2020-02-07/
END:VEVENT
BEGIN:VEVENT
DTSTART;TZID=Europe/London:20200207T093000
DTEND;TZID=Europe/London:20200207T110000
DTSTAMP:20260425T152621
CREATED:20200128T130937Z
LAST-MODIFIED:20200128T130937Z
UID:11853-1581067800-1581073200@www.southbersted.co.uk
SUMMARY:EYFS Bus Trip
DESCRIPTION:A group of 6 children per day will take a short trip on the bus around the Bognor area\, accompanied by staff and parent helpers.
URL:https://www.southbersted.co.uk/calendar/eyfs-bus-trip-2020-02-07-2/
END:VEVENT
BEGIN:VEVENT
DTSTART;VALUE=DATE:20200207
DTEND;VALUE=DATE:20200208
DTSTAMP:20260425T152621
CREATED:20200205T113517Z
LAST-MODIFIED:20200205T113517Z
UID:10704-1581033600-1581119999@www.southbersted.co.uk
SUMMARY:Non-Uniform Day
DESCRIPTION:Children may wear their own clothes to school.  Donations towards our charity of the year\, The Chestnut Tree House Children’s Hospice\, are welcomed (suggestion £1)
URL:https://www.southbersted.co.uk/calendar/non-uniform-day-6/
END:VEVENT
BEGIN:VEVENT
DTSTART;VALUE=DATE:20200207
DTEND;VALUE=DATE:20200208
DTSTAMP:20260425T152621
CREATED:20200205T113517Z
LAST-MODIFIED:20200205T113517Z
UID:11854-1581033600-1581119999@www.southbersted.co.uk
SUMMARY:Non-Uniform Day
DESCRIPTION:Children may wear their own clothes to school.  Donations towards our charity of the year\, The Chestnut Tree House Children’s Hospice\, are welcomed (suggestion £1)
URL:https://www.southbersted.co.uk/calendar/non-uniform-day-6-2/
END:VEVENT
BEGIN:VEVENT
DTSTART;TZID=Europe/London:20200206T130000
DTEND;TZID=Europe/London:20200206T150000
DTSTAMP:20260425T152621
CREATED:20200116T114806Z
LAST-MODIFIED:20200116T114806Z
UID:10554-1580994000-1581001200@www.southbersted.co.uk
SUMMARY:Year 2 Outdoor Learning
DESCRIPTION:Children should bring a change of clothes with them (old clothes\, warm coat\, trainers/wellies – suitable for wearing outside.  Clothes and shoes will get muddy and wet)
URL:https://www.southbersted.co.uk/calendar/year-2-outdoor-learning-2/
END:VEVENT
BEGIN:VEVENT
DTSTART;TZID=Europe/London:20200206T130000
DTEND;TZID=Europe/London:20200206T150000
DTSTAMP:20260425T152621
CREATED:20200116T114806Z
LAST-MODIFIED:20200116T114806Z
UID:11832-1580994000-1581001200@www.southbersted.co.uk
SUMMARY:Year 2 Outdoor Learning
DESCRIPTION:Children should bring a change of clothes with them (old clothes\, warm coat\, trainers/wellies – suitable for wearing outside.  Clothes and shoes will get muddy and wet)
URL:https://www.southbersted.co.uk/calendar/year-2-outdoor-learning-2-2/
END:VEVENT
BEGIN:VEVENT
DTSTART;TZID=Europe/London:20200206T093000
DTEND;TZID=Europe/London:20200206T110000
DTSTAMP:20260425T152621
CREATED:20200128T130937Z
LAST-MODIFIED:20200128T130937Z
UID:10649-1580981400-1580986800@www.southbersted.co.uk
SUMMARY:EYFS Bus Trip
DESCRIPTION:A group of 6 children per day will take a short trip on the bus around the Bognor area\, accompanied by staff and parent helpers.
URL:https://www.southbersted.co.uk/calendar/eyfs-bus-trip-2020-02-06/
END:VEVENT
BEGIN:VEVENT
DTSTART;TZID=Europe/London:20200206T093000
DTEND;TZID=Europe/London:20200206T110000
DTSTAMP:20260425T152621
CREATED:20200128T130937Z
LAST-MODIFIED:20200128T130937Z
UID:11852-1580981400-1580986800@www.southbersted.co.uk
SUMMARY:EYFS Bus Trip
DESCRIPTION:A group of 6 children per day will take a short trip on the bus around the Bognor area\, accompanied by staff and parent helpers.
URL:https://www.southbersted.co.uk/calendar/eyfs-bus-trip-2020-02-06-2/
END:VEVENT
BEGIN:VEVENT
DTSTART;TZID=Europe/London:20200206T090000
DTEND;TZID=Europe/London:20200206T150000
DTSTAMP:20260425T152621
CREATED:20191209T115236Z
LAST-MODIFIED:20191209T115236Z
UID:10355-1580979600-1581001200@www.southbersted.co.uk
SUMMARY:Year 3 visiting Fishbourne Roman Palace
DESCRIPTION:The children will take part in a Roman Activity Workshop\, to learn more about what the people of Fishbourne did 2000 years ago and how archaeologists learn about the past.
URL:https://www.southbersted.co.uk/calendar/year-3-visiting-fishbourne-roman-palace-3/
END:VEVENT
BEGIN:VEVENT
DTSTART;TZID=Europe/London:20200206T090000
DTEND;TZID=Europe/London:20200206T150000
DTSTAMP:20260425T152621
CREATED:20191209T115236Z
LAST-MODIFIED:20191209T115236Z
UID:11796-1580979600-1581001200@www.southbersted.co.uk
SUMMARY:Year 3 visiting Fishbourne Roman Palace
DESCRIPTION:The children will take part in a Roman Activity Workshop\, to learn more about what the people of Fishbourne did 2000 years ago and how archaeologists learn about the past.
URL:https://www.southbersted.co.uk/calendar/year-3-visiting-fishbourne-roman-palace-3-2/
END:VEVENT
BEGIN:VEVENT
DTSTART;TZID=Europe/London:20200205T093000
DTEND;TZID=Europe/London:20200205T110000
DTSTAMP:20260425T152621
CREATED:20200128T130937Z
LAST-MODIFIED:20200128T130937Z
UID:10648-1580895000-1580900400@www.southbersted.co.uk
SUMMARY:EYFS Bus Trip
DESCRIPTION:A group of 6 children per day will take a short trip on the bus around the Bognor area\, accompanied by staff and parent helpers.
URL:https://www.southbersted.co.uk/calendar/eyfs-bus-trip-2020-02-05/
END:VEVENT
BEGIN:VEVENT
DTSTART;TZID=Europe/London:20200205T093000
DTEND;TZID=Europe/London:20200205T110000
DTSTAMP:20260425T152621
CREATED:20200128T130937Z
LAST-MODIFIED:20200128T130937Z
UID:11851-1580895000-1580900400@www.southbersted.co.uk
SUMMARY:EYFS Bus Trip
DESCRIPTION:A group of 6 children per day will take a short trip on the bus around the Bognor area\, accompanied by staff and parent helpers.
URL:https://www.southbersted.co.uk/calendar/eyfs-bus-trip-2020-02-05-2/
END:VEVENT
BEGIN:VEVENT
DTSTART;TZID=Europe/London:20200204T093000
DTEND;TZID=Europe/London:20200204T110000
DTSTAMP:20260425T152621
CREATED:20200128T130937Z
LAST-MODIFIED:20200128T130937Z
UID:10647-1580808600-1580814000@www.southbersted.co.uk
SUMMARY:EYFS Bus Trip
DESCRIPTION:A group of 6 children per day will take a short trip on the bus around the Bognor area\, accompanied by staff and parent helpers.
URL:https://www.southbersted.co.uk/calendar/eyfs-bus-trip-2020-02-04/
END:VEVENT
BEGIN:VEVENT
DTSTART;TZID=Europe/London:20200204T093000
DTEND;TZID=Europe/London:20200204T110000
DTSTAMP:20260425T152621
CREATED:20200128T130937Z
LAST-MODIFIED:20200128T130937Z
UID:11850-1580808600-1580814000@www.southbersted.co.uk
SUMMARY:EYFS Bus Trip
DESCRIPTION:A group of 6 children per day will take a short trip on the bus around the Bognor area\, accompanied by staff and parent helpers.
URL:https://www.southbersted.co.uk/calendar/eyfs-bus-trip-2020-02-04-2/
END:VEVENT
BEGIN:VEVENT
DTSTART;TZID=Europe/London:20200203T093000
DTEND;TZID=Europe/London:20200203T110000
DTSTAMP:20260425T152621
CREATED:20200128T130937Z
LAST-MODIFIED:20200128T130937Z
UID:10645-1580722200-1580727600@www.southbersted.co.uk
SUMMARY:EYFS Bus Trip
DESCRIPTION:A group of 6 children per day will take a short trip on the bus around the Bognor area\, accompanied by staff and parent helpers.
URL:https://www.southbersted.co.uk/calendar/eyfs-bus-trip/
END:VEVENT
BEGIN:VEVENT
DTSTART;TZID=Europe/London:20200203T093000
DTEND;TZID=Europe/London:20200203T110000
DTSTAMP:20260425T152621
CREATED:20200128T130937Z
LAST-MODIFIED:20200128T130937Z
UID:11849-1580722200-1580727600@www.southbersted.co.uk
SUMMARY:EYFS Bus Trip
DESCRIPTION:A group of 6 children per day will take a short trip on the bus around the Bognor area\, accompanied by staff and parent helpers.
URL:https://www.southbersted.co.uk/calendar/eyfs-bus-trip-2/
END:VEVENT
BEGIN:VEVENT
DTSTART;TZID=Europe/London:20200131T090000
DTEND;TZID=Europe/London:20200131T093000
DTSTAMP:20260425T152621
CREATED:20200224T104607Z
LAST-MODIFIED:20200224T104607Z
UID:10782-1580461200-1580463000@www.southbersted.co.uk
SUMMARY:Year 6 Class Collective Worship
DESCRIPTION:Year 6 parents and carers are invited to join us for Collective Worship at 9.00am.
URL:https://www.southbersted.co.uk/calendar/year-6-class-collective-worship-2/
END:VEVENT
END:VCALENDAR