BEGIN:VCALENDAR
VERSION:2.0
PRODID:-//South Bersted Primary School - ECPv6.15.5//NONSGML v1.0//EN
CALSCALE:GREGORIAN
METHOD:PUBLISH
X-WR-CALNAME:South Bersted Primary School
X-ORIGINAL-URL:https://www.southbersted.co.uk
X-WR-CALDESC:Events for South Bersted Primary School
REFRESH-INTERVAL;VALUE=DURATION:PT1H
X-Robots-Tag:noindex
X-PUBLISHED-TTL:PT1H
BEGIN:VTIMEZONE
TZID:Europe/London
BEGIN:DAYLIGHT
TZOFFSETFROM:+0000
TZOFFSETTO:+0100
TZNAME:BST
DTSTART:20200329T010000
END:DAYLIGHT
BEGIN:STANDARD
TZOFFSETFROM:+0100
TZOFFSETTO:+0000
TZNAME:GMT
DTSTART:20201025T010000
END:STANDARD
END:VTIMEZONE
BEGIN:VEVENT
DTSTART;TZID=Europe/London:20200303T143000
DTEND;TZID=Europe/London:20200303T150000
DTSTAMP:20260424T085210
CREATED:20200302T110857Z
LAST-MODIFIED:20200302T110857Z
UID:11882-1583245800-1583247600@www.southbersted.co.uk
SUMMARY:Stedham Residential - Information Meeting
DESCRIPTION:Parents and carers are encouraged to attend this meeting to find out more about the campsite and the trip.  Information packs will be handed out during the meeting.
URL:https://www.southbersted.co.uk/calendar/stedham-residential-information-meeting-2/
END:VEVENT
BEGIN:VEVENT
DTSTART;VALUE=DATE:20200302
DTEND;VALUE=DATE:20200307
DTSTAMP:20260424T085210
CREATED:20191015T121126Z
LAST-MODIFIED:20191015T121126Z
UID:10028-1583107200-1583539199@www.southbersted.co.uk
SUMMARY:Whole School Book Week
DESCRIPTION:More details will follow in due course
URL:https://www.southbersted.co.uk/calendar/whole-school-book-week-2/
END:VEVENT
BEGIN:VEVENT
DTSTART;VALUE=DATE:20200302
DTEND;VALUE=DATE:20200307
DTSTAMP:20260424T085210
CREATED:20191015T121126Z
LAST-MODIFIED:20191015T121126Z
UID:11761-1583107200-1583539199@www.southbersted.co.uk
SUMMARY:Whole School Book Week
DESCRIPTION:More details will follow in due course
URL:https://www.southbersted.co.uk/calendar/whole-school-book-week-2-2/
END:VEVENT
BEGIN:VEVENT
DTSTART;TZID=Europe/London:20200228T090000
DTEND;TZID=Europe/London:20200228T093000
DTSTAMP:20260424T085210
CREATED:20200224T104830Z
LAST-MODIFIED:20200224T104830Z
UID:10785-1582880400-1582882200@www.southbersted.co.uk
SUMMARY:Year 3 Class Collective Worship - POSTPONED
DESCRIPTION:This has been postponed.  A new date will be confirmed as soon as possible
URL:https://www.southbersted.co.uk/calendar/year-3-class-collective-worship-3/
END:VEVENT
BEGIN:VEVENT
DTSTART;TZID=Europe/London:20200228T090000
DTEND;TZID=Europe/London:20200228T093000
DTSTAMP:20260424T085210
CREATED:20200224T104830Z
LAST-MODIFIED:20200224T104830Z
UID:11873-1582880400-1582882200@www.southbersted.co.uk
SUMMARY:Year 3 Class Collective Worship - POSTPONED
DESCRIPTION:This has been postponed.  A new date will be confirmed as soon as possible
URL:https://www.southbersted.co.uk/calendar/year-3-class-collective-worship-3-2/
END:VEVENT
BEGIN:VEVENT
DTSTART;TZID=Europe/London:20200227T151500
DTEND;TZID=Europe/London:20200227T161500
DTSTAMP:20260424T085210
CREATED:20200114T123526Z
LAST-MODIFIED:20200114T123526Z
UID:10502-1582816500-1582820100@www.southbersted.co.uk
SUMMARY:Lego Club (Group 2) first session
DESCRIPTION:
URL:https://www.southbersted.co.uk/calendar/lego-club-group-2-first-session/
END:VEVENT
BEGIN:VEVENT
DTSTART;TZID=Europe/London:20200227T151500
DTEND;TZID=Europe/London:20200227T161500
DTSTAMP:20260424T085210
CREATED:20200114T123526Z
LAST-MODIFIED:20200114T123526Z
UID:11816-1582816500-1582820100@www.southbersted.co.uk
SUMMARY:Lego Club (Group 2) first session
DESCRIPTION:
URL:https://www.southbersted.co.uk/calendar/lego-club-group-2-first-session-2/
END:VEVENT
BEGIN:VEVENT
DTSTART;TZID=Europe/London:20200227T151500
DTEND;TZID=Europe/London:20200227T160000
DTSTAMP:20260424T085210
CREATED:20200213T105951Z
LAST-MODIFIED:20200213T105951Z
UID:10763-1582816500-1582819200@www.southbersted.co.uk
SUMMARY:David Fuller - Children's Author Book Sale
DESCRIPTION:David will be visiting school during the day.  He will be available after school to sign copies of his books for those who wish to purchase a signed copy.
URL:https://www.southbersted.co.uk/calendar/david-fuller-childrens-author-book-sale/
END:VEVENT
BEGIN:VEVENT
DTSTART;TZID=Europe/London:20200227T151500
DTEND;TZID=Europe/London:20200227T160000
DTSTAMP:20260424T085210
CREATED:20200213T105951Z
LAST-MODIFIED:20200213T105951Z
UID:11870-1582816500-1582819200@www.southbersted.co.uk
SUMMARY:David Fuller - Children's Author Book Sale
DESCRIPTION:David will be visiting school during the day.  He will be available after school to sign copies of his books for those who wish to purchase a signed copy.
URL:https://www.southbersted.co.uk/calendar/david-fuller-childrens-author-book-sale-2/
END:VEVENT
BEGIN:VEVENT
DTSTART;TZID=Europe/London:20200227T130000
DTEND;TZID=Europe/London:20200227T150000
DTSTAMP:20260424T085210
CREATED:20200116T113626Z
LAST-MODIFIED:20200116T113626Z
UID:10535-1582808400-1582815600@www.southbersted.co.uk
SUMMARY:Year 6 Outdoor Learning
DESCRIPTION:Children should bring a change of clothes with them (old clothes\, warm coat\, trainers/wellies – suitable for wearing outside.  Clothes and shoes will get muddy and wet)
URL:https://www.southbersted.co.uk/calendar/year-6-outdoor-learning-3/
END:VEVENT
BEGIN:VEVENT
DTSTART;TZID=Europe/London:20200227T130000
DTEND;TZID=Europe/London:20200227T150000
DTSTAMP:20260424T085210
CREATED:20200116T113626Z
LAST-MODIFIED:20200116T113626Z
UID:11825-1582808400-1582815600@www.southbersted.co.uk
SUMMARY:Year 6 Outdoor Learning
DESCRIPTION:Children should bring a change of clothes with them (old clothes\, warm coat\, trainers/wellies – suitable for wearing outside.  Clothes and shoes will get muddy and wet)
URL:https://www.southbersted.co.uk/calendar/year-6-outdoor-learning-3-2/
END:VEVENT
BEGIN:VEVENT
DTSTART;TZID=Europe/London:20200226T153000
DTEND;TZID=Europe/London:20200226T190000
DTSTAMP:20260424T085210
CREATED:20200116T120731Z
LAST-MODIFIED:20200116T120731Z
UID:10572-1582731000-1582743600@www.southbersted.co.uk
SUMMARY:Parent Teacher Consultations
DESCRIPTION:To book an appointment please complete the form and return it to school
URL:https://www.southbersted.co.uk/calendar/parent-teacher-consultations-7/
END:VEVENT
BEGIN:VEVENT
DTSTART;TZID=Europe/London:20200226T153000
DTEND;TZID=Europe/London:20200226T190000
DTSTAMP:20260424T085210
CREATED:20200116T120731Z
LAST-MODIFIED:20200116T120731Z
UID:11838-1582731000-1582743600@www.southbersted.co.uk
SUMMARY:Parent Teacher Consultations
DESCRIPTION:To book an appointment please complete the form and return it to school
URL:https://www.southbersted.co.uk/calendar/parent-teacher-consultations-7-2/
END:VEVENT
BEGIN:VEVENT
DTSTART;TZID=Europe/London:20200225T170000
DTEND;TZID=Europe/London:20200225T190000
DTSTAMP:20260424T085210
CREATED:20191015T120724Z
LAST-MODIFIED:20191015T120724Z
UID:10025-1582650000-1582657200@www.southbersted.co.uk
SUMMARY:Governors Monthly Meeting
DESCRIPTION:
URL:https://www.southbersted.co.uk/calendar/governors-monthly-meeting-10/
END:VEVENT
BEGIN:VEVENT
DTSTART;TZID=Europe/London:20200225T170000
DTEND;TZID=Europe/London:20200225T190000
DTSTAMP:20260424T085210
CREATED:20191015T120724Z
LAST-MODIFIED:20191015T120724Z
UID:11760-1582650000-1582657200@www.southbersted.co.uk
SUMMARY:Governors Monthly Meeting
DESCRIPTION:
URL:https://www.southbersted.co.uk/calendar/governors-monthly-meeting-10-2/
END:VEVENT
BEGIN:VEVENT
DTSTART;TZID=Europe/London:20200225T153000
DTEND;TZID=Europe/London:20200225T170000
DTSTAMP:20260424T085210
CREATED:20200116T120648Z
LAST-MODIFIED:20200116T120648Z
UID:10569-1582644600-1582650000@www.southbersted.co.uk
SUMMARY:Parent Teacher Consultations
DESCRIPTION:To book an appointment\, please complete the form and return it to school.
URL:https://www.southbersted.co.uk/calendar/parent-teacher-consultations-6/
END:VEVENT
BEGIN:VEVENT
DTSTART;TZID=Europe/London:20200225T153000
DTEND;TZID=Europe/London:20200225T170000
DTSTAMP:20260424T085210
CREATED:20200116T120648Z
LAST-MODIFIED:20200116T120648Z
UID:11837-1582644600-1582650000@www.southbersted.co.uk
SUMMARY:Parent Teacher Consultations
DESCRIPTION:To book an appointment\, please complete the form and return it to school.
URL:https://www.southbersted.co.uk/calendar/parent-teacher-consultations-6-2/
END:VEVENT
BEGIN:VEVENT
DTSTART;TZID=Europe/London:20200225T130000
DTEND;TZID=Europe/London:20200225T150000
DTSTAMP:20260424T085210
CREATED:20200225T104710Z
LAST-MODIFIED:20200225T104710Z
UID:10805-1582635600-1582642800@www.southbersted.co.uk
SUMMARY:Basketball Tournament at The Arena
DESCRIPTION:Participating children will be walked to the event.  Please collect your child from The Arena at 3.00pm if you have not given consent for him/her to walk home unaccompanied.
URL:https://www.southbersted.co.uk/calendar/basketball-tournament-at-the-arena-2/
END:VEVENT
BEGIN:VEVENT
DTSTART;TZID=Europe/London:20200225T130000
DTEND;TZID=Europe/London:20200225T150000
DTSTAMP:20260424T085210
CREATED:20200225T104710Z
LAST-MODIFIED:20200225T104710Z
UID:11879-1582635600-1582642800@www.southbersted.co.uk
SUMMARY:Basketball Tournament at The Arena
DESCRIPTION:Participating children will be walked to the event.  Please collect your child from The Arena at 3.00pm if you have not given consent for him/her to walk home unaccompanied.
URL:https://www.southbersted.co.uk/calendar/basketball-tournament-at-the-arena-2-2/
END:VEVENT
BEGIN:VEVENT
DTSTART;VALUE=DATE:20200217
DTEND;VALUE=DATE:20200222
DTSTAMP:20260424T085210
CREATED:20190717T093627Z
LAST-MODIFIED:20190717T093627Z
UID:9490-1581897600-1582329599@www.southbersted.co.uk
SUMMARY:Half Term
DESCRIPTION:
URL:https://www.southbersted.co.uk/calendar/half-term-5/
END:VEVENT
BEGIN:VEVENT
DTSTART;VALUE=DATE:20200217
DTEND;VALUE=DATE:20200222
DTSTAMP:20260424T085210
CREATED:20190717T093627Z
LAST-MODIFIED:20190717T093627Z
UID:11711-1581897600-1582329599@www.southbersted.co.uk
SUMMARY:Half Term
DESCRIPTION:
URL:https://www.southbersted.co.uk/calendar/half-term-5-2/
END:VEVENT
BEGIN:VEVENT
DTSTART;TZID=Europe/London:20200214T090000
DTEND;TZID=Europe/London:20200214T093000
DTSTAMP:20260424T085210
CREATED:20200224T105143Z
LAST-MODIFIED:20200224T105143Z
UID:10794-1581670800-1581672600@www.southbersted.co.uk
SUMMARY:Year 4 Class Collective Worship
DESCRIPTION:Year 4 parents and carers are invited to join us for Collective Worship at 9.00am
URL:https://www.southbersted.co.uk/calendar/year-4-class-collective-worship-3/
END:VEVENT
BEGIN:VEVENT
DTSTART;TZID=Europe/London:20200214T090000
DTEND;TZID=Europe/London:20200214T093000
DTSTAMP:20260424T085210
CREATED:20200224T105143Z
LAST-MODIFIED:20200224T105143Z
UID:11876-1581670800-1581672600@www.southbersted.co.uk
SUMMARY:Year 4 Class Collective Worship
DESCRIPTION:Year 4 parents and carers are invited to join us for Collective Worship at 9.00am
URL:https://www.southbersted.co.uk/calendar/year-4-class-collective-worship-3-2/
END:VEVENT
BEGIN:VEVENT
DTSTART;TZID=Europe/London:20200213T151500
DTEND;TZID=Europe/London:20200214T154500
DTSTAMP:20260424T085210
CREATED:20200211T114124Z
LAST-MODIFIED:20200211T114124Z
UID:10729-1581606900-1581695100@www.southbersted.co.uk
SUMMARY:Creative Home Learning Exhibition
DESCRIPTION:Please join us to view the home learning creations the children have made.  All work will be displayed in the individual classrooms.
URL:https://www.southbersted.co.uk/calendar/creative-home-learning-exhibition-6/
END:VEVENT
BEGIN:VEVENT
DTSTART;TZID=Europe/London:20200213T151500
DTEND;TZID=Europe/London:20200214T154500
DTSTAMP:20260424T085210
CREATED:20200211T114124Z
LAST-MODIFIED:20200211T114124Z
UID:11862-1581606900-1581695100@www.southbersted.co.uk
SUMMARY:Creative Home Learning Exhibition
DESCRIPTION:Please join us to view the home learning creations the children have made.  All work will be displayed in the individual classrooms.
URL:https://www.southbersted.co.uk/calendar/creative-home-learning-exhibition-6-2/
END:VEVENT
BEGIN:VEVENT
DTSTART;TZID=Europe/London:20200213T130000
DTEND;TZID=Europe/London:20200213T150000
DTSTAMP:20260424T085210
CREATED:20200116T120354Z
LAST-MODIFIED:20200116T120354Z
UID:10566-1581598800-1581606000@www.southbersted.co.uk
SUMMARY:Year 1 Outdoor Learning
DESCRIPTION:Children should bring a change of clothes with them (old clothes\, warm coat\, trainers/wellies – suitable for wearing outside.  Clothes and shoes will get muddy and wet)
URL:https://www.southbersted.co.uk/calendar/year-1-outdoor-learning-3/
END:VEVENT
BEGIN:VEVENT
DTSTART;TZID=Europe/London:20200213T130000
DTEND;TZID=Europe/London:20200213T150000
DTSTAMP:20260424T085210
CREATED:20200116T120354Z
LAST-MODIFIED:20200116T120354Z
UID:11836-1581598800-1581606000@www.southbersted.co.uk
SUMMARY:Year 1 Outdoor Learning
DESCRIPTION:Children should bring a change of clothes with them (old clothes\, warm coat\, trainers/wellies – suitable for wearing outside.  Clothes and shoes will get muddy and wet)
URL:https://www.southbersted.co.uk/calendar/year-1-outdoor-learning-3-2/
END:VEVENT
BEGIN:VEVENT
DTSTART;TZID=Europe/London:20200213T103000
DTEND;TZID=Europe/London:20200213T121500
DTSTAMP:20260424T085210
CREATED:20200206T133656Z
LAST-MODIFIED:20200206T133656Z
UID:10726-1581589800-1581596100@www.southbersted.co.uk
SUMMARY:Year 6 visit to Bognor Library
DESCRIPTION:Children will walk to and from the Library.  Sessions at the library will last 40 minutes during which time children will be able to select a book to take home if they wish.  Library cards for those who have completed an application form will be issued during the visit.  If your child already has a library card and would like to borrow a book\, you must ensure he/she brings their card to school on the day of the visit.
URL:https://www.southbersted.co.uk/calendar/year-6-visit-to-bognor-library/
END:VEVENT
BEGIN:VEVENT
DTSTART;TZID=Europe/London:20200213T103000
DTEND;TZID=Europe/London:20200213T121500
DTSTAMP:20260424T085210
CREATED:20200206T133656Z
LAST-MODIFIED:20200206T133656Z
UID:11861-1581589800-1581596100@www.southbersted.co.uk
SUMMARY:Year 6 visit to Bognor Library
DESCRIPTION:Children will walk to and from the Library.  Sessions at the library will last 40 minutes during which time children will be able to select a book to take home if they wish.  Library cards for those who have completed an application form will be issued during the visit.  If your child already has a library card and would like to borrow a book\, you must ensure he/she brings their card to school on the day of the visit.
URL:https://www.southbersted.co.uk/calendar/year-6-visit-to-bognor-library-2/
END:VEVENT
BEGIN:VEVENT
DTSTART;TZID=Europe/London:20200213T093000
DTEND;TZID=Europe/London:20200213T111500
DTSTAMP:20260424T085210
CREATED:20200206T133244Z
LAST-MODIFIED:20200206T133244Z
UID:10723-1581586200-1581592500@www.southbersted.co.uk
SUMMARY:Year 5 visit to Bognor Library
DESCRIPTION:Children will walk to and from the Library.  Sessions at the library will last 40 minutes during which time children will be able to select a book to take home if they wish.  Library cards for those who have completed an application form will be issued during the visit.  If your child already has a library card and would like to borrow a book\, you must ensure he/she brings their card to school on the day of the visit.
URL:https://www.southbersted.co.uk/calendar/year-5-visit-to-bognor-library/
END:VEVENT
END:VCALENDAR