BEGIN:VCALENDAR
VERSION:2.0
PRODID:-//South Bersted Primary School - ECPv6.15.5//NONSGML v1.0//EN
CALSCALE:GREGORIAN
METHOD:PUBLISH
X-WR-CALNAME:South Bersted Primary School
X-ORIGINAL-URL:https://www.southbersted.co.uk
X-WR-CALDESC:Events for South Bersted Primary School
REFRESH-INTERVAL;VALUE=DURATION:PT1H
X-Robots-Tag:noindex
X-PUBLISHED-TTL:PT1H
BEGIN:VTIMEZONE
TZID:Europe/London
BEGIN:DAYLIGHT
TZOFFSETFROM:+0000
TZOFFSETTO:+0100
TZNAME:BST
DTSTART:20200329T010000
END:DAYLIGHT
BEGIN:STANDARD
TZOFFSETFROM:+0100
TZOFFSETTO:+0000
TZNAME:GMT
DTSTART:20201025T010000
END:STANDARD
END:VTIMEZONE
BEGIN:VEVENT
DTSTART;VALUE=DATE:20200312
DTEND;VALUE=DATE:20200313
DTSTAMP:20260424T102631
CREATED:20191015T123500Z
LAST-MODIFIED:20191015T123500Z
UID:11764-1583971200-1584057599@www.southbersted.co.uk
SUMMARY:The Big Sing at The Arena
DESCRIPTION:More details to follow in due course
URL:https://www.southbersted.co.uk/calendar/the-big-sing-at-the-arena-2-2/
END:VEVENT
BEGIN:VEVENT
DTSTART;TZID=Europe/London:20200311T090000
DTEND;TZID=Europe/London:20200311T093000
DTSTAMP:20260424T102631
CREATED:20200224T104916Z
LAST-MODIFIED:20200224T104916Z
UID:10787-1583917200-1583919000@www.southbersted.co.uk
SUMMARY:Year 2 Class Collective Worship
DESCRIPTION:Year 2 parents and carers are invited to join us for Collective Worship at 9.00am
URL:https://www.southbersted.co.uk/calendar/year-2-class-collective-worship-3/
END:VEVENT
BEGIN:VEVENT
DTSTART;TZID=Europe/London:20200311T090000
DTEND;TZID=Europe/London:20200311T093000
DTSTAMP:20260424T102631
CREATED:20200224T104916Z
LAST-MODIFIED:20200224T104916Z
UID:11874-1583917200-1583919000@www.southbersted.co.uk
SUMMARY:Year 2 Class Collective Worship
DESCRIPTION:Year 2 parents and carers are invited to join us for Collective Worship at 9.00am
URL:https://www.southbersted.co.uk/calendar/year-2-class-collective-worship-3-2/
END:VEVENT
BEGIN:VEVENT
DTSTART;TZID=Europe/London:20200311T084000
DTEND;TZID=Europe/London:20200311T153000
DTSTAMP:20260424T102631
CREATED:20200311T135454Z
LAST-MODIFIED:20200311T135454Z
UID:11886-1583916000-1583940600@www.southbersted.co.uk
SUMMARY:Year 4 visiting The Mary Rose
DESCRIPTION:Children should be dropped at Bognor Regis station between 8.40 and 8.50am.  Children can be collected from school at 3.30pm.
URL:https://www.southbersted.co.uk/calendar/year-4-visiting-the-mary-rose/
END:VEVENT
BEGIN:VEVENT
DTSTART;TZID=Europe/London:20200310T130000
DTEND;TZID=Europe/London:20200310T160000
DTSTAMP:20260424T102631
CREATED:20200304T114147Z
LAST-MODIFIED:20200304T114147Z
UID:10874-1583845200-1583856000@www.southbersted.co.uk
SUMMARY:Indoor Cricket at The Regis School
DESCRIPTION:Participating children will be walked to and from the event.  Please arrange to collect your child from the venue at 4.00pm
URL:https://www.southbersted.co.uk/calendar/indoor-cricket-at-the-regis-school/
END:VEVENT
BEGIN:VEVENT
DTSTART;TZID=Europe/London:20200310T130000
DTEND;TZID=Europe/London:20200310T160000
DTSTAMP:20260424T102631
CREATED:20200304T114147Z
LAST-MODIFIED:20200304T114147Z
UID:11883-1583845200-1583856000@www.southbersted.co.uk
SUMMARY:Indoor Cricket at The Regis School
DESCRIPTION:Participating children will be walked to and from the event.  Please arrange to collect your child from the venue at 4.00pm
URL:https://www.southbersted.co.uk/calendar/indoor-cricket-at-the-regis-school-2/
END:VEVENT
BEGIN:VEVENT
DTSTART;TZID=Europe/London:20200309T140000
DTEND;TZID=Europe/London:20200309T150000
DTSTAMP:20260424T102631
CREATED:20200213T105233Z
LAST-MODIFIED:20200213T105233Z
UID:10748-1583762400-1583766000@www.southbersted.co.uk
SUMMARY:Y5 PSHE Parent Information Meeting
DESCRIPTION:Parents and carers are invited to attend a meeting to find out more about the changes to the statutory RSE curriculum\, to review the curriculum for your child’s year group\, to review the resources and to understand the withdrawal process.
URL:https://www.southbersted.co.uk/calendar/y5-pshe-parent-information-meeting/
END:VEVENT
BEGIN:VEVENT
DTSTART;TZID=Europe/London:20200309T140000
DTEND;TZID=Europe/London:20200309T150000
DTSTAMP:20260424T102631
CREATED:20200213T105233Z
LAST-MODIFIED:20200213T105233Z
UID:11865-1583762400-1583766000@www.southbersted.co.uk
SUMMARY:Y5 PSHE Parent Information Meeting
DESCRIPTION:Parents and carers are invited to attend a meeting to find out more about the changes to the statutory RSE curriculum\, to review the curriculum for your child’s year group\, to review the resources and to understand the withdrawal process.
URL:https://www.southbersted.co.uk/calendar/y5-pshe-parent-information-meeting-2/
END:VEVENT
BEGIN:VEVENT
DTSTART;TZID=Europe/London:20200309T090000
DTEND;TZID=Europe/London:20200309T100000
DTSTAMP:20260424T102631
CREATED:20200213T105152Z
LAST-MODIFIED:20200213T105152Z
UID:10745-1583744400-1583748000@www.southbersted.co.uk
SUMMARY:Y6 PSHE Parent Information Meeting
DESCRIPTION:Parents and carers are invited to attend a meeting to find out more about the changes to the statutory RSE curriculum\, to review the curriculum for your child’s year group\, to review the resources and to understand the withdrawal process.
URL:https://www.southbersted.co.uk/calendar/y6-pshe-parent-information-meeting/
END:VEVENT
BEGIN:VEVENT
DTSTART;TZID=Europe/London:20200309T090000
DTEND;TZID=Europe/London:20200309T100000
DTSTAMP:20260424T102631
CREATED:20200213T105152Z
LAST-MODIFIED:20200213T105152Z
UID:11864-1583744400-1583748000@www.southbersted.co.uk
SUMMARY:Y6 PSHE Parent Information Meeting
DESCRIPTION:Parents and carers are invited to attend a meeting to find out more about the changes to the statutory RSE curriculum\, to review the curriculum for your child’s year group\, to review the resources and to understand the withdrawal process.
URL:https://www.southbersted.co.uk/calendar/y6-pshe-parent-information-meeting-2/
END:VEVENT
BEGIN:VEVENT
DTSTART;TZID=Europe/London:20200307T084500
DTEND;TZID=Europe/London:20200307T123000
DTSTAMP:20260424T102631
CREATED:20200227T140136Z
LAST-MODIFIED:20200227T140136Z
UID:10827-1583570700-1583584200@www.southbersted.co.uk
SUMMARY:Saturday Football/Netball Fixtures
DESCRIPTION:Participating children should arrive for 8.45am and must be signed in with Mr Thorn (football) and Mrs Bush (netball). \nParents and carers are invited to stay and cheer the teams on.  Team kit will be provided.
URL:https://www.southbersted.co.uk/calendar/saturday-football-netball-fixtures/
END:VEVENT
BEGIN:VEVENT
DTSTART;TZID=Europe/London:20200307T084500
DTEND;TZID=Europe/London:20200307T123000
DTSTAMP:20260424T102631
CREATED:20200227T140136Z
LAST-MODIFIED:20200227T140136Z
UID:11881-1583570700-1583584200@www.southbersted.co.uk
SUMMARY:Saturday Football/Netball Fixtures
DESCRIPTION:Participating children should arrive for 8.45am and must be signed in with Mr Thorn (football) and Mrs Bush (netball). \nParents and carers are invited to stay and cheer the teams on.  Team kit will be provided.
URL:https://www.southbersted.co.uk/calendar/saturday-football-netball-fixtures-2/
END:VEVENT
BEGIN:VEVENT
DTSTART;TZID=Europe/London:20200306T140000
DTEND;TZID=Europe/London:20200306T150000
DTSTAMP:20260424T102631
CREATED:20200213T105744Z
LAST-MODIFIED:20200213T105744Z
UID:10760-1583503200-1583506800@www.southbersted.co.uk
SUMMARY:Friends of South Bersted EGM
DESCRIPTION:This Extraordinary General Meeting (EGM) has been called in order to appoint a new Treasurer.  Only existing Committee Members can take on this role.  However\, all are welcome to attend the meeting.
URL:https://www.southbersted.co.uk/calendar/friends-of-south-bersted-egm/
END:VEVENT
BEGIN:VEVENT
DTSTART;TZID=Europe/London:20200306T140000
DTEND;TZID=Europe/London:20200306T150000
DTSTAMP:20260424T102631
CREATED:20200213T105744Z
LAST-MODIFIED:20200213T105744Z
UID:11869-1583503200-1583506800@www.southbersted.co.uk
SUMMARY:Friends of South Bersted EGM
DESCRIPTION:This Extraordinary General Meeting (EGM) has been called in order to appoint a new Treasurer.  Only existing Committee Members can take on this role.  However\, all are welcome to attend the meeting.
URL:https://www.southbersted.co.uk/calendar/friends-of-south-bersted-egm-2/
END:VEVENT
BEGIN:VEVENT
DTSTART;TZID=Europe/London:20200306T130000
DTEND;TZID=Europe/London:20200306T150000
DTSTAMP:20260424T102631
CREATED:20200116T113811Z
LAST-MODIFIED:20200116T113811Z
UID:10541-1583499600-1583506800@www.southbersted.co.uk
SUMMARY:Year 5 Outdoor Learning (new date)
DESCRIPTION:*** PLEASE NOTE CHANGE OF DATE *** \nChildren should bring a change of clothes with them (old clothes\, warm coat\, trainers/wellies – suitable for wearing outside.  Clothes and shoes will get muddy and wet)
URL:https://www.southbersted.co.uk/calendar/year-5-outdoor-learning-3/
END:VEVENT
BEGIN:VEVENT
DTSTART;TZID=Europe/London:20200306T130000
DTEND;TZID=Europe/London:20200306T150000
DTSTAMP:20260424T102631
CREATED:20200116T113811Z
LAST-MODIFIED:20200116T113811Z
UID:11827-1583499600-1583506800@www.southbersted.co.uk
SUMMARY:Year 5 Outdoor Learning (new date)
DESCRIPTION:*** PLEASE NOTE CHANGE OF DATE *** \nChildren should bring a change of clothes with them (old clothes\, warm coat\, trainers/wellies – suitable for wearing outside.  Clothes and shoes will get muddy and wet)
URL:https://www.southbersted.co.uk/calendar/year-5-outdoor-learning-3-2/
END:VEVENT
BEGIN:VEVENT
DTSTART;VALUE=DATE:20200305
DTEND;VALUE=DATE:20200306
DTSTAMP:20260424T102631
CREATED:20191015T121202Z
LAST-MODIFIED:20191015T121202Z
UID:10031-1583366400-1583452799@www.southbersted.co.uk
SUMMARY:World Book Day
DESCRIPTION:Details to follow
URL:https://www.southbersted.co.uk/calendar/world-book-day-3/
END:VEVENT
BEGIN:VEVENT
DTSTART;VALUE=DATE:20200305
DTEND;VALUE=DATE:20200306
DTSTAMP:20260424T102631
CREATED:20191015T121202Z
LAST-MODIFIED:20191015T121202Z
UID:11762-1583366400-1583452799@www.southbersted.co.uk
SUMMARY:World Book Day
DESCRIPTION:Details to follow
URL:https://www.southbersted.co.uk/calendar/world-book-day-3-2/
END:VEVENT
BEGIN:VEVENT
DTSTART;TZID=Europe/London:20200304T140000
DTEND;TZID=Europe/London:20200304T150000
DTSTAMP:20260424T102631
CREATED:20200213T105120Z
LAST-MODIFIED:20200213T105120Z
UID:10742-1583330400-1583334000@www.southbersted.co.uk
SUMMARY:Y1 PSHE Parent Information Meeting
DESCRIPTION:Parents and carers are invited to attend a meeting to find out more about the changes to the statutory RSE curriculum\, to review the curriculum for your child’s year group\, to review the resources and to understand the withdrawal process.
URL:https://www.southbersted.co.uk/calendar/y1-pshe-parent-information-meeting/
END:VEVENT
BEGIN:VEVENT
DTSTART;TZID=Europe/London:20200304T140000
DTEND;TZID=Europe/London:20200304T150000
DTSTAMP:20260424T102631
CREATED:20200213T105120Z
LAST-MODIFIED:20200213T105120Z
UID:11863-1583330400-1583334000@www.southbersted.co.uk
SUMMARY:Y1 PSHE Parent Information Meeting
DESCRIPTION:Parents and carers are invited to attend a meeting to find out more about the changes to the statutory RSE curriculum\, to review the curriculum for your child’s year group\, to review the resources and to understand the withdrawal process.
URL:https://www.southbersted.co.uk/calendar/y1-pshe-parent-information-meeting-2/
END:VEVENT
BEGIN:VEVENT
DTSTART;TZID=Europe/London:20200303T151500
DTEND;TZID=Europe/London:20200303T160000
DTSTAMP:20260424T102631
CREATED:20200114T123103Z
LAST-MODIFIED:20200114T123103Z
UID:10494-1583248500-1583251200@www.southbersted.co.uk
SUMMARY:Gym Club (first session)
DESCRIPTION:
URL:https://www.southbersted.co.uk/calendar/gym-club-first-session/
END:VEVENT
BEGIN:VEVENT
DTSTART;TZID=Europe/London:20200303T151500
DTEND;TZID=Europe/London:20200303T160000
DTSTAMP:20260424T102631
CREATED:20200114T123103Z
LAST-MODIFIED:20200114T123103Z
UID:11812-1583248500-1583251200@www.southbersted.co.uk
SUMMARY:Gym Club (first session)
DESCRIPTION:
URL:https://www.southbersted.co.uk/calendar/gym-club-first-session-2/
END:VEVENT
BEGIN:VEVENT
DTSTART;TZID=Europe/London:20200303T143000
DTEND;TZID=Europe/London:20200303T150000
DTSTAMP:20260424T102631
CREATED:20200302T110857Z
LAST-MODIFIED:20200302T110857Z
UID:10848-1583245800-1583247600@www.southbersted.co.uk
SUMMARY:Stedham Residential - Information Meeting
DESCRIPTION:Parents and carers are encouraged to attend this meeting to find out more about the campsite and the trip.  Information packs will be handed out during the meeting.
URL:https://www.southbersted.co.uk/calendar/stedham-residential-information-meeting/
END:VEVENT
BEGIN:VEVENT
DTSTART;TZID=Europe/London:20200303T143000
DTEND;TZID=Europe/London:20200303T150000
DTSTAMP:20260424T102631
CREATED:20200302T110857Z
LAST-MODIFIED:20200302T110857Z
UID:11882-1583245800-1583247600@www.southbersted.co.uk
SUMMARY:Stedham Residential - Information Meeting
DESCRIPTION:Parents and carers are encouraged to attend this meeting to find out more about the campsite and the trip.  Information packs will be handed out during the meeting.
URL:https://www.southbersted.co.uk/calendar/stedham-residential-information-meeting-2/
END:VEVENT
BEGIN:VEVENT
DTSTART;VALUE=DATE:20200302
DTEND;VALUE=DATE:20200307
DTSTAMP:20260424T102631
CREATED:20191015T121126Z
LAST-MODIFIED:20191015T121126Z
UID:10028-1583107200-1583539199@www.southbersted.co.uk
SUMMARY:Whole School Book Week
DESCRIPTION:More details will follow in due course
URL:https://www.southbersted.co.uk/calendar/whole-school-book-week-2/
END:VEVENT
BEGIN:VEVENT
DTSTART;VALUE=DATE:20200302
DTEND;VALUE=DATE:20200307
DTSTAMP:20260424T102631
CREATED:20191015T121126Z
LAST-MODIFIED:20191015T121126Z
UID:11761-1583107200-1583539199@www.southbersted.co.uk
SUMMARY:Whole School Book Week
DESCRIPTION:More details will follow in due course
URL:https://www.southbersted.co.uk/calendar/whole-school-book-week-2-2/
END:VEVENT
BEGIN:VEVENT
DTSTART;TZID=Europe/London:20200228T090000
DTEND;TZID=Europe/London:20200228T093000
DTSTAMP:20260424T102631
CREATED:20200224T104830Z
LAST-MODIFIED:20200224T104830Z
UID:10785-1582880400-1582882200@www.southbersted.co.uk
SUMMARY:Year 3 Class Collective Worship - POSTPONED
DESCRIPTION:This has been postponed.  A new date will be confirmed as soon as possible
URL:https://www.southbersted.co.uk/calendar/year-3-class-collective-worship-3/
END:VEVENT
BEGIN:VEVENT
DTSTART;TZID=Europe/London:20200228T090000
DTEND;TZID=Europe/London:20200228T093000
DTSTAMP:20260424T102631
CREATED:20200224T104830Z
LAST-MODIFIED:20200224T104830Z
UID:11873-1582880400-1582882200@www.southbersted.co.uk
SUMMARY:Year 3 Class Collective Worship - POSTPONED
DESCRIPTION:This has been postponed.  A new date will be confirmed as soon as possible
URL:https://www.southbersted.co.uk/calendar/year-3-class-collective-worship-3-2/
END:VEVENT
BEGIN:VEVENT
DTSTART;TZID=Europe/London:20200227T151500
DTEND;TZID=Europe/London:20200227T161500
DTSTAMP:20260424T102631
CREATED:20200114T123526Z
LAST-MODIFIED:20200114T123526Z
UID:10502-1582816500-1582820100@www.southbersted.co.uk
SUMMARY:Lego Club (Group 2) first session
DESCRIPTION:
URL:https://www.southbersted.co.uk/calendar/lego-club-group-2-first-session/
END:VEVENT
BEGIN:VEVENT
DTSTART;TZID=Europe/London:20200227T151500
DTEND;TZID=Europe/London:20200227T161500
DTSTAMP:20260424T102631
CREATED:20200114T123526Z
LAST-MODIFIED:20200114T123526Z
UID:11816-1582816500-1582820100@www.southbersted.co.uk
SUMMARY:Lego Club (Group 2) first session
DESCRIPTION:
URL:https://www.southbersted.co.uk/calendar/lego-club-group-2-first-session-2/
END:VEVENT
END:VCALENDAR