BEGIN:VCALENDAR
VERSION:2.0
PRODID:-//South Bersted Primary School - ECPv6.15.5//NONSGML v1.0//EN
CALSCALE:GREGORIAN
METHOD:PUBLISH
X-WR-CALNAME:South Bersted Primary School
X-ORIGINAL-URL:https://www.southbersted.co.uk
X-WR-CALDESC:Events for South Bersted Primary School
REFRESH-INTERVAL;VALUE=DURATION:PT1H
X-Robots-Tag:noindex
X-PUBLISHED-TTL:PT1H
BEGIN:VTIMEZONE
TZID:Europe/London
BEGIN:DAYLIGHT
TZOFFSETFROM:+0000
TZOFFSETTO:+0100
TZNAME:BST
DTSTART:20200329T010000
END:DAYLIGHT
BEGIN:STANDARD
TZOFFSETFROM:+0100
TZOFFSETTO:+0000
TZNAME:GMT
DTSTART:20201025T010000
END:STANDARD
END:VTIMEZONE
BEGIN:VEVENT
DTSTART;TZID=Europe/London:20200323T151500
DTEND;TZID=Europe/London:20200323T161500
DTSTAMP:20260424T000758
CREATED:20200114T124431Z
LAST-MODIFIED:20200114T124431Z
UID:11822-1584976500-1584980100@www.southbersted.co.uk
SUMMARY:Netball Club (final session)
DESCRIPTION:
URL:https://www.southbersted.co.uk/calendar/netball-club-final-session-2-2/
END:VEVENT
BEGIN:VEVENT
DTSTART;TZID=Europe/London:20200323T151500
DTEND;TZID=Europe/London:20200323T161500
DTSTAMP:20260424T000758
CREATED:20200114T124001Z
LAST-MODIFIED:20200114T124001Z
UID:10511-1584976500-1584980100@www.southbersted.co.uk
SUMMARY:Dance House Club (final session)
DESCRIPTION:
URL:https://www.southbersted.co.uk/calendar/dance-house-club-final-session/
END:VEVENT
BEGIN:VEVENT
DTSTART;TZID=Europe/London:20200323T151500
DTEND;TZID=Europe/London:20200323T161500
DTSTAMP:20260424T000758
CREATED:20200114T124001Z
LAST-MODIFIED:20200114T124001Z
UID:11819-1584976500-1584980100@www.southbersted.co.uk
SUMMARY:Dance House Club (final session)
DESCRIPTION:
URL:https://www.southbersted.co.uk/calendar/dance-house-club-final-session-2/
END:VEVENT
BEGIN:VEVENT
DTSTART;TZID=Europe/London:20200320T151500
DTEND;TZID=Europe/London:20200320T160000
DTSTAMP:20260424T000758
CREATED:20200304T141055Z
LAST-MODIFIED:20200304T141055Z
UID:10882-1584717300-1584720000@www.southbersted.co.uk
SUMMARY:Book Fair
DESCRIPTION:We will be holding a book fair straight after school on 20th March.  Please do come along and browse the books which will be on display in the hall from 3.15pm.
URL:https://www.southbersted.co.uk/calendar/book-fair-2/
END:VEVENT
BEGIN:VEVENT
DTSTART;TZID=Europe/London:20200320T151500
DTEND;TZID=Europe/London:20200320T160000
DTSTAMP:20260424T000758
CREATED:20200304T141055Z
LAST-MODIFIED:20200304T141055Z
UID:11884-1584717300-1584720000@www.southbersted.co.uk
SUMMARY:Book Fair
DESCRIPTION:We will be holding a book fair straight after school on 20th March.  Please do come along and browse the books which will be on display in the hall from 3.15pm.
URL:https://www.southbersted.co.uk/calendar/book-fair-2-2/
END:VEVENT
BEGIN:VEVENT
DTSTART;TZID=Europe/London:20200320T090000
DTEND;TZID=Europe/London:20200320T093000
DTSTAMP:20260424T000758
CREATED:20200224T105014Z
LAST-MODIFIED:20200224T105014Z
UID:10790-1584694800-1584696600@www.southbersted.co.uk
SUMMARY:Reception Class Collective Worship
DESCRIPTION:Reception class parents and carers are invited to join us for Collective Worship at 9.00am
URL:https://www.southbersted.co.uk/calendar/reception-class-collective-worship-2/
END:VEVENT
BEGIN:VEVENT
DTSTART;TZID=Europe/London:20200320T090000
DTEND;TZID=Europe/London:20200320T093000
DTSTAMP:20260424T000758
CREATED:20200224T105014Z
LAST-MODIFIED:20200224T105014Z
UID:11875-1584694800-1584696600@www.southbersted.co.uk
SUMMARY:Reception Class Collective Worship
DESCRIPTION:Reception class parents and carers are invited to join us for Collective Worship at 9.00am
URL:https://www.southbersted.co.uk/calendar/reception-class-collective-worship-2-2/
END:VEVENT
BEGIN:VEVENT
DTSTART;TZID=Europe/London:20200319T130000
DTEND;TZID=Europe/London:20200319T150000
DTSTAMP:20260424T000758
CREATED:20200116T114622Z
LAST-MODIFIED:20200116T114622Z
UID:10552-1584622800-1584630000@www.southbersted.co.uk
SUMMARY:Year 3 Outdoor Learning
DESCRIPTION:Children should bring a change of clothes with them (old clothes\, warm coat\, trainers/wellies – suitable for wearing outside.  Clothes and shoes will get muddy and wet)
URL:https://www.southbersted.co.uk/calendar/year-3-outdoor-learning-3/
END:VEVENT
BEGIN:VEVENT
DTSTART;TZID=Europe/London:20200319T130000
DTEND;TZID=Europe/London:20200319T150000
DTSTAMP:20260424T000758
CREATED:20200116T114622Z
LAST-MODIFIED:20200116T114622Z
UID:11831-1584622800-1584630000@www.southbersted.co.uk
SUMMARY:Year 3 Outdoor Learning
DESCRIPTION:Children should bring a change of clothes with them (old clothes\, warm coat\, trainers/wellies – suitable for wearing outside.  Clothes and shoes will get muddy and wet)
URL:https://www.southbersted.co.uk/calendar/year-3-outdoor-learning-3-2/
END:VEVENT
BEGIN:VEVENT
DTSTART;TZID=Europe/London:20200317T170000
DTEND;TZID=Europe/London:20200317T190000
DTSTAMP:20260424T000758
CREATED:20191015T125154Z
LAST-MODIFIED:20191015T125154Z
UID:10043-1584464400-1584471600@www.southbersted.co.uk
SUMMARY:Governors Monthly Meeting
DESCRIPTION:
URL:https://www.southbersted.co.uk/calendar/governors-monthly-meeting-11/
END:VEVENT
BEGIN:VEVENT
DTSTART;TZID=Europe/London:20200317T170000
DTEND;TZID=Europe/London:20200317T190000
DTSTAMP:20260424T000758
CREATED:20191015T125154Z
LAST-MODIFIED:20191015T125154Z
UID:11765-1584464400-1584471600@www.southbersted.co.uk
SUMMARY:Governors Monthly Meeting
DESCRIPTION:
URL:https://www.southbersted.co.uk/calendar/governors-monthly-meeting-11-2/
END:VEVENT
BEGIN:VEVENT
DTSTART;TZID=Europe/London:20200317T090000
DTEND;TZID=Europe/London:20200317T100000
DTSTAMP:20260424T000758
CREATED:20200227T115107Z
LAST-MODIFIED:20200227T115107Z
UID:10824-1584435600-1584439200@www.southbersted.co.uk
SUMMARY:Year 1 Local Walk
DESCRIPTION:We will be taking a short walk around the local area to compare the different types of houses.
URL:https://www.southbersted.co.uk/calendar/year-1-local-walk-2/
END:VEVENT
BEGIN:VEVENT
DTSTART;TZID=Europe/London:20200317T090000
DTEND;TZID=Europe/London:20200317T100000
DTSTAMP:20260424T000758
CREATED:20200227T115107Z
LAST-MODIFIED:20200227T115107Z
UID:11880-1584435600-1584439200@www.southbersted.co.uk
SUMMARY:Year 1 Local Walk
DESCRIPTION:We will be taking a short walk around the local area to compare the different types of houses.
URL:https://www.southbersted.co.uk/calendar/year-1-local-walk-2-2/
END:VEVENT
BEGIN:VEVENT
DTSTART;TZID=Europe/London:20200317T090000
DTEND;TZID=Europe/London:20200317T100000
DTSTAMP:20260424T000758
CREATED:20200213T105416Z
LAST-MODIFIED:20200213T105416Z
UID:10757-1584435600-1584439200@www.southbersted.co.uk
SUMMARY:Y4 PSHE Parent Information Meeting
DESCRIPTION:Parents and carers are invited to attend a meeting to find out more about the changes to the statutory RSE curriculum\, to review the curriculum for your child’s year group\, to review the resources and to understand the withdrawal process.
URL:https://www.southbersted.co.uk/calendar/y4-pshe-parent-information-meeting/
END:VEVENT
BEGIN:VEVENT
DTSTART;TZID=Europe/London:20200317T090000
DTEND;TZID=Europe/London:20200317T100000
DTSTAMP:20260424T000758
CREATED:20200213T105416Z
LAST-MODIFIED:20200213T105416Z
UID:11868-1584435600-1584439200@www.southbersted.co.uk
SUMMARY:Y4 PSHE Parent Information Meeting
DESCRIPTION:Parents and carers are invited to attend a meeting to find out more about the changes to the statutory RSE curriculum\, to review the curriculum for your child’s year group\, to review the resources and to understand the withdrawal process.
URL:https://www.southbersted.co.uk/calendar/y4-pshe-parent-information-meeting-2/
END:VEVENT
BEGIN:VEVENT
DTSTART;VALUE=DATE:20200317
DTEND;VALUE=DATE:20200318
DTSTAMP:20260424T000758
CREATED:20200116T115943Z
LAST-MODIFIED:20200116T115943Z
UID:10563-1584403200-1584489599@www.southbersted.co.uk
SUMMARY:Reception Outdoor Learning Day
DESCRIPTION:Children will spend all day outside. \nChildren should bring a change of clothes with them (old clothes\, warm coat\, trainers/wellies – suitable for wearing outside.  Clothes and shoes will get muddy and wet)
URL:https://www.southbersted.co.uk/calendar/reception-outdoor-learning-day/
END:VEVENT
BEGIN:VEVENT
DTSTART;VALUE=DATE:20200317
DTEND;VALUE=DATE:20200318
DTSTAMP:20260424T000758
CREATED:20200116T115943Z
LAST-MODIFIED:20200116T115943Z
UID:11835-1584403200-1584489599@www.southbersted.co.uk
SUMMARY:Reception Outdoor Learning Day
DESCRIPTION:Children will spend all day outside. \nChildren should bring a change of clothes with them (old clothes\, warm coat\, trainers/wellies – suitable for wearing outside.  Clothes and shoes will get muddy and wet)
URL:https://www.southbersted.co.uk/calendar/reception-outdoor-learning-day-2/
END:VEVENT
BEGIN:VEVENT
DTSTART;TZID=Europe/London:20200316T133000
DTEND;TZID=Europe/London:20200316T153000
DTSTAMP:20260424T000758
CREATED:20200311T135328Z
LAST-MODIFIED:20200311T135328Z
UID:11885-1584365400-1584372600@www.southbersted.co.uk
SUMMARY:Quicksticks Hockey event
DESCRIPTION:Participating children will be walked to the event by South Bersted School staff.  Children should be collected from The Arena at 3.30pm unless you have given consent for your child to walk home unaccompanied.
URL:https://www.southbersted.co.uk/calendar/quicksticks-hockey-event-2-2/
END:VEVENT
BEGIN:VEVENT
DTSTART;TZID=Europe/London:20200316T090000
DTEND;TZID=Europe/London:20200316T100000
DTSTAMP:20260424T000758
CREATED:20200213T105344Z
LAST-MODIFIED:20200213T105344Z
UID:10754-1584349200-1584352800@www.southbersted.co.uk
SUMMARY:Y2 PSHE Parent Information Meeting
DESCRIPTION:Parents and carers are invited to attend a meeting to find out more about the changes to the statutory RSE curriculum\, to review the curriculum for your child’s year group\, to review the resources and to understand the withdrawal process.
URL:https://www.southbersted.co.uk/calendar/y2-pshe-parent-information-meeting/
END:VEVENT
BEGIN:VEVENT
DTSTART;TZID=Europe/London:20200316T090000
DTEND;TZID=Europe/London:20200316T100000
DTSTAMP:20260424T000758
CREATED:20200213T105344Z
LAST-MODIFIED:20200213T105344Z
UID:11867-1584349200-1584352800@www.southbersted.co.uk
SUMMARY:Y2 PSHE Parent Information Meeting
DESCRIPTION:Parents and carers are invited to attend a meeting to find out more about the changes to the statutory RSE curriculum\, to review the curriculum for your child’s year group\, to review the resources and to understand the withdrawal process.
URL:https://www.southbersted.co.uk/calendar/y2-pshe-parent-information-meeting-2/
END:VEVENT
BEGIN:VEVENT
DTSTART;TZID=Europe/London:20200313T151500
DTEND;TZID=Europe/London:20200313T171500
DTSTAMP:20260424T000758
CREATED:20200214T160905Z
LAST-MODIFIED:20200214T160905Z
UID:10779-1584112500-1584119700@www.southbersted.co.uk
SUMMARY:Film Night (Years 1-6)
DESCRIPTION:Tickets will be available to purchase from Monday 9th March.
URL:https://www.southbersted.co.uk/calendar/film-night-years-1-6-2/
END:VEVENT
BEGIN:VEVENT
DTSTART;TZID=Europe/London:20200313T151500
DTEND;TZID=Europe/London:20200313T171500
DTSTAMP:20260424T000758
CREATED:20200214T160905Z
LAST-MODIFIED:20200214T160905Z
UID:11871-1584112500-1584119700@www.southbersted.co.uk
SUMMARY:Film Night (Years 1-6)
DESCRIPTION:Tickets will be available to purchase from Monday 9th March.
URL:https://www.southbersted.co.uk/calendar/film-night-years-1-6-2-2/
END:VEVENT
BEGIN:VEVENT
DTSTART;TZID=Europe/London:20200313T130000
DTEND;TZID=Europe/London:20200313T150000
DTSTAMP:20260424T000758
CREATED:20200117T152918Z
LAST-MODIFIED:20200117T152918Z
UID:10577-1584104400-1584111600@www.southbersted.co.uk
SUMMARY:Future Flyers (session 2)
DESCRIPTION:Participating children should be transported to and from the event by parents/carers.  Children should be collected from school at 12.45pm.  PE kits including FF t-shirts should be worn.
URL:https://www.southbersted.co.uk/calendar/future-flyers-session-2/
END:VEVENT
BEGIN:VEVENT
DTSTART;TZID=Europe/London:20200313T130000
DTEND;TZID=Europe/London:20200313T150000
DTSTAMP:20260424T000758
CREATED:20200117T152918Z
LAST-MODIFIED:20200117T152918Z
UID:11840-1584104400-1584111600@www.southbersted.co.uk
SUMMARY:Future Flyers (session 2)
DESCRIPTION:Participating children should be transported to and from the event by parents/carers.  Children should be collected from school at 12.45pm.  PE kits including FF t-shirts should be worn.
URL:https://www.southbersted.co.uk/calendar/future-flyers-session-2-2/
END:VEVENT
BEGIN:VEVENT
DTSTART;VALUE=DATE:20200313
DTEND;VALUE=DATE:20200314
DTSTAMP:20260424T000758
CREATED:20200311T135019Z
LAST-MODIFIED:20200311T135019Z
UID:10927-1584057600-1584143999@www.southbersted.co.uk
SUMMARY:Non-Uniform Day
DESCRIPTION:Children may wear SPORTY non-uniform in return for a donation of chocolate for our Easter Fair.
URL:https://www.southbersted.co.uk/calendar/non-uniform-day-7-2/
END:VEVENT
BEGIN:VEVENT
DTSTART;TZID=Europe/London:20200312T130000
DTEND;TZID=Europe/London:20200312T150000
DTSTAMP:20260424T000758
CREATED:20200116T114111Z
LAST-MODIFIED:20200116T114111Z
UID:10547-1584018000-1584025200@www.southbersted.co.uk
SUMMARY:Year 4 Outdoor Learning
DESCRIPTION:Children should bring a change of clothes with them (old clothes\, warm coat\, trainers/wellies – suitable for wearing outside.  Clothes and shoes will get muddy and wet)
URL:https://www.southbersted.co.uk/calendar/year-4-outdoor-learning-3/
END:VEVENT
BEGIN:VEVENT
DTSTART;TZID=Europe/London:20200312T130000
DTEND;TZID=Europe/London:20200312T150000
DTSTAMP:20260424T000758
CREATED:20200116T114111Z
LAST-MODIFIED:20200116T114111Z
UID:11829-1584018000-1584025200@www.southbersted.co.uk
SUMMARY:Year 4 Outdoor Learning
DESCRIPTION:Children should bring a change of clothes with them (old clothes\, warm coat\, trainers/wellies – suitable for wearing outside.  Clothes and shoes will get muddy and wet)
URL:https://www.southbersted.co.uk/calendar/year-4-outdoor-learning-3-2/
END:VEVENT
BEGIN:VEVENT
DTSTART;TZID=Europe/London:20200312T090000
DTEND;TZID=Europe/London:20200312T100000
DTSTAMP:20260424T000758
CREATED:20200213T105307Z
LAST-MODIFIED:20200213T105307Z
UID:10751-1584003600-1584007200@www.southbersted.co.uk
SUMMARY:Y3 PSHE Parent Information Meeting
DESCRIPTION:Parents and carers are invited to attend a meeting to find out more about the changes to the statutory RSE curriculum\, to review the curriculum for your child’s year group\, to review the resources and to understand the withdrawal process.
URL:https://www.southbersted.co.uk/calendar/y3-pshe-parent-information-meeting/
END:VEVENT
BEGIN:VEVENT
DTSTART;TZID=Europe/London:20200312T090000
DTEND;TZID=Europe/London:20200312T100000
DTSTAMP:20260424T000758
CREATED:20200213T105307Z
LAST-MODIFIED:20200213T105307Z
UID:11866-1584003600-1584007200@www.southbersted.co.uk
SUMMARY:Y3 PSHE Parent Information Meeting
DESCRIPTION:Parents and carers are invited to attend a meeting to find out more about the changes to the statutory RSE curriculum\, to review the curriculum for your child’s year group\, to review the resources and to understand the withdrawal process.
URL:https://www.southbersted.co.uk/calendar/y3-pshe-parent-information-meeting-2/
END:VEVENT
BEGIN:VEVENT
DTSTART;VALUE=DATE:20200312
DTEND;VALUE=DATE:20200313
DTSTAMP:20260424T000758
CREATED:20191015T123500Z
LAST-MODIFIED:20191015T123500Z
UID:10040-1583971200-1584057599@www.southbersted.co.uk
SUMMARY:The Big Sing at The Arena
DESCRIPTION:More details to follow in due course
URL:https://www.southbersted.co.uk/calendar/the-big-sing-at-the-arena-2/
END:VEVENT
END:VCALENDAR