BEGIN:VCALENDAR
VERSION:2.0
PRODID:-//South Bersted Primary School - ECPv6.15.5//NONSGML v1.0//EN
CALSCALE:GREGORIAN
METHOD:PUBLISH
X-WR-CALNAME:South Bersted Primary School
X-ORIGINAL-URL:https://www.southbersted.co.uk
X-WR-CALDESC:Events for South Bersted Primary School
REFRESH-INTERVAL;VALUE=DURATION:PT1H
X-Robots-Tag:noindex
X-PUBLISHED-TTL:PT1H
BEGIN:VTIMEZONE
TZID:Europe/London
BEGIN:DAYLIGHT
TZOFFSETFROM:+0000
TZOFFSETTO:+0100
TZNAME:BST
DTSTART:20200329T010000
END:DAYLIGHT
BEGIN:STANDARD
TZOFFSETFROM:+0100
TZOFFSETTO:+0000
TZNAME:GMT
DTSTART:20201025T010000
END:STANDARD
END:VTIMEZONE
BEGIN:VEVENT
DTSTART;VALUE=DATE:20200429
DTEND;VALUE=DATE:20200430
DTSTAMP:20260424T000758
CREATED:20191015T130106Z
LAST-MODIFIED:20191015T130106Z
UID:11771-1588118400-1588204799@www.southbersted.co.uk
SUMMARY:Reception Class to Staunton Country Park
DESCRIPTION:Further details will follow in due course
URL:https://www.southbersted.co.uk/calendar/reception-class-to-staunton-country-park-2/
END:VEVENT
BEGIN:VEVENT
DTSTART;TZID=Europe/London:20200424T090000
DTEND;TZID=Europe/London:20200424T094500
DTSTAMP:20260424T000758
CREATED:20191015T130030Z
LAST-MODIFIED:20191015T130030Z
UID:10055-1587718800-1587721500@www.southbersted.co.uk
SUMMARY:Church Service
DESCRIPTION:Parents and carers are invited to join us for the church service at the start of Summer term
URL:https://www.southbersted.co.uk/calendar/church-service-11/
END:VEVENT
BEGIN:VEVENT
DTSTART;TZID=Europe/London:20200424T090000
DTEND;TZID=Europe/London:20200424T094500
DTSTAMP:20260424T000758
CREATED:20191015T130030Z
LAST-MODIFIED:20191015T130030Z
UID:11770-1587718800-1587721500@www.southbersted.co.uk
SUMMARY:Church Service
DESCRIPTION:Parents and carers are invited to join us for the church service at the start of Summer term
URL:https://www.southbersted.co.uk/calendar/church-service-11-2/
END:VEVENT
BEGIN:VEVENT
DTSTART;VALUE=DATE:20200420
DTEND;VALUE=DATE:20200421
DTSTAMP:20260424T000758
CREATED:20190709T102808Z
LAST-MODIFIED:20190709T102808Z
UID:9444-1587340800-1587427199@www.southbersted.co.uk
SUMMARY:INSET DAY
DESCRIPTION:
URL:https://www.southbersted.co.uk/calendar/inset-day-8/
END:VEVENT
BEGIN:VEVENT
DTSTART;VALUE=DATE:20200420
DTEND;VALUE=DATE:20200421
DTSTAMP:20260424T000758
CREATED:20190709T102808Z
LAST-MODIFIED:20190709T102808Z
UID:11699-1587340800-1587427199@www.southbersted.co.uk
SUMMARY:INSET DAY
DESCRIPTION:
URL:https://www.southbersted.co.uk/calendar/inset-day-8-2/
END:VEVENT
BEGIN:VEVENT
DTSTART;VALUE=DATE:20200404
DTEND;VALUE=DATE:20200420
DTSTAMP:20260424T000758
CREATED:20190717T093757Z
LAST-MODIFIED:20190717T093757Z
UID:9492-1585958400-1587340799@www.southbersted.co.uk
SUMMARY:Easter Holidays
DESCRIPTION:
URL:https://www.southbersted.co.uk/calendar/easter-holidays/
END:VEVENT
BEGIN:VEVENT
DTSTART;VALUE=DATE:20200404
DTEND;VALUE=DATE:20200420
DTSTAMP:20260424T000758
CREATED:20190717T093757Z
LAST-MODIFIED:20190717T093757Z
UID:11712-1585958400-1587340799@www.southbersted.co.uk
SUMMARY:Easter Holidays
DESCRIPTION:
URL:https://www.southbersted.co.uk/calendar/easter-holidays-3/
END:VEVENT
BEGIN:VEVENT
DTSTART;TZID=Europe/London:20200403T090000
DTEND;TZID=Europe/London:20200403T094500
DTSTAMP:20260424T000758
CREATED:20191015T125646Z
LAST-MODIFIED:20191015T125646Z
UID:10050-1585904400-1585907100@www.southbersted.co.uk
SUMMARY:Church Service
DESCRIPTION:Parents and carers are invited to join us for the end of term church service
URL:https://www.southbersted.co.uk/calendar/church-service-10/
END:VEVENT
BEGIN:VEVENT
DTSTART;TZID=Europe/London:20200403T090000
DTEND;TZID=Europe/London:20200403T094500
DTSTAMP:20260424T000758
CREATED:20191015T125646Z
LAST-MODIFIED:20191015T125646Z
UID:11768-1585904400-1585907100@www.southbersted.co.uk
SUMMARY:Church Service
DESCRIPTION:Parents and carers are invited to join us for the end of term church service
URL:https://www.southbersted.co.uk/calendar/church-service-10-2/
END:VEVENT
BEGIN:VEVENT
DTSTART;TZID=Europe/London:20200403T090000
DTEND;TZID=Europe/London:20200403T090000
DTSTAMP:20260424T000758
CREATED:20191015T125912Z
LAST-MODIFIED:20191015T125912Z
UID:10053-1585904400-1585904400@www.southbersted.co.uk
SUMMARY:Flowering of the Cross
DESCRIPTION:Children are invited to bring a spring flower to school this morning\, to place on our cross which will then be carried to the church for the Easter end of term service
URL:https://www.southbersted.co.uk/calendar/flowering-of-the-cross/
END:VEVENT
BEGIN:VEVENT
DTSTART;TZID=Europe/London:20200403T090000
DTEND;TZID=Europe/London:20200403T090000
DTSTAMP:20260424T000758
CREATED:20191015T125912Z
LAST-MODIFIED:20191015T125912Z
UID:11769-1585904400-1585904400@www.southbersted.co.uk
SUMMARY:Flowering of the Cross
DESCRIPTION:Children are invited to bring a spring flower to school this morning\, to place on our cross which will then be carried to the church for the Easter end of term service
URL:https://www.southbersted.co.uk/calendar/flowering-of-the-cross-2/
END:VEVENT
BEGIN:VEVENT
DTSTART;TZID=Europe/London:20200402T150000
DTEND;TZID=Europe/London:20200402T160000
DTSTAMP:20260424T000758
CREATED:20191015T125540Z
LAST-MODIFIED:20191015T125540Z
UID:10047-1585839600-1585843200@www.southbersted.co.uk
SUMMARY:Easter Fair
DESCRIPTION:More details to follow
URL:https://www.southbersted.co.uk/calendar/easter-fair/
END:VEVENT
BEGIN:VEVENT
DTSTART;TZID=Europe/London:20200402T150000
DTEND;TZID=Europe/London:20200402T160000
DTSTAMP:20260424T000758
CREATED:20191015T125540Z
LAST-MODIFIED:20191015T125540Z
UID:11767-1585839600-1585843200@www.southbersted.co.uk
SUMMARY:Easter Fair
DESCRIPTION:More details to follow
URL:https://www.southbersted.co.uk/calendar/easter-fair-2/
END:VEVENT
BEGIN:VEVENT
DTSTART;TZID=Europe/London:20200402T130000
DTEND;TZID=Europe/London:20200402T150000
DTSTAMP:20260424T000758
CREATED:20200116T114957Z
LAST-MODIFIED:20200116T114957Z
UID:10559-1585832400-1585839600@www.southbersted.co.uk
SUMMARY:Year 1 Outdoor Learning
DESCRIPTION:Children should bring a change of clothes with them (old clothes\, warm coat\, trainers/wellies – suitable for wearing outside.  Clothes and shoes will get muddy and wet)
URL:https://www.southbersted.co.uk/calendar/year-1-outdoor-learning-2/
END:VEVENT
BEGIN:VEVENT
DTSTART;TZID=Europe/London:20200402T130000
DTEND;TZID=Europe/London:20200402T150000
DTSTAMP:20260424T000758
CREATED:20200116T114957Z
LAST-MODIFIED:20200116T114957Z
UID:11834-1585832400-1585839600@www.southbersted.co.uk
SUMMARY:Year 1 Outdoor Learning
DESCRIPTION:Children should bring a change of clothes with them (old clothes\, warm coat\, trainers/wellies – suitable for wearing outside.  Clothes and shoes will get muddy and wet)
URL:https://www.southbersted.co.uk/calendar/year-1-outdoor-learning-2-2/
END:VEVENT
BEGIN:VEVENT
DTSTART;VALUE=DATE:20200401
DTEND;VALUE=DATE:20200402
DTSTAMP:20260424T000758
CREATED:20191015T125411Z
LAST-MODIFIED:20191015T125411Z
UID:10045-1585699200-1585785599@www.southbersted.co.uk
SUMMARY:Year 2 visiting Arundel Castle
DESCRIPTION:During the visit the children will take part in the ‘Exploring Arundel Castle’ tour and will explore the grounds.  They will also handle artefacts and try on traditional period costumes
URL:https://www.southbersted.co.uk/calendar/year-2-visiting-arundel-castle/
END:VEVENT
BEGIN:VEVENT
DTSTART;VALUE=DATE:20200401
DTEND;VALUE=DATE:20200402
DTSTAMP:20260424T000758
CREATED:20191015T125411Z
LAST-MODIFIED:20191015T125411Z
UID:11766-1585699200-1585785599@www.southbersted.co.uk
SUMMARY:Year 2 visiting Arundel Castle
DESCRIPTION:During the visit the children will take part in the ‘Exploring Arundel Castle’ tour and will explore the grounds.  They will also handle artefacts and try on traditional period costumes
URL:https://www.southbersted.co.uk/calendar/year-2-visiting-arundel-castle-2/
END:VEVENT
BEGIN:VEVENT
DTSTART;TZID=Europe/London:20200327T090000
DTEND;TZID=Europe/London:20200327T093000
DTSTAMP:20260424T000758
CREATED:20200224T105543Z
LAST-MODIFIED:20200224T105543Z
UID:10800-1585299600-1585301400@www.southbersted.co.uk
SUMMARY:Year 1 Class Collective Worship
DESCRIPTION:Year 1 parents and carers are invited to join us for Collective Worship at 9.00am
URL:https://www.southbersted.co.uk/calendar/year-1-class-collective-worship-3/
END:VEVENT
BEGIN:VEVENT
DTSTART;TZID=Europe/London:20200327T090000
DTEND;TZID=Europe/London:20200327T093000
DTSTAMP:20260424T000758
CREATED:20200224T105543Z
LAST-MODIFIED:20200224T105543Z
UID:11878-1585299600-1585301400@www.southbersted.co.uk
SUMMARY:Year 1 Class Collective Worship
DESCRIPTION:Year 1 parents and carers are invited to join us for Collective Worship at 9.00am
URL:https://www.southbersted.co.uk/calendar/year-1-class-collective-worship-3-2/
END:VEVENT
BEGIN:VEVENT
DTSTART;TZID=Europe/London:20200326T130000
DTEND;TZID=Europe/London:20200326T150000
DTSTAMP:20260424T000758
CREATED:20200116T114918Z
LAST-MODIFIED:20200116T114918Z
UID:10556-1585227600-1585234800@www.southbersted.co.uk
SUMMARY:Year 2 Outdoor Learning
DESCRIPTION:Children should bring a change of clothes with them (old clothes\, warm coat\, trainers/wellies – suitable for wearing outside.  Clothes and shoes will get muddy and wet)
URL:https://www.southbersted.co.uk/calendar/year-2-outdoor-learning-3/
END:VEVENT
BEGIN:VEVENT
DTSTART;TZID=Europe/London:20200326T130000
DTEND;TZID=Europe/London:20200326T150000
DTSTAMP:20260424T000758
CREATED:20200116T114918Z
LAST-MODIFIED:20200116T114918Z
UID:11833-1585227600-1585234800@www.southbersted.co.uk
SUMMARY:Year 2 Outdoor Learning
DESCRIPTION:Children should bring a change of clothes with them (old clothes\, warm coat\, trainers/wellies – suitable for wearing outside.  Clothes and shoes will get muddy and wet)
URL:https://www.southbersted.co.uk/calendar/year-2-outdoor-learning-3-2/
END:VEVENT
BEGIN:VEVENT
DTSTART;TZID=Europe/London:20200325T090000
DTEND;TZID=Europe/London:20200325T150000
DTSTAMP:20260424T000758
CREATED:20191210T131925Z
LAST-MODIFIED:20191210T131925Z
UID:10376-1585126800-1585148400@www.southbersted.co.uk
SUMMARY:Year 1 visiting Weald and Downland Museum
DESCRIPTION:To support their question ‘Why are houses made of brick?’\, Year 1 will be visiting the Weald and Downland Museum.
URL:https://www.southbersted.co.uk/calendar/year-1-visiting-weald-and-downland-museum/
END:VEVENT
BEGIN:VEVENT
DTSTART;TZID=Europe/London:20200325T090000
DTEND;TZID=Europe/London:20200325T150000
DTSTAMP:20260424T000758
CREATED:20191210T131925Z
LAST-MODIFIED:20191210T131925Z
UID:11797-1585126800-1585148400@www.southbersted.co.uk
SUMMARY:Year 1 visiting Weald and Downland Museum
DESCRIPTION:To support their question ‘Why are houses made of brick?’\, Year 1 will be visiting the Weald and Downland Museum.
URL:https://www.southbersted.co.uk/calendar/year-1-visiting-weald-and-downland-museum-2/
END:VEVENT
BEGIN:VEVENT
DTSTART;TZID=Europe/London:20200324T180000
DTEND;TZID=Europe/London:20200324T210000
DTSTAMP:20260424T000758
CREATED:20200114T124104Z
LAST-MODIFIED:20200114T124104Z
UID:10513-1585072800-1585083600@www.southbersted.co.uk
SUMMARY:Dance House Performance
DESCRIPTION:The evening performance will take place at the Alexandra Theatre – exact timings to be confirmed
URL:https://www.southbersted.co.uk/calendar/dance-house-performance-2/
END:VEVENT
BEGIN:VEVENT
DTSTART;TZID=Europe/London:20200324T180000
DTEND;TZID=Europe/London:20200324T210000
DTSTAMP:20260424T000758
CREATED:20200114T124104Z
LAST-MODIFIED:20200114T124104Z
UID:11820-1585072800-1585083600@www.southbersted.co.uk
SUMMARY:Dance House Performance
DESCRIPTION:The evening performance will take place at the Alexandra Theatre – exact timings to be confirmed
URL:https://www.southbersted.co.uk/calendar/dance-house-performance-2-2/
END:VEVENT
BEGIN:VEVENT
DTSTART;TZID=Europe/London:20200324T151500
DTEND;TZID=Europe/London:20200324T160000
DTSTAMP:20260424T000758
CREATED:20200114T124527Z
LAST-MODIFIED:20200114T124527Z
UID:10521-1585062900-1585065600@www.southbersted.co.uk
SUMMARY:Gym Club (final session)
DESCRIPTION:
URL:https://www.southbersted.co.uk/calendar/gym-club-final-session/
END:VEVENT
BEGIN:VEVENT
DTSTART;TZID=Europe/London:20200324T151500
DTEND;TZID=Europe/London:20200324T160000
DTSTAMP:20260424T000758
CREATED:20200114T124527Z
LAST-MODIFIED:20200114T124527Z
UID:11823-1585062900-1585065600@www.southbersted.co.uk
SUMMARY:Gym Club (final session)
DESCRIPTION:
URL:https://www.southbersted.co.uk/calendar/gym-club-final-session-2/
END:VEVENT
BEGIN:VEVENT
DTSTART;TZID=Europe/London:20200324T130000
DTEND;TZID=Europe/London:20200324T150000
DTSTAMP:20260424T000758
CREATED:20200114T124153Z
LAST-MODIFIED:20200114T124153Z
UID:10516-1585054800-1585062000@www.southbersted.co.uk
SUMMARY:Dance House Rehearsal
DESCRIPTION:Afternoon rehearsal at The Alexandra Theatre – exact timings to be confirmed
URL:https://www.southbersted.co.uk/calendar/dance-house-rehearsal-2/
END:VEVENT
BEGIN:VEVENT
DTSTART;TZID=Europe/London:20200324T130000
DTEND;TZID=Europe/London:20200324T150000
DTSTAMP:20260424T000758
CREATED:20200114T124153Z
LAST-MODIFIED:20200114T124153Z
UID:11821-1585054800-1585062000@www.southbersted.co.uk
SUMMARY:Dance House Rehearsal
DESCRIPTION:Afternoon rehearsal at The Alexandra Theatre – exact timings to be confirmed
URL:https://www.southbersted.co.uk/calendar/dance-house-rehearsal-2-2/
END:VEVENT
BEGIN:VEVENT
DTSTART;TZID=Europe/London:20200323T151500
DTEND;TZID=Europe/London:20200323T161500
DTSTAMP:20260424T000758
CREATED:20200114T124431Z
LAST-MODIFIED:20200114T124431Z
UID:10519-1584976500-1584980100@www.southbersted.co.uk
SUMMARY:Netball Club (final session)
DESCRIPTION:
URL:https://www.southbersted.co.uk/calendar/netball-club-final-session-2/
END:VEVENT
END:VCALENDAR