BEGIN:VCALENDAR
VERSION:2.0
PRODID:-//South Bersted Primary School - ECPv6.15.5//NONSGML v1.0//EN
CALSCALE:GREGORIAN
METHOD:PUBLISH
X-WR-CALNAME:South Bersted Primary School
X-ORIGINAL-URL:https://www.southbersted.co.uk
X-WR-CALDESC:Events for South Bersted Primary School
REFRESH-INTERVAL;VALUE=DURATION:PT1H
X-Robots-Tag:noindex
X-PUBLISHED-TTL:PT1H
BEGIN:VTIMEZONE
TZID:Europe/London
BEGIN:DAYLIGHT
TZOFFSETFROM:+0000
TZOFFSETTO:+0100
TZNAME:BST
DTSTART:20200329T010000
END:DAYLIGHT
BEGIN:STANDARD
TZOFFSETFROM:+0100
TZOFFSETTO:+0000
TZNAME:GMT
DTSTART:20201025T010000
END:STANDARD
END:VTIMEZONE
BEGIN:VEVENT
DTSTART;VALUE=DATE:20200608
DTEND;VALUE=DATE:20200613
DTSTAMP:20260423T211214
CREATED:20191015T130724Z
LAST-MODIFIED:20191015T130724Z
UID:11777-1591574400-1592006399@www.southbersted.co.uk
SUMMARY:Year 1 / 2 Phonics Screening
DESCRIPTION:All Year 1 children (and some children in Year 2) will take the phonics screening test this week.  More details will follow in due course.
URL:https://www.southbersted.co.uk/calendar/year-1-2-phonics-screening-2/
END:VEVENT
BEGIN:VEVENT
DTSTART;VALUE=DATE:20200603
DTEND;VALUE=DATE:20200606
DTSTAMP:20260423T211214
CREATED:20191015T130621Z
LAST-MODIFIED:20191015T130621Z
UID:10072-1591142400-1591401599@www.southbersted.co.uk
SUMMARY:Year 4 Residential
DESCRIPTION:More details will follow in due course
URL:https://www.southbersted.co.uk/calendar/year-4-residential-2/
END:VEVENT
BEGIN:VEVENT
DTSTART;VALUE=DATE:20200603
DTEND;VALUE=DATE:20200606
DTSTAMP:20260423T211214
CREATED:20191015T130621Z
LAST-MODIFIED:20191015T130621Z
UID:11776-1591142400-1591401599@www.southbersted.co.uk
SUMMARY:Year 4 Residential
DESCRIPTION:More details will follow in due course
URL:https://www.southbersted.co.uk/calendar/year-4-residential-2-2/
END:VEVENT
BEGIN:VEVENT
DTSTART;VALUE=DATE:20200525
DTEND;VALUE=DATE:20200530
DTSTAMP:20260423T211214
CREATED:20190717T093956Z
LAST-MODIFIED:20190717T093956Z
UID:9496-1590364800-1590796799@www.southbersted.co.uk
SUMMARY:Half Term
DESCRIPTION:
URL:https://www.southbersted.co.uk/calendar/half-term-6/
END:VEVENT
BEGIN:VEVENT
DTSTART;VALUE=DATE:20200525
DTEND;VALUE=DATE:20200530
DTSTAMP:20260423T211214
CREATED:20190717T093956Z
LAST-MODIFIED:20190717T093956Z
UID:11714-1590364800-1590796799@www.southbersted.co.uk
SUMMARY:Half Term
DESCRIPTION:
URL:https://www.southbersted.co.uk/calendar/half-term-6-2/
END:VEVENT
BEGIN:VEVENT
DTSTART;VALUE=DATE:20200518
DTEND;VALUE=DATE:20200523
DTSTAMP:20260423T211214
CREATED:20191015T130430Z
LAST-MODIFIED:20191015T130430Z
UID:10066-1589760000-1590191999@www.southbersted.co.uk
SUMMARY:Year 2 NCTs (SATs) - week 2
DESCRIPTION:More details to follow in due course
URL:https://www.southbersted.co.uk/calendar/year-2-ncts-sats-week-2/
END:VEVENT
BEGIN:VEVENT
DTSTART;VALUE=DATE:20200518
DTEND;VALUE=DATE:20200523
DTSTAMP:20260423T211214
CREATED:20191015T130430Z
LAST-MODIFIED:20191015T130430Z
UID:11774-1589760000-1590191999@www.southbersted.co.uk
SUMMARY:Year 2 NCTs (SATs) - week 2
DESCRIPTION:More details to follow in due course
URL:https://www.southbersted.co.uk/calendar/year-2-ncts-sats-week-2-2/
END:VEVENT
BEGIN:VEVENT
DTSTART;VALUE=DATE:20200511
DTEND;VALUE=DATE:20200516
DTSTAMP:20260423T211214
CREATED:20191015T121429Z
LAST-MODIFIED:20191015T121429Z
UID:10037-1589155200-1589587199@www.southbersted.co.uk
SUMMARY:Year 6 NCTs (SATs)
DESCRIPTION:Further information will follow in due course
URL:https://www.southbersted.co.uk/calendar/year-6-ncts-sats/
END:VEVENT
BEGIN:VEVENT
DTSTART;VALUE=DATE:20200511
DTEND;VALUE=DATE:20200516
DTSTAMP:20260423T211214
CREATED:20191015T121429Z
LAST-MODIFIED:20191015T121429Z
UID:11763-1589155200-1589587199@www.southbersted.co.uk
SUMMARY:Year 6 NCTs (SATs)
DESCRIPTION:Further information will follow in due course
URL:https://www.southbersted.co.uk/calendar/year-6-ncts-sats-2/
END:VEVENT
BEGIN:VEVENT
DTSTART;VALUE=DATE:20200508
DTEND;VALUE=DATE:20200509
DTSTAMP:20260423T211214
CREATED:20190717T093852Z
LAST-MODIFIED:20190717T093852Z
UID:9494-1588896000-1588982399@www.southbersted.co.uk
SUMMARY:Bank Holiday
DESCRIPTION:
URL:https://www.southbersted.co.uk/calendar/bank-holiday-2/
END:VEVENT
BEGIN:VEVENT
DTSTART;VALUE=DATE:20200508
DTEND;VALUE=DATE:20200509
DTSTAMP:20260423T211214
CREATED:20190717T093852Z
LAST-MODIFIED:20190717T093852Z
UID:11713-1588896000-1588982399@www.southbersted.co.uk
SUMMARY:Bank Holiday
DESCRIPTION:
URL:https://www.southbersted.co.uk/calendar/bank-holiday-2-2/
END:VEVENT
BEGIN:VEVENT
DTSTART;TZID=Europe/London:20200506T130000
DTEND;TZID=Europe/London:20200506T150000
DTSTAMP:20260423T211214
CREATED:20200117T153013Z
LAST-MODIFIED:20200117T153013Z
UID:10580-1588770000-1588777200@www.southbersted.co.uk
SUMMARY:Future Flyers (session 3)
DESCRIPTION:Participating children should be transported to and from the event by parents/carers.  Children should be collected from school at 12.45pm.  PE kit is required\, including FF t-shirts.
URL:https://www.southbersted.co.uk/calendar/future-flyers-session-3/
END:VEVENT
BEGIN:VEVENT
DTSTART;TZID=Europe/London:20200506T130000
DTEND;TZID=Europe/London:20200506T150000
DTSTAMP:20260423T211214
CREATED:20200117T153013Z
LAST-MODIFIED:20200117T153013Z
UID:11841-1588770000-1588777200@www.southbersted.co.uk
SUMMARY:Future Flyers (session 3)
DESCRIPTION:Participating children should be transported to and from the event by parents/carers.  Children should be collected from school at 12.45pm.  PE kit is required\, including FF t-shirts.
URL:https://www.southbersted.co.uk/calendar/future-flyers-session-3-2/
END:VEVENT
BEGIN:VEVENT
DTSTART;TZID=Europe/London:20200505T170000
DTEND;TZID=Europe/London:20200505T190000
DTSTAMP:20260423T211214
CREATED:20191015T130311Z
LAST-MODIFIED:20191015T130311Z
UID:10064-1588698000-1588705200@www.southbersted.co.uk
SUMMARY:Governors Monthly Meeting
DESCRIPTION:
URL:https://www.southbersted.co.uk/calendar/governors-monthly-meeting-12/
END:VEVENT
BEGIN:VEVENT
DTSTART;TZID=Europe/London:20200505T170000
DTEND;TZID=Europe/London:20200505T190000
DTSTAMP:20260423T211214
CREATED:20191015T130311Z
LAST-MODIFIED:20191015T130311Z
UID:11773-1588698000-1588705200@www.southbersted.co.uk
SUMMARY:Governors Monthly Meeting
DESCRIPTION:
URL:https://www.southbersted.co.uk/calendar/governors-monthly-meeting-12-2/
END:VEVENT
BEGIN:VEVENT
DTSTART;TZID=Europe/London:20200504T080000
DTEND;TZID=Europe/London:20200504T120000
DTSTAMP:20260423T211214
CREATED:20191015T130241Z
LAST-MODIFIED:20191015T130241Z
UID:10061-1588579200-1588593600@www.southbersted.co.uk
SUMMARY:Class Photographs
DESCRIPTION:The school photographer will visit to take class photographs.  Any children who were not present for the individual photographs in October will also have their individual photograph taken at this time.
URL:https://www.southbersted.co.uk/calendar/class-photographs-2/
END:VEVENT
BEGIN:VEVENT
DTSTART;TZID=Europe/London:20200504T080000
DTEND;TZID=Europe/London:20200504T120000
DTSTAMP:20260423T211214
CREATED:20191015T130241Z
LAST-MODIFIED:20191015T130241Z
UID:11772-1588579200-1588593600@www.southbersted.co.uk
SUMMARY:Class Photographs
DESCRIPTION:The school photographer will visit to take class photographs.  Any children who were not present for the individual photographs in October will also have their individual photograph taken at this time.
URL:https://www.southbersted.co.uk/calendar/class-photographs-2-2/
END:VEVENT
BEGIN:VEVENT
DTSTART;VALUE=DATE:20200504
DTEND;VALUE=DATE:20200509
DTSTAMP:20260423T211214
CREATED:20191015T130520Z
LAST-MODIFIED:20191015T130520Z
UID:10069-1588550400-1588982399@www.southbersted.co.uk
SUMMARY:Year 2 NCTs (SATs) - week 1
DESCRIPTION:
URL:https://www.southbersted.co.uk/calendar/year-2-ncts-sats-week-1/
END:VEVENT
BEGIN:VEVENT
DTSTART;VALUE=DATE:20200504
DTEND;VALUE=DATE:20200509
DTSTAMP:20260423T211214
CREATED:20191015T130520Z
LAST-MODIFIED:20191015T130520Z
UID:11775-1588550400-1588982399@www.southbersted.co.uk
SUMMARY:Year 2 NCTs (SATs) - week 1
DESCRIPTION:
URL:https://www.southbersted.co.uk/calendar/year-2-ncts-sats-week-1-2/
END:VEVENT
BEGIN:VEVENT
DTSTART;VALUE=DATE:20200429
DTEND;VALUE=DATE:20200430
DTSTAMP:20260423T211214
CREATED:20191015T130106Z
LAST-MODIFIED:20191015T130106Z
UID:10058-1588118400-1588204799@www.southbersted.co.uk
SUMMARY:Reception Class to Staunton Country Park
DESCRIPTION:Further details will follow in due course
URL:https://www.southbersted.co.uk/calendar/reception-class-to-staunton-country-park/
END:VEVENT
BEGIN:VEVENT
DTSTART;VALUE=DATE:20200429
DTEND;VALUE=DATE:20200430
DTSTAMP:20260423T211214
CREATED:20191015T130106Z
LAST-MODIFIED:20191015T130106Z
UID:11771-1588118400-1588204799@www.southbersted.co.uk
SUMMARY:Reception Class to Staunton Country Park
DESCRIPTION:Further details will follow in due course
URL:https://www.southbersted.co.uk/calendar/reception-class-to-staunton-country-park-2/
END:VEVENT
BEGIN:VEVENT
DTSTART;TZID=Europe/London:20200424T090000
DTEND;TZID=Europe/London:20200424T094500
DTSTAMP:20260423T211214
CREATED:20191015T130030Z
LAST-MODIFIED:20191015T130030Z
UID:10055-1587718800-1587721500@www.southbersted.co.uk
SUMMARY:Church Service
DESCRIPTION:Parents and carers are invited to join us for the church service at the start of Summer term
URL:https://www.southbersted.co.uk/calendar/church-service-11/
END:VEVENT
BEGIN:VEVENT
DTSTART;TZID=Europe/London:20200424T090000
DTEND;TZID=Europe/London:20200424T094500
DTSTAMP:20260423T211214
CREATED:20191015T130030Z
LAST-MODIFIED:20191015T130030Z
UID:11770-1587718800-1587721500@www.southbersted.co.uk
SUMMARY:Church Service
DESCRIPTION:Parents and carers are invited to join us for the church service at the start of Summer term
URL:https://www.southbersted.co.uk/calendar/church-service-11-2/
END:VEVENT
BEGIN:VEVENT
DTSTART;VALUE=DATE:20200420
DTEND;VALUE=DATE:20200421
DTSTAMP:20260423T211214
CREATED:20190709T102808Z
LAST-MODIFIED:20190709T102808Z
UID:9444-1587340800-1587427199@www.southbersted.co.uk
SUMMARY:INSET DAY
DESCRIPTION:
URL:https://www.southbersted.co.uk/calendar/inset-day-8/
END:VEVENT
BEGIN:VEVENT
DTSTART;VALUE=DATE:20200420
DTEND;VALUE=DATE:20200421
DTSTAMP:20260423T211214
CREATED:20190709T102808Z
LAST-MODIFIED:20190709T102808Z
UID:11699-1587340800-1587427199@www.southbersted.co.uk
SUMMARY:INSET DAY
DESCRIPTION:
URL:https://www.southbersted.co.uk/calendar/inset-day-8-2/
END:VEVENT
BEGIN:VEVENT
DTSTART;VALUE=DATE:20200404
DTEND;VALUE=DATE:20200420
DTSTAMP:20260423T211214
CREATED:20190717T093757Z
LAST-MODIFIED:20190717T093757Z
UID:9492-1585958400-1587340799@www.southbersted.co.uk
SUMMARY:Easter Holidays
DESCRIPTION:
URL:https://www.southbersted.co.uk/calendar/easter-holidays/
END:VEVENT
BEGIN:VEVENT
DTSTART;VALUE=DATE:20200404
DTEND;VALUE=DATE:20200420
DTSTAMP:20260423T211214
CREATED:20190717T093757Z
LAST-MODIFIED:20190717T093757Z
UID:11712-1585958400-1587340799@www.southbersted.co.uk
SUMMARY:Easter Holidays
DESCRIPTION:
URL:https://www.southbersted.co.uk/calendar/easter-holidays-3/
END:VEVENT
BEGIN:VEVENT
DTSTART;TZID=Europe/London:20200403T090000
DTEND;TZID=Europe/London:20200403T094500
DTSTAMP:20260423T211214
CREATED:20191015T125646Z
LAST-MODIFIED:20191015T125646Z
UID:10050-1585904400-1585907100@www.southbersted.co.uk
SUMMARY:Church Service
DESCRIPTION:Parents and carers are invited to join us for the end of term church service
URL:https://www.southbersted.co.uk/calendar/church-service-10/
END:VEVENT
BEGIN:VEVENT
DTSTART;TZID=Europe/London:20200403T090000
DTEND;TZID=Europe/London:20200403T094500
DTSTAMP:20260423T211214
CREATED:20191015T125646Z
LAST-MODIFIED:20191015T125646Z
UID:11768-1585904400-1585907100@www.southbersted.co.uk
SUMMARY:Church Service
DESCRIPTION:Parents and carers are invited to join us for the end of term church service
URL:https://www.southbersted.co.uk/calendar/church-service-10-2/
END:VEVENT
BEGIN:VEVENT
DTSTART;TZID=Europe/London:20200403T090000
DTEND;TZID=Europe/London:20200403T090000
DTSTAMP:20260423T211214
CREATED:20191015T125912Z
LAST-MODIFIED:20191015T125912Z
UID:10053-1585904400-1585904400@www.southbersted.co.uk
SUMMARY:Flowering of the Cross
DESCRIPTION:Children are invited to bring a spring flower to school this morning\, to place on our cross which will then be carried to the church for the Easter end of term service
URL:https://www.southbersted.co.uk/calendar/flowering-of-the-cross/
END:VEVENT
END:VCALENDAR