BEGIN:VCALENDAR
VERSION:2.0
PRODID:-//South Bersted Primary School - ECPv6.15.5//NONSGML v1.0//EN
CALSCALE:GREGORIAN
METHOD:PUBLISH
X-WR-CALNAME:South Bersted Primary School
X-ORIGINAL-URL:https://www.southbersted.co.uk
X-WR-CALDESC:Events for South Bersted Primary School
REFRESH-INTERVAL;VALUE=DURATION:PT1H
X-Robots-Tag:noindex
X-PUBLISHED-TTL:PT1H
BEGIN:VTIMEZONE
TZID:Europe/London
BEGIN:DAYLIGHT
TZOFFSETFROM:+0000
TZOFFSETTO:+0100
TZNAME:BST
DTSTART:20200329T010000
END:DAYLIGHT
BEGIN:STANDARD
TZOFFSETFROM:+0100
TZOFFSETTO:+0000
TZNAME:GMT
DTSTART:20201025T010000
END:STANDARD
END:VTIMEZONE
BEGIN:VEVENT
DTSTART;VALUE=DATE:20200701
DTEND;VALUE=DATE:20200702
DTSTAMP:20260423T181201
CREATED:20191015T131958Z
LAST-MODIFIED:20191015T131958Z
UID:10097-1593561600-1593647999@www.southbersted.co.uk
SUMMARY:Transition Day
DESCRIPTION:Children will spend time in their new classrooms meeting their new class teachers for next year.  Year 6 children will spend the day in their new secondary schools.
URL:https://www.southbersted.co.uk/calendar/transition-day-2/
END:VEVENT
BEGIN:VEVENT
DTSTART;VALUE=DATE:20200701
DTEND;VALUE=DATE:20200702
DTSTAMP:20260423T181201
CREATED:20191015T131958Z
LAST-MODIFIED:20191015T131958Z
UID:11784-1593561600-1593647999@www.southbersted.co.uk
SUMMARY:Transition Day
DESCRIPTION:Children will spend time in their new classrooms meeting their new class teachers for next year.  Year 6 children will spend the day in their new secondary schools.
URL:https://www.southbersted.co.uk/calendar/transition-day-2-2/
END:VEVENT
BEGIN:VEVENT
DTSTART;VALUE=DATE:20200630
DTEND;VALUE=DATE:20200701
DTSTAMP:20260423T181201
CREATED:20191015T131822Z
LAST-MODIFIED:20191015T131822Z
UID:10092-1593475200-1593561599@www.southbersted.co.uk
SUMMARY:Year 5 - Magic Day at Felpham Community College
DESCRIPTION:Further details will be issued in due course
URL:https://www.southbersted.co.uk/calendar/year-5-magic-day-at-felpham-community-college/
END:VEVENT
BEGIN:VEVENT
DTSTART;VALUE=DATE:20200630
DTEND;VALUE=DATE:20200701
DTSTAMP:20260423T181201
CREATED:20191015T131822Z
LAST-MODIFIED:20191015T131822Z
UID:11783-1593475200-1593561599@www.southbersted.co.uk
SUMMARY:Year 5 - Magic Day at Felpham Community College
DESCRIPTION:Further details will be issued in due course
URL:https://www.southbersted.co.uk/calendar/year-5-magic-day-at-felpham-community-college-2/
END:VEVENT
BEGIN:VEVENT
DTSTART;VALUE=DATE:20200624
DTEND;VALUE=DATE:20200625
DTSTAMP:20260423T181201
CREATED:20191015T131734Z
LAST-MODIFIED:20191015T131734Z
UID:10090-1592956800-1593043199@www.southbersted.co.uk
SUMMARY:Year 2 visiting West Dean Gardens
DESCRIPTION:More details to follow in due course
URL:https://www.southbersted.co.uk/calendar/year-2-visiting-west-dean-gardens-2/
END:VEVENT
BEGIN:VEVENT
DTSTART;VALUE=DATE:20200624
DTEND;VALUE=DATE:20200625
DTSTAMP:20260423T181201
CREATED:20191015T131734Z
LAST-MODIFIED:20191015T131734Z
UID:11782-1592956800-1593043199@www.southbersted.co.uk
SUMMARY:Year 2 visiting West Dean Gardens
DESCRIPTION:More details to follow in due course
URL:https://www.southbersted.co.uk/calendar/year-2-visiting-west-dean-gardens-2-2/
END:VEVENT
BEGIN:VEVENT
DTSTART;VALUE=DATE:20200623
DTEND;VALUE=DATE:20200624
DTSTAMP:20260423T181201
CREATED:20191015T130952Z
LAST-MODIFIED:20191015T130952Z
UID:10086-1592870400-1592956799@www.southbersted.co.uk
SUMMARY:Sports Day
DESCRIPTION:Further details to follow in due course
URL:https://www.southbersted.co.uk/calendar/sports-day/
END:VEVENT
BEGIN:VEVENT
DTSTART;VALUE=DATE:20200623
DTEND;VALUE=DATE:20200624
DTSTAMP:20260423T181201
CREATED:20191015T130952Z
LAST-MODIFIED:20191015T130952Z
UID:11781-1592870400-1592956799@www.southbersted.co.uk
SUMMARY:Sports Day
DESCRIPTION:Further details to follow in due course
URL:https://www.southbersted.co.uk/calendar/sports-day-2/
END:VEVENT
BEGIN:VEVENT
DTSTART;VALUE=DATE:20200615
DTEND;VALUE=DATE:20200620
DTSTAMP:20260423T181201
CREATED:20191015T130911Z
LAST-MODIFIED:20191015T130911Z
UID:10083-1592179200-1592611199@www.southbersted.co.uk
SUMMARY:Year 6 Bikeability
DESCRIPTION:Further details will be sent out in due course
URL:https://www.southbersted.co.uk/calendar/year-6-bikeability-2/
END:VEVENT
BEGIN:VEVENT
DTSTART;VALUE=DATE:20200615
DTEND;VALUE=DATE:20200620
DTSTAMP:20260423T181201
CREATED:20191015T130911Z
LAST-MODIFIED:20191015T130911Z
UID:11780-1592179200-1592611199@www.southbersted.co.uk
SUMMARY:Year 6 Bikeability
DESCRIPTION:Further details will be sent out in due course
URL:https://www.southbersted.co.uk/calendar/year-6-bikeability-2-2/
END:VEVENT
BEGIN:VEVENT
DTSTART;VALUE=DATE:20200615
DTEND;VALUE=DATE:20200620
DTSTAMP:20260423T181201
CREATED:20190712T132027Z
LAST-MODIFIED:20190712T132027Z
UID:9477-1592179200-1592611199@www.southbersted.co.uk
SUMMARY:Prayer Space
DESCRIPTION:Classes will be visiting the church throughout the week
URL:https://www.southbersted.co.uk/calendar/prayer-space/
END:VEVENT
BEGIN:VEVENT
DTSTART;VALUE=DATE:20200615
DTEND;VALUE=DATE:20200620
DTSTAMP:20260423T181201
CREATED:20190712T132027Z
LAST-MODIFIED:20190712T132027Z
UID:11709-1592179200-1592611199@www.southbersted.co.uk
SUMMARY:Prayer Space
DESCRIPTION:Classes will be visiting the church throughout the week
URL:https://www.southbersted.co.uk/calendar/prayer-space-2/
END:VEVENT
BEGIN:VEVENT
DTSTART;TZID=Europe/London:20200609T170000
DTEND;TZID=Europe/London:20200609T190000
DTSTAMP:20260423T181201
CREATED:20191015T130827Z
LAST-MODIFIED:20191015T130827Z
UID:10081-1591722000-1591729200@www.southbersted.co.uk
SUMMARY:Governors Monthly Meeting
DESCRIPTION:
URL:https://www.southbersted.co.uk/calendar/governors-monthly-meeting-13/
END:VEVENT
BEGIN:VEVENT
DTSTART;TZID=Europe/London:20200609T170000
DTEND;TZID=Europe/London:20200609T190000
DTSTAMP:20260423T181201
CREATED:20191015T130827Z
LAST-MODIFIED:20191015T130827Z
UID:11779-1591722000-1591729200@www.southbersted.co.uk
SUMMARY:Governors Monthly Meeting
DESCRIPTION:
URL:https://www.southbersted.co.uk/calendar/governors-monthly-meeting-13-2/
END:VEVENT
BEGIN:VEVENT
DTSTART;VALUE=DATE:20200609
DTEND;VALUE=DATE:20200610
DTSTAMP:20260423T181201
CREATED:20191015T130758Z
LAST-MODIFIED:20191015T130758Z
UID:10078-1591660800-1591747199@www.southbersted.co.uk
SUMMARY:Year 3 visiting Staunton Country Park
DESCRIPTION:More details to follow in due course
URL:https://www.southbersted.co.uk/calendar/year-3-visiting-staunton-country-park/
END:VEVENT
BEGIN:VEVENT
DTSTART;VALUE=DATE:20200609
DTEND;VALUE=DATE:20200610
DTSTAMP:20260423T181201
CREATED:20191015T130758Z
LAST-MODIFIED:20191015T130758Z
UID:11778-1591660800-1591747199@www.southbersted.co.uk
SUMMARY:Year 3 visiting Staunton Country Park
DESCRIPTION:More details to follow in due course
URL:https://www.southbersted.co.uk/calendar/year-3-visiting-staunton-country-park-2/
END:VEVENT
BEGIN:VEVENT
DTSTART;VALUE=DATE:20200608
DTEND;VALUE=DATE:20200613
DTSTAMP:20260423T181201
CREATED:20191015T130724Z
LAST-MODIFIED:20191015T130724Z
UID:10075-1591574400-1592006399@www.southbersted.co.uk
SUMMARY:Year 1 / 2 Phonics Screening
DESCRIPTION:All Year 1 children (and some children in Year 2) will take the phonics screening test this week.  More details will follow in due course.
URL:https://www.southbersted.co.uk/calendar/year-1-2-phonics-screening/
END:VEVENT
BEGIN:VEVENT
DTSTART;VALUE=DATE:20200608
DTEND;VALUE=DATE:20200613
DTSTAMP:20260423T181201
CREATED:20191015T130724Z
LAST-MODIFIED:20191015T130724Z
UID:11777-1591574400-1592006399@www.southbersted.co.uk
SUMMARY:Year 1 / 2 Phonics Screening
DESCRIPTION:All Year 1 children (and some children in Year 2) will take the phonics screening test this week.  More details will follow in due course.
URL:https://www.southbersted.co.uk/calendar/year-1-2-phonics-screening-2/
END:VEVENT
BEGIN:VEVENT
DTSTART;VALUE=DATE:20200603
DTEND;VALUE=DATE:20200606
DTSTAMP:20260423T181201
CREATED:20191015T130621Z
LAST-MODIFIED:20191015T130621Z
UID:10072-1591142400-1591401599@www.southbersted.co.uk
SUMMARY:Year 4 Residential
DESCRIPTION:More details will follow in due course
URL:https://www.southbersted.co.uk/calendar/year-4-residential-2/
END:VEVENT
BEGIN:VEVENT
DTSTART;VALUE=DATE:20200603
DTEND;VALUE=DATE:20200606
DTSTAMP:20260423T181201
CREATED:20191015T130621Z
LAST-MODIFIED:20191015T130621Z
UID:11776-1591142400-1591401599@www.southbersted.co.uk
SUMMARY:Year 4 Residential
DESCRIPTION:More details will follow in due course
URL:https://www.southbersted.co.uk/calendar/year-4-residential-2-2/
END:VEVENT
BEGIN:VEVENT
DTSTART;VALUE=DATE:20200525
DTEND;VALUE=DATE:20200530
DTSTAMP:20260423T181201
CREATED:20190717T093956Z
LAST-MODIFIED:20190717T093956Z
UID:9496-1590364800-1590796799@www.southbersted.co.uk
SUMMARY:Half Term
DESCRIPTION:
URL:https://www.southbersted.co.uk/calendar/half-term-6/
END:VEVENT
BEGIN:VEVENT
DTSTART;VALUE=DATE:20200525
DTEND;VALUE=DATE:20200530
DTSTAMP:20260423T181201
CREATED:20190717T093956Z
LAST-MODIFIED:20190717T093956Z
UID:11714-1590364800-1590796799@www.southbersted.co.uk
SUMMARY:Half Term
DESCRIPTION:
URL:https://www.southbersted.co.uk/calendar/half-term-6-2/
END:VEVENT
BEGIN:VEVENT
DTSTART;VALUE=DATE:20200518
DTEND;VALUE=DATE:20200523
DTSTAMP:20260423T181201
CREATED:20191015T130430Z
LAST-MODIFIED:20191015T130430Z
UID:10066-1589760000-1590191999@www.southbersted.co.uk
SUMMARY:Year 2 NCTs (SATs) - week 2
DESCRIPTION:More details to follow in due course
URL:https://www.southbersted.co.uk/calendar/year-2-ncts-sats-week-2/
END:VEVENT
BEGIN:VEVENT
DTSTART;VALUE=DATE:20200518
DTEND;VALUE=DATE:20200523
DTSTAMP:20260423T181201
CREATED:20191015T130430Z
LAST-MODIFIED:20191015T130430Z
UID:11774-1589760000-1590191999@www.southbersted.co.uk
SUMMARY:Year 2 NCTs (SATs) - week 2
DESCRIPTION:More details to follow in due course
URL:https://www.southbersted.co.uk/calendar/year-2-ncts-sats-week-2-2/
END:VEVENT
BEGIN:VEVENT
DTSTART;VALUE=DATE:20200511
DTEND;VALUE=DATE:20200516
DTSTAMP:20260423T181201
CREATED:20191015T121429Z
LAST-MODIFIED:20191015T121429Z
UID:10037-1589155200-1589587199@www.southbersted.co.uk
SUMMARY:Year 6 NCTs (SATs)
DESCRIPTION:Further information will follow in due course
URL:https://www.southbersted.co.uk/calendar/year-6-ncts-sats/
END:VEVENT
BEGIN:VEVENT
DTSTART;VALUE=DATE:20200511
DTEND;VALUE=DATE:20200516
DTSTAMP:20260423T181201
CREATED:20191015T121429Z
LAST-MODIFIED:20191015T121429Z
UID:11763-1589155200-1589587199@www.southbersted.co.uk
SUMMARY:Year 6 NCTs (SATs)
DESCRIPTION:Further information will follow in due course
URL:https://www.southbersted.co.uk/calendar/year-6-ncts-sats-2/
END:VEVENT
BEGIN:VEVENT
DTSTART;VALUE=DATE:20200508
DTEND;VALUE=DATE:20200509
DTSTAMP:20260423T181201
CREATED:20190717T093852Z
LAST-MODIFIED:20190717T093852Z
UID:9494-1588896000-1588982399@www.southbersted.co.uk
SUMMARY:Bank Holiday
DESCRIPTION:
URL:https://www.southbersted.co.uk/calendar/bank-holiday-2/
END:VEVENT
BEGIN:VEVENT
DTSTART;VALUE=DATE:20200508
DTEND;VALUE=DATE:20200509
DTSTAMP:20260423T181201
CREATED:20190717T093852Z
LAST-MODIFIED:20190717T093852Z
UID:11713-1588896000-1588982399@www.southbersted.co.uk
SUMMARY:Bank Holiday
DESCRIPTION:
URL:https://www.southbersted.co.uk/calendar/bank-holiday-2-2/
END:VEVENT
BEGIN:VEVENT
DTSTART;TZID=Europe/London:20200506T130000
DTEND;TZID=Europe/London:20200506T150000
DTSTAMP:20260423T181201
CREATED:20200117T153013Z
LAST-MODIFIED:20200117T153013Z
UID:10580-1588770000-1588777200@www.southbersted.co.uk
SUMMARY:Future Flyers (session 3)
DESCRIPTION:Participating children should be transported to and from the event by parents/carers.  Children should be collected from school at 12.45pm.  PE kit is required\, including FF t-shirts.
URL:https://www.southbersted.co.uk/calendar/future-flyers-session-3/
END:VEVENT
BEGIN:VEVENT
DTSTART;TZID=Europe/London:20200506T130000
DTEND;TZID=Europe/London:20200506T150000
DTSTAMP:20260423T181201
CREATED:20200117T153013Z
LAST-MODIFIED:20200117T153013Z
UID:11841-1588770000-1588777200@www.southbersted.co.uk
SUMMARY:Future Flyers (session 3)
DESCRIPTION:Participating children should be transported to and from the event by parents/carers.  Children should be collected from school at 12.45pm.  PE kit is required\, including FF t-shirts.
URL:https://www.southbersted.co.uk/calendar/future-flyers-session-3-2/
END:VEVENT
END:VCALENDAR