BEGIN:VCALENDAR
VERSION:2.0
PRODID:-//South Bersted Primary School - ECPv6.15.5//NONSGML v1.0//EN
CALSCALE:GREGORIAN
METHOD:PUBLISH
X-WR-CALNAME:South Bersted Primary School
X-ORIGINAL-URL:https://www.southbersted.co.uk
X-WR-CALDESC:Events for South Bersted Primary School
REFRESH-INTERVAL;VALUE=DURATION:PT1H
X-Robots-Tag:noindex
X-PUBLISHED-TTL:PT1H
BEGIN:VTIMEZONE
TZID:Europe/London
BEGIN:DAYLIGHT
TZOFFSETFROM:+0000
TZOFFSETTO:+0100
TZNAME:BST
DTSTART:20210328T010000
END:DAYLIGHT
BEGIN:STANDARD
TZOFFSETFROM:+0100
TZOFFSETTO:+0000
TZNAME:GMT
DTSTART:20211031T010000
END:STANDARD
END:VTIMEZONE
BEGIN:VEVENT
DTSTART;VALUE=DATE:20210921
DTEND;VALUE=DATE:20210922
DTSTAMP:20260422T224823
CREATED:20210909T102725Z
LAST-MODIFIED:20210909T102725Z
UID:13615-1632182400-1632268799@www.southbersted.co.uk
SUMMARY:Year 5 - South Downs Planetarium
DESCRIPTION:Children should arrive at school at the normal time in full school uniform.
URL:https://www.southbersted.co.uk/calendar/year-5-south-downs-planetarium/
END:VEVENT
BEGIN:VEVENT
DTSTART;VALUE=DATE:20210916
DTEND;VALUE=DATE:20210917
DTSTAMP:20260422T224823
CREATED:20210719T120729Z
LAST-MODIFIED:20210719T120729Z
UID:13445-1631750400-1631836799@www.southbersted.co.uk
SUMMARY:Reception Class - first full day
DESCRIPTION:All children in Reception class should attend all day from today.
URL:https://www.southbersted.co.uk/calendar/reception-class-first-full-day/
END:VEVENT
BEGIN:VEVENT
DTSTART;VALUE=DATE:20210908
DTEND;VALUE=DATE:20210909
DTSTAMP:20260422T224823
CREATED:20210719T120317Z
LAST-MODIFIED:20210719T120317Z
UID:13442-1631059200-1631145599@www.southbersted.co.uk
SUMMARY:New Reception Intake - first day
DESCRIPTION:From today\, children in Reception Class should attend for either the morning or afternoon session according to which group they are in (Group A or B)\, until Wednesday 15th September. \nFrom Thursday 16th September\, all children should attend all day.
URL:https://www.southbersted.co.uk/calendar/new-reception-intake-first-day/
END:VEVENT
BEGIN:VEVENT
DTSTART;TZID=Europe/London:20210907T090000
DTEND;TZID=Europe/London:20210907T150000
DTSTAMP:20260422T224823
CREATED:20210719T115419Z
LAST-MODIFIED:20210719T115714Z
UID:13433-1631005200-1631026800@www.southbersted.co.uk
SUMMARY:New Reception Intake - Meet and Greet the Teacher Sessions
DESCRIPTION:New Reception children should attend only for their pre-booked timeslot. Only one parent or carer per child may attend the session. \nPlease bring your child’s completed ‘All About Me’ booklet.
URL:https://www.southbersted.co.uk/calendar/new-reception-intake-meet-and-greet-the-teacher-sessions-2/
END:VEVENT
BEGIN:VEVENT
DTSTART;TZID=Europe/London:20210906T090000
DTEND;TZID=Europe/London:20210906T150000
DTSTAMP:20260422T224823
CREATED:20210719T115319Z
LAST-MODIFIED:20210719T115735Z
UID:13430-1630918800-1630940400@www.southbersted.co.uk
SUMMARY:New Reception Intake - Meet and Greet the Teacher Sessions
DESCRIPTION:New Reception children should attend only for their pre-booked timeslot. Only one parent or carer per child may attend the session. \nPlease bring your child’s completed ‘All About Me’ booklet.
URL:https://www.southbersted.co.uk/calendar/new-reception-intake-meet-and-greet-the-teacher-sessions/
END:VEVENT
BEGIN:VEVENT
DTSTART;TZID=Europe/London:20210906T085000
DTEND;TZID=Europe/London:20210906T085000
DTSTAMP:20260422T224823
CREATED:20210401T085825Z
LAST-MODIFIED:20210719T115551Z
UID:12985-1630918200-1630918200@www.southbersted.co.uk
SUMMARY:Start of Autumn Term
DESCRIPTION:The start of Autumn term commences at 8.50am for children in Years 1-6
URL:https://www.southbersted.co.uk/calendar/start-of-autumn-term-4/
END:VEVENT
BEGIN:VEVENT
DTSTART;VALUE=DATE:20210903
DTEND;VALUE=DATE:20210904
DTSTAMP:20260422T224823
CREATED:20210401T085720Z
LAST-MODIFIED:20210401T085720Z
UID:12982-1630627200-1630713599@www.southbersted.co.uk
SUMMARY:INSET Day
DESCRIPTION:
URL:https://www.southbersted.co.uk/calendar/inset-day-16/
END:VEVENT
BEGIN:VEVENT
DTSTART;VALUE=DATE:20210902
DTEND;VALUE=DATE:20210903
DTSTAMP:20260422T224823
CREATED:20210401T084956Z
LAST-MODIFIED:20210401T084956Z
UID:12969-1630540800-1630540800@www.southbersted.co.uk
SUMMARY:INSET Day
DESCRIPTION:
URL:https://www.southbersted.co.uk/calendar/inset-day-15/
END:VEVENT
BEGIN:VEVENT
DTSTART;VALUE=DATE:20210830
DTEND;VALUE=DATE:20210831
DTSTAMP:20260422T224823
CREATED:20210401T092813Z
LAST-MODIFIED:20210401T092813Z
UID:13036-1630281600-1630367999@www.southbersted.co.uk
SUMMARY:Bank Holiday
DESCRIPTION:
URL:https://www.southbersted.co.uk/calendar/bank-holiday-7/
END:VEVENT
BEGIN:VEVENT
DTSTART;VALUE=DATE:20210726
DTEND;VALUE=DATE:20210902
DTSTAMP:20260422T224823
CREATED:20210401T092312Z
LAST-MODIFIED:20210401T092312Z
UID:13027-1627257600-1630540799@www.southbersted.co.uk
SUMMARY:SUMMER HOLIDAYS
DESCRIPTION:
URL:https://www.southbersted.co.uk/calendar/summer-holidays-3/
END:VEVENT
BEGIN:VEVENT
DTSTART;TZID=Europe/London:20210723T151500
DTEND;TZID=Europe/London:20210723T151500
DTSTAMP:20260422T224823
CREATED:20201105T122523Z
LAST-MODIFIED:20201105T122523Z
UID:12320-1627053300-1627053300@www.southbersted.co.uk
SUMMARY:End of Summer Term
DESCRIPTION:
URL:https://www.southbersted.co.uk/calendar/end-of-summer-term-3/
END:VEVENT
BEGIN:VEVENT
DTSTART;TZID=Europe/London:20210716T150000
DTEND;TZID=Europe/London:20210717T150000
DTSTAMP:20260422T224823
CREATED:20210623T162631Z
LAST-MODIFIED:20210623T162631Z
UID:13334-1626447600-1626534000@www.southbersted.co.uk
SUMMARY:Year 6 Campover
DESCRIPTION:
URL:https://www.southbersted.co.uk/calendar/year-6-campover/
END:VEVENT
BEGIN:VEVENT
DTSTART;VALUE=DATE:20210716
DTEND;VALUE=DATE:20210717
DTSTAMP:20260422T224823
CREATED:20210510T091241Z
LAST-MODIFIED:20210705T132549Z
UID:13125-1626393600-1626479999@www.southbersted.co.uk
SUMMARY:Transition Day
DESCRIPTION:Children will move internally to their new classes for the day.  Year 6 children will continue their work in school\, with Mrs Bush on this day.
URL:https://www.southbersted.co.uk/calendar/transition-day/
END:VEVENT
BEGIN:VEVENT
DTSTART;TZID=Europe/London:20210714T131500
DTEND;TZID=Europe/London:20210714T141500
DTSTAMP:20260422T224823
CREATED:20210623T162827Z
LAST-MODIFIED:20210623T162827Z
UID:13340-1626268500-1626272100@www.southbersted.co.uk
SUMMARY:Year 6 - Dance/Games Workshop
DESCRIPTION:
URL:https://www.southbersted.co.uk/calendar/year-6-dance-games-workshop/
END:VEVENT
BEGIN:VEVENT
DTSTART;TZID=Europe/London:20210714T130000
DTEND;TZID=Europe/London:20210714T150000
DTSTAMP:20260422T224823
CREATED:20210510T090904Z
LAST-MODIFIED:20210705T132641Z
UID:13119-1626267600-1626274800@www.southbersted.co.uk
SUMMARY:Swimming - Year 5 (final session)
DESCRIPTION:Year 5 will take part in a weekly 1 hour swimming session
URL:https://www.southbersted.co.uk/calendar/swimming-year-5-2/
END:VEVENT
BEGIN:VEVENT
DTSTART;VALUE=DATE:20210713
DTEND;VALUE=DATE:20210714
DTSTAMP:20260422T224823
CREATED:20210623T162726Z
LAST-MODIFIED:20210623T162726Z
UID:13337-1626134400-1626220799@www.southbersted.co.uk
SUMMARY:Year 6 - Activity Fun Day
DESCRIPTION:Children should wear PE kit on this day.  Please ensure your child has a packed lunch (no hot dinners will be available on this day)
URL:https://www.southbersted.co.uk/calendar/year-6-activity-fun-day/
END:VEVENT
BEGIN:VEVENT
DTSTART;TZID=Europe/London:20210707T130000
DTEND;TZID=Europe/London:20210707T150000
DTSTAMP:20260422T224823
CREATED:20210705T131424Z
LAST-MODIFIED:20210705T132344Z
UID:13398-1625662800-1625670000@www.southbersted.co.uk
SUMMARY:Swimming - Year 5
DESCRIPTION:This session replaces the session which was planned for 21st July.
URL:https://www.southbersted.co.uk/calendar/swimming-year-5-3/
END:VEVENT
BEGIN:VEVENT
DTSTART;TZID=Europe/London:20210706T170000
DTEND;TZID=Europe/London:20210706T190000
DTSTAMP:20260422T224823
CREATED:20201105T122410Z
LAST-MODIFIED:20201105T122410Z
UID:12316-1625590800-1625598000@www.southbersted.co.uk
SUMMARY:Governors Monthly Meeting
DESCRIPTION:
URL:https://www.southbersted.co.uk/calendar/governors-monthly-meeting-21/
END:VEVENT
BEGIN:VEVENT
DTSTART;TZID=Europe/London:20210706T123000
DTEND;TZID=Europe/London:20210706T150000
DTSTAMP:20260422T224823
CREATED:20210514T095329Z
LAST-MODIFIED:20210514T095329Z
UID:13143-1625574600-1625583600@www.southbersted.co.uk
SUMMARY:Year 6 Top-up Swimming
DESCRIPTION:
URL:https://www.southbersted.co.uk/calendar/year-6-top-up-swimming-5/
END:VEVENT
BEGIN:VEVENT
DTSTART;TZID=Europe/London:20210706T093000
DTEND;TZID=Europe/London:20210706T113000
DTSTAMP:20260422T224823
CREATED:20210518T123757Z
LAST-MODIFIED:20210518T123757Z
UID:13164-1625563800-1625571000@www.southbersted.co.uk
SUMMARY:Year 3 - Climbing Session
DESCRIPTION:Sessions will take place using the Climbing Wall at The Arena
URL:https://www.southbersted.co.uk/calendar/year-3-climbing-session/
END:VEVENT
BEGIN:VEVENT
DTSTART;VALUE=DATE:20210706
DTEND;VALUE=DATE:20210707
DTSTAMP:20260422T224823
CREATED:20210617T132454Z
LAST-MODIFIED:20210617T132516Z
UID:13311-1625529600-1625615999@www.southbersted.co.uk
SUMMARY:Year 1 and 2 - Power of a Team Day/Sponsored Marathon
DESCRIPTION:Children will take part in a sponsored ‘marathon’ as part of our ‘Power of a Team’ day. \nSponsor forms and money should be returned to school by 28th June.
URL:https://www.southbersted.co.uk/calendar/year-1-and-2-power-of-a-team-day-sponsored-marathon/
END:VEVENT
BEGIN:VEVENT
DTSTART;TZID=Europe/London:20210705T130000
DTEND;TZID=Europe/London:20210705T150000
DTSTAMP:20260422T224823
CREATED:20210518T123827Z
LAST-MODIFIED:20210518T123827Z
UID:13167-1625490000-1625497200@www.southbersted.co.uk
SUMMARY:Year 4 - Climbing Session
DESCRIPTION:Sessions will take place using the Climbing Wall at The Arena
URL:https://www.southbersted.co.uk/calendar/year-4-climbing-session/
END:VEVENT
BEGIN:VEVENT
DTSTART;TZID=Europe/London:20210705T093000
DTEND;TZID=Europe/London:20210705T113000
DTSTAMP:20260422T224823
CREATED:20210518T124017Z
LAST-MODIFIED:20210518T124017Z
UID:13176-1625477400-1625484600@www.southbersted.co.uk
SUMMARY:Year 6 - Climbing Session (2 of 2)
DESCRIPTION:Sessions will take place using the Climbing Wall at The Arena
URL:https://www.southbersted.co.uk/calendar/year-6-climbing-session-2-of-2/
END:VEVENT
BEGIN:VEVENT
DTSTART;TZID=Europe/London:20210630T130000
DTEND;TZID=Europe/London:20210630T150000
DTSTAMP:20260422T224823
CREATED:20210510T090814Z
LAST-MODIFIED:20210510T090814Z
UID:13116-1625058000-1625065200@www.southbersted.co.uk
SUMMARY:Swimming - Year 5
DESCRIPTION:Year 5 will take part in a weekly 1 hour swimming session
URL:https://www.southbersted.co.uk/calendar/swimming-year-5/
END:VEVENT
BEGIN:VEVENT
DTSTART;TZID=Europe/London:20210629T123000
DTEND;TZID=Europe/London:20210629T150000
DTSTAMP:20260422T224823
CREATED:20210514T095309Z
LAST-MODIFIED:20210514T095309Z
UID:13140-1624969800-1624978800@www.southbersted.co.uk
SUMMARY:Year 6 Top-up Swimming
DESCRIPTION:
URL:https://www.southbersted.co.uk/calendar/year-6-top-up-swimming-4/
END:VEVENT
BEGIN:VEVENT
DTSTART;TZID=Europe/London:20210628T130000
DTEND;TZID=Europe/London:20210628T150000
DTSTAMP:20260422T224823
CREATED:20210518T123913Z
LAST-MODIFIED:20210518T123913Z
UID:13170-1624885200-1624892400@www.southbersted.co.uk
SUMMARY:Year 5 - Climbing Session
DESCRIPTION:Sessions will take place using the Climbing Wall at The Arena. \nChildren must be collected from The Arena at 3.10pm
URL:https://www.southbersted.co.uk/calendar/year-5-climbing-session/
END:VEVENT
BEGIN:VEVENT
DTSTART;TZID=Europe/London:20210628T093000
DTEND;TZID=Europe/London:20210628T113000
DTSTAMP:20260422T224823
CREATED:20210518T123948Z
LAST-MODIFIED:20210518T123948Z
UID:13173-1624872600-1624879800@www.southbersted.co.uk
SUMMARY:Year 6 - Climbing Session (1 of 2)
DESCRIPTION:Sessions will take place using the Climbing Wall at The Arena
URL:https://www.southbersted.co.uk/calendar/year-6-climbing-session-1-of-2/
END:VEVENT
BEGIN:VEVENT
DTSTART;TZID=Europe/London:20210623T130000
DTEND;TZID=Europe/London:20210623T150000
DTSTAMP:20260422T224823
CREATED:20210510T090724Z
LAST-MODIFIED:20210510T090724Z
UID:13113-1624453200-1624460400@www.southbersted.co.uk
SUMMARY:Year 5 - Swimming
DESCRIPTION:Year 5 will take part in a weekly 1 hour swimming session
URL:https://www.southbersted.co.uk/calendar/year-5-swimming-2/
END:VEVENT
BEGIN:VEVENT
DTSTART;TZID=Europe/London:20210622T123000
DTEND;TZID=Europe/London:20210622T150000
DTSTAMP:20260422T224823
CREATED:20210514T095239Z
LAST-MODIFIED:20210514T095429Z
UID:13137-1624365000-1624374000@www.southbersted.co.uk
SUMMARY:Year 6 Top-up Swimming
DESCRIPTION:
URL:https://www.southbersted.co.uk/calendar/year-6-top-up-swimming-3/
END:VEVENT
BEGIN:VEVENT
DTSTART;VALUE=DATE:20210621
DTEND;VALUE=DATE:20210626
DTSTAMP:20260422T224823
CREATED:20210316T111049Z
LAST-MODIFIED:20210316T111117Z
UID:12909-1624233600-1624665599@www.southbersted.co.uk
SUMMARY:Year 6 Bikeability (TBC)
DESCRIPTION:More details to follow.
URL:https://www.southbersted.co.uk/calendar/year-6-bikeability-tbc/
END:VEVENT
END:VCALENDAR