BEGIN:VCALENDAR
VERSION:2.0
PRODID:-//South Bersted Primary School - ECPv6.15.5//NONSGML v1.0//EN
CALSCALE:GREGORIAN
METHOD:PUBLISH
X-WR-CALNAME:South Bersted Primary School
X-ORIGINAL-URL:https://www.southbersted.co.uk
X-WR-CALDESC:Events for South Bersted Primary School
REFRESH-INTERVAL;VALUE=DURATION:PT1H
X-Robots-Tag:noindex
X-PUBLISHED-TTL:PT1H
BEGIN:VTIMEZONE
TZID:Europe/London
BEGIN:DAYLIGHT
TZOFFSETFROM:+0000
TZOFFSETTO:+0100
TZNAME:BST
DTSTART:20210328T010000
END:DAYLIGHT
BEGIN:STANDARD
TZOFFSETFROM:+0100
TZOFFSETTO:+0000
TZNAME:GMT
DTSTART:20211031T010000
END:STANDARD
END:VTIMEZONE
BEGIN:VEVENT
DTSTART;TZID=Europe/London:20211210T090000
DTEND;TZID=Europe/London:20211210T110000
DTSTAMP:20260422T120315
CREATED:20211203T101836Z
LAST-MODIFIED:20211203T101836Z
UID:14135-1639126800-1639134000@www.southbersted.co.uk
SUMMARY:Year 5 Swimming
DESCRIPTION:This is to replace the missed session in November
URL:https://www.southbersted.co.uk/calendar/year-5-swimming-5/
END:VEVENT
BEGIN:VEVENT
DTSTART;VALUE=DATE:20211210
DTEND;VALUE=DATE:20211211
DTSTAMP:20260422T120315
CREATED:20211203T102151Z
LAST-MODIFIED:20211203T102151Z
UID:14141-1639094400-1639180799@www.southbersted.co.uk
SUMMARY:Friends of South Bersted - Raffle Draw
DESCRIPTION:
URL:https://www.southbersted.co.uk/calendar/friends-of-south-bersted-raffle-draw/
END:VEVENT
BEGIN:VEVENT
DTSTART;VALUE=DATE:20211210
DTEND;VALUE=DATE:20211211
DTSTAMP:20260422T120315
CREATED:20211203T102054Z
LAST-MODIFIED:20211203T102054Z
UID:14138-1639094400-1639180799@www.southbersted.co.uk
SUMMARY:Year 4 Outdoor Learning Day
DESCRIPTION:– Children should come to school in old clothes – please ensure clothing is warm (multiple layers are ideal)\n– Hats and gloves are required\n– Old trainers should be worn (they will get dirty!) – if it is particularly wet\, please also provide a pair of wellington boots in a named bag\n– All children must have a warm waterproof coat in school
URL:https://www.southbersted.co.uk/calendar/year-4-outdoor-learning-day-3/
END:VEVENT
BEGIN:VEVENT
DTSTART;TZID=Europe/London:20211209T090000
DTEND;TZID=Europe/London:20211209T093000
DTSTAMP:20260422T120315
CREATED:20211203T100944Z
LAST-MODIFIED:20211203T100944Z
UID:14126-1639040400-1639042200@www.southbersted.co.uk
SUMMARY:Christingle Service (in school)
DESCRIPTION:Children will bring home their own Christingle at the end of the day.   \nThe service will be for children and staff only.
URL:https://www.southbersted.co.uk/calendar/christingle-service-in-school/
END:VEVENT
BEGIN:VEVENT
DTSTART;VALUE=DATE:20211209
DTEND;VALUE=DATE:20211210
DTSTAMP:20260422T120315
CREATED:20210916T104823Z
LAST-MODIFIED:20210916T104823Z
UID:13671-1639008000-1639094399@www.southbersted.co.uk
SUMMARY:Skateboard and Scooter Coaching (Years 1-6)
DESCRIPTION:Scooter and skateboarding coaching sessions will take place in school for children in Years 1-6.  More details to follow.
URL:https://www.southbersted.co.uk/calendar/skateboard-and-scooter-coaching-years-1-6/
END:VEVENT
BEGIN:VEVENT
DTSTART;TZID=Europe/London:20211207T170000
DTEND;TZID=Europe/London:20211207T190000
DTSTAMP:20260422T120315
CREATED:20211102T131730Z
LAST-MODIFIED:20211102T132322Z
UID:14025-1638896400-1638903600@www.southbersted.co.uk
SUMMARY:Governors Meeting
DESCRIPTION:
URL:https://www.southbersted.co.uk/calendar/governors-meeting-2/
END:VEVENT
BEGIN:VEVENT
DTSTART;TZID=Europe/London:20211206T130000
DTEND;TZID=Europe/London:20211206T150000
DTSTAMP:20260422T120315
CREATED:20210916T091959Z
LAST-MODIFIED:20210916T091959Z
UID:13665-1638795600-1638802800@www.southbersted.co.uk
SUMMARY:Year 4 Swimming (4 of 5)
DESCRIPTION:Children must have swimming kit in school on Monday morning
URL:https://www.southbersted.co.uk/calendar/year-4-swimming-4-of-5/
END:VEVENT
BEGIN:VEVENT
DTSTART;TZID=Europe/London:20211203T090000
DTEND;TZID=Europe/London:20211203T113000
DTSTAMP:20260422T120315
CREATED:20211203T101343Z
LAST-MODIFIED:20211203T101417Z
UID:14131-1638522000-1638531000@www.southbersted.co.uk
SUMMARY:Year 4 Swimming
DESCRIPTION:This is to replace the missed session in November.
URL:https://www.southbersted.co.uk/calendar/year-4-swimming/
END:VEVENT
BEGIN:VEVENT
DTSTART;TZID=Europe/London:20211202T154500
DTEND;TZID=Europe/London:20211202T174500
DTSTAMP:20260422T120315
CREATED:20211126T114716Z
LAST-MODIFIED:20211203T101141Z
UID:14117-1638459900-1638467100@www.southbersted.co.uk
SUMMARY:FAB Football Fixture- CANCELLED
DESCRIPTION:Parents/carers should transport their child to and from this event
URL:https://www.southbersted.co.uk/calendar/fab-football-fixture-3/
END:VEVENT
BEGIN:VEVENT
DTSTART;TZID=Europe/London:20211129T130000
DTEND;TZID=Europe/London:20211129T150000
DTSTAMP:20260422T120315
CREATED:20210916T091932Z
LAST-MODIFIED:20210916T091932Z
UID:13662-1638190800-1638198000@www.southbersted.co.uk
SUMMARY:Year 4 Swimming (3 of 5)
DESCRIPTION:Children must have swimming kit in school on Monday morning
URL:https://www.southbersted.co.uk/calendar/year-4-swimming-3-of-5/
END:VEVENT
BEGIN:VEVENT
DTSTART;VALUE=DATE:20211125
DTEND;VALUE=DATE:20211126
DTSTAMP:20260422T120315
CREATED:20210909T102946Z
LAST-MODIFIED:20210909T115648Z
UID:13618-1637798400-1637884799@www.southbersted.co.uk
SUMMARY:Flu Vaccinations (All Year Groups)
DESCRIPTION:
URL:https://www.southbersted.co.uk/calendar/flu-vaccinations-all-year-groups/
END:VEVENT
BEGIN:VEVENT
DTSTART;TZID=Europe/London:20211123T130000
DTEND;TZID=Europe/London:20211123T150000
DTSTAMP:20260422T120315
CREATED:20211103T142217Z
LAST-MODIFIED:20211103T142217Z
UID:14043-1637672400-1637679600@www.southbersted.co.uk
SUMMARY:Year 5/6 Girls Football Event
DESCRIPTION:
URL:https://www.southbersted.co.uk/calendar/year-5-6-girls-football-event/
END:VEVENT
BEGIN:VEVENT
DTSTART;TZID=Europe/London:20211123T083000
DTEND;TZID=Europe/London:20211123T150000
DTSTAMP:20260422T120315
CREATED:20210921T141542Z
LAST-MODIFIED:20210921T153243Z
UID:13708-1637656200-1637679600@www.southbersted.co.uk
SUMMARY:Year 1 visiting Brighton Toy and Model Museum
DESCRIPTION:We will be departing from school promptly at 9.00am.  Children must be in school by 8.40am for registration.
URL:https://www.southbersted.co.uk/calendar/year-1-visiting-brighton-toy-and-model-museum/
END:VEVENT
BEGIN:VEVENT
DTSTART;TZID=Europe/London:20211122T130000
DTEND;TZID=Europe/London:20211122T150000
DTSTAMP:20260422T120315
CREATED:20210916T091909Z
LAST-MODIFIED:20210916T091909Z
UID:13659-1637586000-1637593200@www.southbersted.co.uk
SUMMARY:Year 4 Swimming (2 of 5)
DESCRIPTION:Children must have swimming kit in school on Monday morning
URL:https://www.southbersted.co.uk/calendar/year-4-swimming-2-of-5/
END:VEVENT
BEGIN:VEVENT
DTSTART;TZID=Europe/London:20211118T090000
DTEND;TZID=Europe/London:20211118T150000
DTSTAMP:20260422T120315
CREATED:20210920T104317Z
LAST-MODIFIED:20210920T104317Z
UID:13689-1637226000-1637247600@www.southbersted.co.uk
SUMMARY:Year 4 visiting The Mary Rose
DESCRIPTION:Children must arrive at school by 8.40am at the latest as we will be departing promptly at 9.00am.\nAll children must be in full school uniform.  Packed lunches are required.
URL:https://www.southbersted.co.uk/calendar/year-4-visiting-the-mary-rose-2/
END:VEVENT
BEGIN:VEVENT
DTSTART;TZID=Europe/London:20211117T130000
DTEND;TZID=Europe/London:20211117T153000
DTSTAMP:20260422T120315
CREATED:20211103T142111Z
LAST-MODIFIED:20211103T142317Z
UID:14040-1637154000-1637163000@www.southbersted.co.uk
SUMMARY:Year 5/6 Football Event
DESCRIPTION:
URL:https://www.southbersted.co.uk/calendar/year-5-6-football-event/
END:VEVENT
BEGIN:VEVENT
DTSTART;TZID=Europe/London:20211116T170000
DTEND;TZID=Europe/London:20211116T190000
DTSTAMP:20260422T120315
CREATED:20211102T131622Z
LAST-MODIFIED:20211102T131622Z
UID:14022-1637082000-1637089200@www.southbersted.co.uk
SUMMARY:Governors Meeting
DESCRIPTION:
URL:https://www.southbersted.co.uk/calendar/governors-meeting/
END:VEVENT
BEGIN:VEVENT
DTSTART;TZID=Europe/London:20211116T123000
DTEND;TZID=Europe/London:20211116T150000
DTSTAMP:20260422T120315
CREATED:20211022T131922Z
LAST-MODIFIED:20211022T131922Z
UID:13992-1637065800-1637074800@www.southbersted.co.uk
SUMMARY:Year 5 Swimming
DESCRIPTION:(to replace missed session)
URL:https://www.southbersted.co.uk/calendar/year-5-swimming-4/
END:VEVENT
BEGIN:VEVENT
DTSTART;TZID=Europe/London:20211115T130000
DTEND;TZID=Europe/London:20211115T150000
DTSTAMP:20260422T120315
CREATED:20210916T091845Z
LAST-MODIFIED:20210916T091845Z
UID:13656-1636981200-1636988400@www.southbersted.co.uk
SUMMARY:Year 4 Swimming (1 of 5)
DESCRIPTION:Children must have swimming kit in school on Monday morning
URL:https://www.southbersted.co.uk/calendar/year-4-swimming-1-of-5/
END:VEVENT
BEGIN:VEVENT
DTSTART;TZID=Europe/London:20211111T143000
DTEND;TZID=Europe/London:20211111T150000
DTSTAMP:20260422T120315
CREATED:20211102T131317Z
LAST-MODIFIED:20211102T131317Z
UID:14019-1636641000-1636642800@www.southbersted.co.uk
SUMMARY:Year 6 Residential - Parent/Carer Information Meeting
DESCRIPTION:
URL:https://www.southbersted.co.uk/calendar/year-6-residential-parent-carer-information-meeting/
END:VEVENT
BEGIN:VEVENT
DTSTART;TZID=Europe/London:20211110T153000
DTEND;TZID=Europe/London:20211110T190000
DTSTAMP:20260422T120315
CREATED:20211022T132256Z
LAST-MODIFIED:20211022T132256Z
UID:13998-1636558200-1636570800@www.southbersted.co.uk
SUMMARY:Parent Teacher Consultations
DESCRIPTION:Appointments will be face to face with your child’s class teacher.  In the event of an increase in COVID cases in school\, the appointment will done via a telephone call. \nPlease book your appointment via ‘Parents Evenings’ within ParentMail.
URL:https://www.southbersted.co.uk/calendar/parent-teacher-consultations-10/
END:VEVENT
BEGIN:VEVENT
DTSTART;TZID=Europe/London:20211109T130000
DTEND;TZID=Europe/London:20211109T153000
DTSTAMP:20260422T120315
CREATED:20211022T132422Z
LAST-MODIFIED:20211022T132422Z
UID:14001-1636462800-1636471800@www.southbersted.co.uk
SUMMARY:Y5/6 Basketball Event
DESCRIPTION:Participating children must have PE kit in school on the day.
URL:https://www.southbersted.co.uk/calendar/y5-6-basketball-event/
END:VEVENT
BEGIN:VEVENT
DTSTART;TZID=Europe/London:20211109T123000
DTEND;TZID=Europe/London:20211109T150000
DTSTAMP:20260422T120315
CREATED:20211022T131842Z
LAST-MODIFIED:20211022T131842Z
UID:13989-1636461000-1636470000@www.southbersted.co.uk
SUMMARY:Year 5 Swimming
DESCRIPTION:(to replace missed session)
URL:https://www.southbersted.co.uk/calendar/year-5-swimming-3/
END:VEVENT
BEGIN:VEVENT
DTSTART;TZID=Europe/London:20211108T153000
DTEND;TZID=Europe/London:20211108T170000
DTSTAMP:20260422T120315
CREATED:20211022T132200Z
LAST-MODIFIED:20211022T132200Z
UID:13995-1636385400-1636390800@www.southbersted.co.uk
SUMMARY:Parent Teacher Consultations
DESCRIPTION:Appointments will be face to face with your child’s class teacher.  In the event of an increase in COVID cases in school\, the appointment will done via a telephone call. \nPlease book your appointment via ‘Parents Evenings’ within ParentMail.
URL:https://www.southbersted.co.uk/calendar/parent-teacher-consultations-9/
END:VEVENT
BEGIN:VEVENT
DTSTART;TZID=Europe/London:20211108T130000
DTEND;TZID=Europe/London:20211108T150000
DTSTAMP:20260422T120315
CREATED:20210916T091435Z
LAST-MODIFIED:20210916T091435Z
UID:13649-1636376400-1636383600@www.southbersted.co.uk
SUMMARY:Year 5 Swimming (5 of 5)
DESCRIPTION:Children must have swimming kit in school on Monday morning
URL:https://www.southbersted.co.uk/calendar/year-5-swimming-5-of-5/
END:VEVENT
BEGIN:VEVENT
DTSTART;TZID=Europe/London:20211105T080000
DTEND;TZID=Europe/London:20211105T084500
DTSTAMP:20260422T120315
CREATED:20211022T132803Z
LAST-MODIFIED:20211022T133510Z
UID:14010-1636099200-1636101900@www.southbersted.co.uk
SUMMARY:Premier Education - Gymnastics Club (first session)
DESCRIPTION:Years 3-6.  Book online in advance (https://www.premier-education.com/parents/venue/courses)
URL:https://www.southbersted.co.uk/calendar/premier-education-gymnastics-club-first-session/
END:VEVENT
BEGIN:VEVENT
DTSTART;TZID=Europe/London:20211103T080000
DTEND;TZID=Europe/London:20211103T084500
DTSTAMP:20260422T120315
CREATED:20211022T132727Z
LAST-MODIFIED:20211022T132727Z
UID:14007-1635926400-1635929100@www.southbersted.co.uk
SUMMARY:Premier Education - Archery Club (first session)
DESCRIPTION:Years 3-6.  Book online in advance (https://www.premier-education.com/parents/venue/courses)
URL:https://www.southbersted.co.uk/calendar/premier-education-archery-club-first-session/
END:VEVENT
BEGIN:VEVENT
DTSTART;TZID=Europe/London:20211102T090000
DTEND;TZID=Europe/London:20211102T113000
DTSTAMP:20260422T120315
CREATED:20210917T132717Z
LAST-MODIFIED:20210917T133010Z
UID:13679-1635843600-1635852600@www.southbersted.co.uk
SUMMARY:West Sussex Fire and Rescue visiting YR/Y2/Y5
DESCRIPTION:The team from West Sussex Fire and rescue Service will be visiting school to carry out their annual Fire Safety talks to Reception\, Year 2 and Year 5.
URL:https://www.southbersted.co.uk/calendar/west-sussex-fire-and-rescue-visiting-yr-y2-y5/
END:VEVENT
BEGIN:VEVENT
DTSTART;TZID=Europe/London:20211101T080000
DTEND;TZID=Europe/London:20211101T084500
DTSTAMP:20260422T120315
CREATED:20211022T132628Z
LAST-MODIFIED:20211022T132628Z
UID:14004-1635753600-1635756300@www.southbersted.co.uk
SUMMARY:Premier Education - Multi Skills Club (first session)
DESCRIPTION:Years 1-3 only.  Book online in advance (https://www.premier-education.com/parents/venue/courses) \n 
URL:https://www.southbersted.co.uk/calendar/premier-education-multi-skills-club-first-session/
END:VEVENT
BEGIN:VEVENT
DTSTART;VALUE=DATE:20211101
DTEND;VALUE=DATE:20211102
DTSTAMP:20260422T120315
CREATED:20210916T091643Z
LAST-MODIFIED:20210916T091729Z
UID:13652-1635724800-1635811199@www.southbersted.co.uk
SUMMARY:Year 5 visit to Ford Materials Recycling Facility
DESCRIPTION:Children must wear leggings or trousers (legs and arms must be covered)
URL:https://www.southbersted.co.uk/calendar/year-5-visit-to-ford-materials-recycling-facility/
END:VEVENT
END:VCALENDAR