BEGIN:VCALENDAR
VERSION:2.0
PRODID:-//South Bersted Primary School - ECPv6.15.5//NONSGML v1.0//EN
CALSCALE:GREGORIAN
METHOD:PUBLISH
X-WR-CALNAME:South Bersted Primary School
X-ORIGINAL-URL:https://www.southbersted.co.uk
X-WR-CALDESC:Events for South Bersted Primary School
REFRESH-INTERVAL;VALUE=DURATION:PT1H
X-Robots-Tag:noindex
X-PUBLISHED-TTL:PT1H
BEGIN:VTIMEZONE
TZID:Europe/London
BEGIN:DAYLIGHT
TZOFFSETFROM:+0000
TZOFFSETTO:+0100
TZNAME:BST
DTSTART:20210328T010000
END:DAYLIGHT
BEGIN:STANDARD
TZOFFSETFROM:+0100
TZOFFSETTO:+0000
TZNAME:GMT
DTSTART:20211031T010000
END:STANDARD
BEGIN:DAYLIGHT
TZOFFSETFROM:+0000
TZOFFSETTO:+0100
TZNAME:BST
DTSTART:20220327T010000
END:DAYLIGHT
BEGIN:STANDARD
TZOFFSETFROM:+0100
TZOFFSETTO:+0000
TZNAME:GMT
DTSTART:20221030T010000
END:STANDARD
END:VTIMEZONE
BEGIN:VEVENT
DTSTART;TZID=Europe/London:20220331T090000
DTEND;TZID=Europe/London:20220331T150000
DTSTAMP:20260422T090612
CREATED:20220113T144420Z
LAST-MODIFIED:20220113T144420Z
UID:14272-1648717200-1648738800@www.southbersted.co.uk
SUMMARY:Reception Class visiting Staunton Farm
DESCRIPTION:
URL:https://www.southbersted.co.uk/calendar/reception-class-visiting-staunton-farm/
END:VEVENT
BEGIN:VEVENT
DTSTART;TZID=Europe/London:20220329T180000
DTEND;TZID=Europe/London:20220329T210000
DTSTAMP:20260422T090612
CREATED:20220323T132306Z
LAST-MODIFIED:20220323T132328Z
UID:14489-1648576800-1648587600@www.southbersted.co.uk
SUMMARY:Dance House - evening performance
DESCRIPTION:The grand performance will take place during the evening.  Participating children must arrive at The Alexandra Theatre at 6.00pm prompt. \nPlease collect your child from the foyer at 8.45pm.
URL:https://www.southbersted.co.uk/calendar/dance-house-evening-performance/
END:VEVENT
BEGIN:VEVENT
DTSTART;TZID=Europe/London:20220329T110000
DTEND;TZID=Europe/London:20220329T133000
DTSTAMP:20260422T090612
CREATED:20220323T132142Z
LAST-MODIFIED:20220323T132947Z
UID:14486-1648551600-1648560600@www.southbersted.co.uk
SUMMARY:Dance House - rehearsal
DESCRIPTION:Rehearsal will take place at the Alexandra Theatre during the school day.  Participating children should come to school as normal.  Please ensure your child has his/her costume in school. \nA packed lunch is required as our rehearsal slot is over the lunchtime period.  We will eat our packed lunch when we return to school.
URL:https://www.southbersted.co.uk/calendar/danced-house-rehearsal/
END:VEVENT
BEGIN:VEVENT
DTSTART;VALUE=DATE:20220314
DTEND;VALUE=DATE:20220315
DTSTAMP:20260422T090612
CREATED:20220303T130151Z
LAST-MODIFIED:20220303T130151Z
UID:14426-1647216000-1647302399@www.southbersted.co.uk
SUMMARY:Commonwealth Day Service
DESCRIPTION:Junior Governors\, plus Y6 Sports reps and Y6 School Council reps will attend the Commonwealth Day Service at Westminster Abbey
URL:https://www.southbersted.co.uk/calendar/commonwealth-day-service/
END:VEVENT
BEGIN:VEVENT
DTSTART;VALUE=DATE:20220311
DTEND;VALUE=DATE:20220312
DTSTAMP:20260422T090612
CREATED:20220209T120318Z
LAST-MODIFIED:20220209T120318Z
UID:14333-1646956800-1647043199@www.southbersted.co.uk
SUMMARY:Author visit - C.S. Clifford (Years R\, 1 and 2)
DESCRIPTION:
URL:https://www.southbersted.co.uk/calendar/author-visit-c-s-clifford-years-r-1-and-2/
END:VEVENT
BEGIN:VEVENT
DTSTART;VALUE=DATE:20220310
DTEND;VALUE=DATE:20220311
DTSTAMP:20260422T090612
CREATED:20220209T120351Z
LAST-MODIFIED:20220209T120351Z
UID:14336-1646870400-1646956799@www.southbersted.co.uk
SUMMARY:Author Visit - C.S. Clifford (Years 3-6)
DESCRIPTION:
URL:https://www.southbersted.co.uk/calendar/author-visit-c-s-clifford-years-3-6/
END:VEVENT
BEGIN:VEVENT
DTSTART;TZID=Europe/London:20220308T130000
DTEND;TZID=Europe/London:20220308T140000
DTSTAMP:20260422T090612
CREATED:20220214T112848Z
LAST-MODIFIED:20220214T112848Z
UID:14369-1646744400-1646748000@www.southbersted.co.uk
SUMMARY:Year 6 PSHE Parent/Carer Information Session
DESCRIPTION:This meeting will take place via Zoom.  Zoom details will be sent out via Class Dojo in due course.
URL:https://www.southbersted.co.uk/calendar/year-6-pshe-parent-carer-information-session/
END:VEVENT
BEGIN:VEVENT
DTSTART;TZID=Europe/London:20220308T110000
DTEND;TZID=Europe/London:20220308T120000
DTSTAMP:20260422T090612
CREATED:20220214T112821Z
LAST-MODIFIED:20220214T112821Z
UID:14366-1646737200-1646740800@www.southbersted.co.uk
SUMMARY:Year 5 PSHE Parent/Carer Information Session
DESCRIPTION:This meeting will take place via Zoom.  Zoom details will be sent out via Class Dojo in due course.
URL:https://www.southbersted.co.uk/calendar/year-5-pshe-parent-carer-information-session/
END:VEVENT
BEGIN:VEVENT
DTSTART;TZID=Europe/London:20220308T093000
DTEND;TZID=Europe/London:20220308T103000
DTSTAMP:20260422T090612
CREATED:20220214T112744Z
LAST-MODIFIED:20220214T112931Z
UID:14363-1646731800-1646735400@www.southbersted.co.uk
SUMMARY:Year 4 PSHE Parent/Carer Information Session
DESCRIPTION:This meeting will take place via Zoom.  Zoom details will be sent out via Class Dojo in due course.
URL:https://www.southbersted.co.uk/calendar/year-4-pshe-parent-carer-information-session/
END:VEVENT
BEGIN:VEVENT
DTSTART;TZID=Europe/London:20220305T084500
DTEND;TZID=Europe/London:20220305T123000
DTSTAMP:20260422T090612
CREATED:20220303T144118Z
LAST-MODIFIED:20220303T144118Z
UID:14433-1646469900-1646483400@www.southbersted.co.uk
SUMMARY:FAB Saturday Football/Netball Fixtures
DESCRIPTION:Participating children should arrive at The Arena for 8.45am.  Please collect your child at 12.30pm.
URL:https://www.southbersted.co.uk/calendar/fab-saturday-football-netball-fixtures/
END:VEVENT
BEGIN:VEVENT
DTSTART;VALUE=DATE:20220304
DTEND;VALUE=DATE:20220305
DTSTAMP:20260422T090612
CREATED:20220214T113052Z
LAST-MODIFIED:20220215T150519Z
UID:14373-1646352000-1646438399@www.southbersted.co.uk
SUMMARY:WORLD BOOK DAY
DESCRIPTION:Children are invited to dress as their favourite book character.
URL:https://www.southbersted.co.uk/calendar/world-book-day-5/
END:VEVENT
BEGIN:VEVENT
DTSTART;TZID=Europe/London:20220303T090000
DTEND;TZID=Europe/London:20220303T150000
DTSTAMP:20260422T090612
CREATED:20220113T144349Z
LAST-MODIFIED:20220113T144349Z
UID:14269-1646298000-1646319600@www.southbersted.co.uk
SUMMARY:Year 1 visiting Weald and Downland Museum
DESCRIPTION:
URL:https://www.southbersted.co.uk/calendar/year-1-visiting-weald-and-downland-museum-3/
END:VEVENT
BEGIN:VEVENT
DTSTART;TZID=Europe/London:20220302T130000
DTEND;TZID=Europe/London:20220302T140000
DTSTAMP:20260422T090612
CREATED:20220214T112339Z
LAST-MODIFIED:20220214T112339Z
UID:14360-1646226000-1646229600@www.southbersted.co.uk
SUMMARY:Year 3 PSHE Parent/Carer Information Session
DESCRIPTION:This meeting will take place via Zoom.  Zoom details will be sent out via Class Dojo in due course.
URL:https://www.southbersted.co.uk/calendar/year-3-pshe-parent-carer-information-session/
END:VEVENT
BEGIN:VEVENT
DTSTART;TZID=Europe/London:20220302T110000
DTEND;TZID=Europe/London:20220302T120000
DTSTAMP:20260422T090612
CREATED:20220214T112254Z
LAST-MODIFIED:20220214T112254Z
UID:14357-1646218800-1646222400@www.southbersted.co.uk
SUMMARY:Year 2 PSHE Parent/Carer Information Session
DESCRIPTION:This meeting will take place via Zoom.  Zoom details will be sent out via Class Dojo in due course.
URL:https://www.southbersted.co.uk/calendar/year-2-pshe-parent-carer-information-session/
END:VEVENT
BEGIN:VEVENT
DTSTART;TZID=Europe/London:20220302T093000
DTEND;TZID=Europe/London:20220302T100000
DTSTAMP:20260422T090612
CREATED:20220214T112155Z
LAST-MODIFIED:20220214T112155Z
UID:14354-1646213400-1646215200@www.southbersted.co.uk
SUMMARY:Year 1 PSHE Parent/Carer Information Session
DESCRIPTION:This meeting will take place via Zoom.  Zoom meeting details will be sent out via Class Dojo in due course.
URL:https://www.southbersted.co.uk/calendar/year-1-pshe-parent-carer-information-session/
END:VEVENT
BEGIN:VEVENT
DTSTART;VALUE=DATE:20220221
DTEND;VALUE=DATE:20220226
DTSTAMP:20260422T090612
CREATED:20210401T091150Z
LAST-MODIFIED:20210401T091150Z
UID:13000-1645401600-1645833599@www.southbersted.co.uk
SUMMARY:HALF TERM
DESCRIPTION:
URL:https://www.southbersted.co.uk/calendar/half-term-11/
END:VEVENT
BEGIN:VEVENT
DTSTART;TZID=Europe/London:20220216T123000
DTEND;TZID=Europe/London:20220216T150000
DTSTAMP:20260422T090612
CREATED:20220209T121028Z
LAST-MODIFIED:20220209T123705Z
UID:14339-1645014600-1645023600@www.southbersted.co.uk
SUMMARY:High Five Netball event at The Arena
DESCRIPTION:Please note the finish time for this event has changed to 3.00pm.
URL:https://www.southbersted.co.uk/calendar/high-five-netball-event-at-the-arena/
END:VEVENT
BEGIN:VEVENT
DTSTART;TZID=Europe/London:20220215T123000
DTEND;TZID=Europe/London:20220215T160000
DTSTAMP:20260422T090612
CREATED:20220209T123822Z
LAST-MODIFIED:20220209T134616Z
UID:14344-1644928200-1644940800@www.southbersted.co.uk
SUMMARY:Bronze Ambassador Conference - The Arena
DESCRIPTION:
URL:https://www.southbersted.co.uk/calendar/bronze-ambassador-conference-the-arena/
END:VEVENT
BEGIN:VEVENT
DTSTART;TZID=Europe/London:20220215T090000
DTEND;TZID=Europe/London:20220215T150000
DTSTAMP:20260422T090612
CREATED:20220112T120214Z
LAST-MODIFIED:20220112T120214Z
UID:14261-1644915600-1644937200@www.southbersted.co.uk
SUMMARY:Year 3 visiting Fishbourne Roman Palace
DESCRIPTION:Children should arrive at school at the normal time.
URL:https://www.southbersted.co.uk/calendar/year-3-visiting-fishbourne-roman-palace-5/
END:VEVENT
BEGIN:VEVENT
DTSTART;TZID=Europe/London:20220208T124500
DTEND;TZID=Europe/London:20220208T150000
DTSTAMP:20260422T090612
CREATED:20211206T115709Z
LAST-MODIFIED:20211206T115709Z
UID:14164-1644324300-1644332400@www.southbersted.co.uk
SUMMARY:Future Flyers (Session 1 of 4)
DESCRIPTION:Participating children should be collected from school at 12.45pm. Please ensure your child has his/her Future Flyers t-shirt with them.
URL:https://www.southbersted.co.uk/calendar/future-flyers-session-1-of-4/
END:VEVENT
BEGIN:VEVENT
DTSTART;TZID=Europe/London:20220120T154500
DTEND;TZID=Europe/London:20220120T171500
DTSTAMP:20260422T090612
CREATED:20220118T105406Z
LAST-MODIFIED:20220118T105406Z
UID:14305-1642693500-1642698900@www.southbersted.co.uk
SUMMARY:FAB Football & Netball Fixtures
DESCRIPTION:The Arena Sport Centre.\nParticipating children should arrive in full kit by 3.45pm.
URL:https://www.southbersted.co.uk/calendar/fab-football-netball-fixtures/
END:VEVENT
BEGIN:VEVENT
DTSTART;TZID=Europe/London:20220105T085000
DTEND;TZID=Europe/London:20220105T085000
DTSTAMP:20260422T090612
CREATED:20210401T092415Z
LAST-MODIFIED:20210401T092415Z
UID:13030-1641372600-1641372600@www.southbersted.co.uk
SUMMARY:Start of Spring Term
DESCRIPTION:
URL:https://www.southbersted.co.uk/calendar/start-of-spring-term-4/
END:VEVENT
BEGIN:VEVENT
DTSTART;VALUE=DATE:20220104
DTEND;VALUE=DATE:20220105
DTSTAMP:20260422T090612
CREATED:20210401T085120Z
LAST-MODIFIED:20210401T085120Z
UID:12978-1641254400-1641254400@www.southbersted.co.uk
SUMMARY:INSET Day
DESCRIPTION:
URL:https://www.southbersted.co.uk/calendar/inset-day-18/
END:VEVENT
BEGIN:VEVENT
DTSTART;VALUE=DATE:20211220
DTEND;VALUE=DATE:20220104
DTSTAMP:20260422T090612
CREATED:20210401T091114Z
LAST-MODIFIED:20210401T091114Z
UID:12997-1639958400-1641254399@www.southbersted.co.uk
SUMMARY:CHRISTMAS HOLIDAYS
DESCRIPTION:
URL:https://www.southbersted.co.uk/calendar/christmas-holidays/
END:VEVENT
BEGIN:VEVENT
DTSTART;TZID=Europe/London:20211217T151500
DTEND;TZID=Europe/London:20211217T151500
DTSTAMP:20260422T090612
CREATED:20210401T090538Z
LAST-MODIFIED:20210401T090538Z
UID:12991-1639754100-1639754100@www.southbersted.co.uk
SUMMARY:End of Autumn Term
DESCRIPTION:
URL:https://www.southbersted.co.uk/calendar/end-of-autumn-term-5/
END:VEVENT
BEGIN:VEVENT
DTSTART;TZID=Europe/London:20211216T093000
DTEND;TZID=Europe/London:20211216T101500
DTSTAMP:20260422T090612
CREATED:20211203T102942Z
LAST-MODIFIED:20211203T102942Z
UID:14154-1639647000-1639649700@www.southbersted.co.uk
SUMMARY:Year 1 and 2 Performance ('Lights\, Camel\, Action')
DESCRIPTION:Tickets must be booked via parentmail.   \nPlease wear a face mask for this event (unless you are exempt).  We also encourage all adults to complete a Lateral Flow Test before attending.
URL:https://www.southbersted.co.uk/calendar/year-1-and-2-performance-lights-camel-action-2/
END:VEVENT
BEGIN:VEVENT
DTSTART;VALUE=DATE:20211216
DTEND;VALUE=DATE:20211217
DTSTAMP:20260422T090612
CREATED:20211203T103329Z
LAST-MODIFIED:20211203T103329Z
UID:14160-1639612800-1639699199@www.southbersted.co.uk
SUMMARY:Christmas Jumper Day
DESCRIPTION:Children may wear a Christmas jumper to school in place of their normal school jumper or cardigan.   \n(This is not a full non-uniform day\, regular uniform must be worn with the exception of the school jumper).
URL:https://www.southbersted.co.uk/calendar/christmas-jumper-day-4/
END:VEVENT
BEGIN:VEVENT
DTSTART;VALUE=DATE:20211216
DTEND;VALUE=DATE:20211217
DTSTAMP:20260422T090612
CREATED:20211001T091637Z
LAST-MODIFIED:20211001T091637Z
UID:13917-1639612800-1639699199@www.southbersted.co.uk
SUMMARY:Chartwells Christmas Lunch (TBC)
DESCRIPTION:Further information to follow.
URL:https://www.southbersted.co.uk/calendar/chartwells-christmas-lunch-tbc/
END:VEVENT
BEGIN:VEVENT
DTSTART;TZID=Europe/London:20211215T141500
DTEND;TZID=Europe/London:20211215T150000
DTSTAMP:20260422T090612
CREATED:20211203T103028Z
LAST-MODIFIED:20211203T103114Z
UID:14157-1639577700-1639580400@www.southbersted.co.uk
SUMMARY:Year 1 and 2 Performance ('Lights\, Camel\, Action')
DESCRIPTION:Tickets must be booked via parentmail.   \nPlease wear a face mask for this event (unless you are exempt).  We also encourage all adults to complete a Lateral Flow Test before attending.
URL:https://www.southbersted.co.uk/calendar/year-1-and-2-performance-lights-camel-action-3/
END:VEVENT
BEGIN:VEVENT
DTSTART;TZID=Europe/London:20211215T093000
DTEND;TZID=Europe/London:20211215T101500
DTSTAMP:20260422T090612
CREATED:20211203T102853Z
LAST-MODIFIED:20211203T102853Z
UID:14151-1639560600-1639563300@www.southbersted.co.uk
SUMMARY:Year 1 and 2 Performance ('Lights\, Camel\, Action')
DESCRIPTION:Tickets must be booked via parentmail.   \nPlease wear a face mask for this event (unless you are exempt).  We also encourage all adults to complete a Lateral Flow Test before attending.
URL:https://www.southbersted.co.uk/calendar/year-1-and-2-performance-lights-camel-action/
END:VEVENT
END:VCALENDAR