BEGIN:VCALENDAR
VERSION:2.0
PRODID:-//South Bersted Primary School - ECPv6.15.5//NONSGML v1.0//EN
CALSCALE:GREGORIAN
METHOD:PUBLISH
X-WR-CALNAME:South Bersted Primary School
X-ORIGINAL-URL:https://www.southbersted.co.uk
X-WR-CALDESC:Events for South Bersted Primary School
REFRESH-INTERVAL;VALUE=DURATION:PT1H
X-Robots-Tag:noindex
X-PUBLISHED-TTL:PT1H
BEGIN:VTIMEZONE
TZID:Europe/London
BEGIN:DAYLIGHT
TZOFFSETFROM:+0000
TZOFFSETTO:+0100
TZNAME:BST
DTSTART:20220327T010000
END:DAYLIGHT
BEGIN:STANDARD
TZOFFSETFROM:+0100
TZOFFSETTO:+0000
TZNAME:GMT
DTSTART:20221030T010000
END:STANDARD
END:VTIMEZONE
BEGIN:VEVENT
DTSTART;TZID=Europe/London:20220629T090000
DTEND;TZID=Europe/London:20220629T150000
DTSTAMP:20260422T024148
CREATED:20220615T114233Z
LAST-MODIFIED:20220615T114233Z
UID:14909-1656493200-1656514800@www.southbersted.co.uk
SUMMARY:Year 3 visiting the RNLI in Littlehampton
DESCRIPTION:This is an all day visit which will take place within normal school hours
URL:https://www.southbersted.co.uk/calendar/year-3-visiting-the-rnli-in-littlehampton/
END:VEVENT
BEGIN:VEVENT
DTSTART;VALUE=DATE:20220629
DTEND;VALUE=DATE:20220630
DTSTAMP:20260422T024148
CREATED:20220331T123523Z
LAST-MODIFIED:20220331T123523Z
UID:14525-1656460800-1656547199@www.southbersted.co.uk
SUMMARY:Key Stage 1 Sports Day
DESCRIPTION:Further details to follow
URL:https://www.southbersted.co.uk/calendar/key-stage-1-sports-day/
END:VEVENT
BEGIN:VEVENT
DTSTART;TZID=Europe/London:20220628T090000
DTEND;TZID=Europe/London:20220628T150000
DTSTAMP:20260422T024148
CREATED:20220608T133755Z
LAST-MODIFIED:20220608T133755Z
UID:14755-1656406800-1656428400@www.southbersted.co.uk
SUMMARY:Year 2 visiting West Dean Gardens
DESCRIPTION:This visit will take place within normal school hours. \nChildren will need to bring a waterproof jacket\, a small backpack\, a refillable water bottle and a sun hat.  Please apply suncream before school. \n 
URL:https://www.southbersted.co.uk/calendar/year-2-visiting-west-dean-gardens-4/
END:VEVENT
BEGIN:VEVENT
DTSTART;TZID=Europe/London:20220627T130000
DTEND;TZID=Europe/London:20220627T150000
DTSTAMP:20260422T024148
CREATED:20220627T091205Z
LAST-MODIFIED:20220627T091223Z
UID:14989-1656334800-1656342000@www.southbersted.co.uk
SUMMARY:Year 5 visiting Bersted Green Primary (BBC Orchestra Event)
DESCRIPTION:
URL:https://www.southbersted.co.uk/calendar/year-5-visiting-bersted-green-primary-bbc-orchestra-event/
END:VEVENT
BEGIN:VEVENT
DTSTART;TZID=Europe/London:20220627T103000
DTEND;TZID=Europe/London:20220627T113000
DTSTAMP:20260422T024148
CREATED:20211004T130038Z
LAST-MODIFIED:20211004T130142Z
UID:13930-1656325800-1656329400@www.southbersted.co.uk
SUMMARY:Year 6 Leavers Service at Chichester Cathedral
DESCRIPTION:
URL:https://www.southbersted.co.uk/calendar/year-6-leavers-service-at-chichester-cathedral-3/
END:VEVENT
BEGIN:VEVENT
DTSTART;TZID=Europe/London:20220624T151500
DTEND;TZID=Europe/London:20220625T100000
DTSTAMP:20260422T024148
CREATED:20220608T105312Z
LAST-MODIFIED:20220608T105733Z
UID:14747-1656083700-1656151200@www.southbersted.co.uk
SUMMARY:Year 4 Climbing/Archery/Camping
DESCRIPTION:During the day children will take part in archery and climbing activities. \nChildren should be collected at 10.00am prompt on Saturday 25th June.
URL:https://www.southbersted.co.uk/calendar/year-4-camping/
END:VEVENT
BEGIN:VEVENT
DTSTART;VALUE=DATE:20220624
DTEND;VALUE=DATE:20220625
DTSTAMP:20260422T024148
CREATED:20220622T110443Z
LAST-MODIFIED:20220622T113251Z
UID:14970-1656028800-1656115199@www.southbersted.co.uk
SUMMARY:Year 5 - Magic Day at FCC
DESCRIPTION:Children should arrive at school at the normal time. \n 
URL:https://www.southbersted.co.uk/calendar/year-5-magic-day-at-fcc-3/
END:VEVENT
BEGIN:VEVENT
DTSTART;TZID=Europe/London:20220621T124500
DTEND;TZID=Europe/London:20220621T151500
DTSTAMP:20260422T024148
CREATED:20211206T120042Z
LAST-MODIFIED:20211206T120042Z
UID:14173-1655815500-1655824500@www.southbersted.co.uk
SUMMARY:Future Flyers (Final Session)
DESCRIPTION:Participating children should be collected from school at 12.45pm. Please ensure your child has his/her Future Flyers t-shirt with them. \nParents and carers are invited to join the session from 3.00 – 3.15pm.
URL:https://www.southbersted.co.uk/calendar/future-flyers-final-session-3/
END:VEVENT
BEGIN:VEVENT
DTSTART;TZID=Europe/London:20220610T123000
DTEND;TZID=Europe/London:20220610T150000
DTSTAMP:20260422T024148
CREATED:20220607T121830Z
LAST-MODIFIED:20220607T121830Z
UID:14739-1654864200-1654873200@www.southbersted.co.uk
SUMMARY:Mini Red Tennis Festival at The Arena
DESCRIPTION:Participating children should wear PE kit to school on the day. \nChildren will be walked to the event by school staff.  Participating children must be collected from The Arena at 3.00pm
URL:https://www.southbersted.co.uk/calendar/mini-red-tennis-festival-at-the-arena/
END:VEVENT
BEGIN:VEVENT
DTSTART;TZID=Europe/London:20220608T090000
DTEND;TZID=Europe/London:20220608T120000
DTSTAMP:20260422T024148
CREATED:20220607T121714Z
LAST-MODIFIED:20220607T121714Z
UID:14736-1654678800-1654689600@www.southbersted.co.uk
SUMMARY:Disney Festival at The Arena
DESCRIPTION:Participating children should wear PE kit to school.  Children will walk to and from this event within the normal school day.
URL:https://www.southbersted.co.uk/calendar/disney-festival-at-the-arena/
END:VEVENT
BEGIN:VEVENT
DTSTART;TZID=Europe/London:20220607T124500
DTEND;TZID=Europe/London:20220607T150000
DTSTAMP:20260422T024148
CREATED:20211206T115824Z
LAST-MODIFIED:20211206T115824Z
UID:14170-1654605900-1654614000@www.southbersted.co.uk
SUMMARY:Future Flyers (Session 3 of 4)
DESCRIPTION:Participating children should be collected from school at 12.45pm. Please ensure your child has his/her Future Flyers t-shirt with them.
URL:https://www.southbersted.co.uk/calendar/future-flyers-session-3-of-4/
END:VEVENT
BEGIN:VEVENT
DTSTART;VALUE=DATE:20220603
DTEND;VALUE=DATE:20220604
DTSTAMP:20260422T024148
CREATED:20210401T093036Z
LAST-MODIFIED:20210401T093036Z
UID:13045-1654214400-1654300799@www.southbersted.co.uk
SUMMARY:Bank Holiday
DESCRIPTION:
URL:https://www.southbersted.co.uk/calendar/bank-holiday-10/
END:VEVENT
BEGIN:VEVENT
DTSTART;VALUE=DATE:20220602
DTEND;VALUE=DATE:20220603
DTSTAMP:20260422T024148
CREATED:20210401T093000Z
LAST-MODIFIED:20210401T093000Z
UID:13042-1654128000-1654214399@www.southbersted.co.uk
SUMMARY:Bank Holiday
DESCRIPTION:
URL:https://www.southbersted.co.uk/calendar/bank-holiday-9/
END:VEVENT
BEGIN:VEVENT
DTSTART;VALUE=DATE:20220530
DTEND;VALUE=DATE:20220604
DTSTAMP:20260422T024148
CREATED:20210401T092051Z
LAST-MODIFIED:20210401T092051Z
UID:13021-1653868800-1654300799@www.southbersted.co.uk
SUMMARY:HALF TERM
DESCRIPTION:
URL:https://www.southbersted.co.uk/calendar/half-term-12/
END:VEVENT
BEGIN:VEVENT
DTSTART;VALUE=DATE:20220525
DTEND;VALUE=DATE:20220526
DTSTAMP:20260422T024148
CREATED:20220509T122239Z
LAST-MODIFIED:20220509T122239Z
UID:14667-1653436800-1653523199@www.southbersted.co.uk
SUMMARY:Jubilee Events
DESCRIPTION:During the morning children will take part in activities within their houses. \nFrom 2.15pm\, parents and carers are invited for tea and cake on the playground.  The raffle will be drawn during the tea and cake session.
URL:https://www.southbersted.co.uk/calendar/jubilee-events/
END:VEVENT
BEGIN:VEVENT
DTSTART;TZID=Europe/London:20220524T090000
DTEND;TZID=Europe/London:20220524T150000
DTSTAMP:20260422T024148
CREATED:20220513T121550Z
LAST-MODIFIED:20220513T121550Z
UID:14701-1653382800-1653404400@www.southbersted.co.uk
SUMMARY:Year 1 visit to the Beach / Hotham Park
DESCRIPTION:Children will need a waterproof jacket\, a sun hat and a refillable water bottle. \n 
URL:https://www.southbersted.co.uk/calendar/year-1-visit-to-the-beach-hotham-park/
END:VEVENT
BEGIN:VEVENT
DTSTART;VALUE=DATE:20220524
DTEND;VALUE=DATE:20220525
DTSTAMP:20260422T024148
CREATED:20220513T121801Z
LAST-MODIFIED:20220513T121801Z
UID:14704-1653350400-1653436799@www.southbersted.co.uk
SUMMARY:Cupcake competition - cakes to be brought into school today
DESCRIPTION:
URL:https://www.southbersted.co.uk/calendar/cupcake-competition-cakes-to-be-brought-into-school-today/
END:VEVENT
BEGIN:VEVENT
DTSTART;TZID=Europe/London:20220519T133000
DTEND;TZID=Europe/London:20220519T153000
DTSTAMP:20260422T024148
CREATED:20220513T120310Z
LAST-MODIFIED:20220513T120310Z
UID:14698-1652967000-1652974200@www.southbersted.co.uk
SUMMARY:Orienteering Festival (Year 6)
DESCRIPTION:Participating children should bring PE kit to school if this is not their usual PE day. \nParents and carers should collect from the venue at 3.30pm
URL:https://www.southbersted.co.uk/calendar/orienteering-festival-year-6/
END:VEVENT
BEGIN:VEVENT
DTSTART;VALUE=DATE:20220518
DTEND;VALUE=DATE:20220519
DTSTAMP:20260422T024148
CREATED:20220204T140442Z
LAST-MODIFIED:20220204T140442Z
UID:14327-1652832000-1652918399@www.southbersted.co.uk
SUMMARY:Class Photographs
DESCRIPTION:
URL:https://www.southbersted.co.uk/calendar/class-photographs-5/
END:VEVENT
BEGIN:VEVENT
DTSTART;TZID=Europe/London:20220517T130000
DTEND;TZID=Europe/London:20220517T150000
DTSTAMP:20260422T024148
CREATED:20220513T120157Z
LAST-MODIFIED:20220513T120157Z
UID:14695-1652792400-1652799600@www.southbersted.co.uk
SUMMARY:Quadkids Athletics Event (Year 3/4)
DESCRIPTION:Participating children should bring PE kit to school (if this is not their usual PE day).\nParents and carers are required to collect their child from the venue at the end of the event.
URL:https://www.southbersted.co.uk/calendar/quadkids-athletics-event-year-3-4/
END:VEVENT
BEGIN:VEVENT
DTSTART;VALUE=DATE:20220513
DTEND;VALUE=DATE:20220514
DTSTAMP:20260422T024148
CREATED:20220509T110549Z
LAST-MODIFIED:20220509T110549Z
UID:14664-1652400000-1652486399@www.southbersted.co.uk
SUMMARY:Prayer Space
DESCRIPTION:
URL:https://www.southbersted.co.uk/calendar/prayer-space-4/
END:VEVENT
BEGIN:VEVENT
DTSTART;TZID=Europe/London:20220512T090000
DTEND;TZID=Europe/London:20220512T120000
DTSTAMP:20260422T024148
CREATED:20220509T110453Z
LAST-MODIFIED:20220509T110453Z
UID:14658-1652346000-1652356800@www.southbersted.co.uk
SUMMARY:Year 6 National Curriculum Tests (SATs)
DESCRIPTION:
URL:https://www.southbersted.co.uk/calendar/year-6-national-curriculum-tests-sats-6/
END:VEVENT
BEGIN:VEVENT
DTSTART;TZID=Europe/London:20220511T090000
DTEND;TZID=Europe/London:20220511T120000
DTSTAMP:20260422T024148
CREATED:20220509T110352Z
LAST-MODIFIED:20220509T110420Z
UID:14655-1652259600-1652270400@www.southbersted.co.uk
SUMMARY:Year 6 National Curriculum Tests (SATs)
DESCRIPTION:
URL:https://www.southbersted.co.uk/calendar/year-6-national-curriculum-tests-sats-5/
END:VEVENT
BEGIN:VEVENT
DTSTART;VALUE=DATE:20220511
DTEND;VALUE=DATE:20220512
DTSTAMP:20260422T024148
CREATED:20220509T110530Z
LAST-MODIFIED:20220509T110530Z
UID:14661-1652227200-1652313599@www.southbersted.co.uk
SUMMARY:Prayer Space
DESCRIPTION:
URL:https://www.southbersted.co.uk/calendar/prayer-space-3/
END:VEVENT
BEGIN:VEVENT
DTSTART;TZID=Europe/London:20220510T100000
DTEND;TZID=Europe/London:20220510T130000
DTSTAMP:20260422T024148
CREATED:20220509T105317Z
LAST-MODIFIED:20220509T105317Z
UID:14646-1652176800-1652187600@www.southbersted.co.uk
SUMMARY:Year 2 visiting Butlins
DESCRIPTION:
URL:https://www.southbersted.co.uk/calendar/year-2-visiting-butlins/
END:VEVENT
BEGIN:VEVENT
DTSTART;TZID=Europe/London:20220510T090000
DTEND;TZID=Europe/London:20220510T120000
DTSTAMP:20260422T024148
CREATED:20220509T110333Z
LAST-MODIFIED:20220509T110333Z
UID:14652-1652173200-1652184000@www.southbersted.co.uk
SUMMARY:Year 6 National Curriculum Tests (SATs)
DESCRIPTION:
URL:https://www.southbersted.co.uk/calendar/year-6-national-curriculum-tests-sats-4/
END:VEVENT
BEGIN:VEVENT
DTSTART;TZID=Europe/London:20220509T090000
DTEND;TZID=Europe/London:20220509T120000
DTSTAMP:20260422T024148
CREATED:20220509T110311Z
LAST-MODIFIED:20220509T110311Z
UID:14649-1652086800-1652097600@www.southbersted.co.uk
SUMMARY:Year 6 National Curriculum Tests (SATs)
DESCRIPTION:
URL:https://www.southbersted.co.uk/calendar/year-6-national-curriculum-tests-sats-3/
END:VEVENT
BEGIN:VEVENT
DTSTART;TZID=Europe/London:20220505T180000
DTEND;TZID=Europe/London:20220505T210000
DTSTAMP:20260422T024148
CREATED:20220404T104001Z
LAST-MODIFIED:20220404T104001Z
UID:14545-1651773600-1651784400@www.southbersted.co.uk
SUMMARY:Dance House Highlights Show
DESCRIPTION:Further details to follow
URL:https://www.southbersted.co.uk/calendar/dance-house-highlights-show/
END:VEVENT
BEGIN:VEVENT
DTSTART;VALUE=DATE:20220504
DTEND;VALUE=DATE:20220505
DTSTAMP:20260422T024148
CREATED:20220428T124052Z
LAST-MODIFIED:20220428T124052Z
UID:14597-1651622400-1651708799@www.southbersted.co.uk
SUMMARY:The Big Sing 2022
DESCRIPTION:
URL:https://www.southbersted.co.uk/calendar/the-big-sing-2022/
END:VEVENT
BEGIN:VEVENT
DTSTART;VALUE=DATE:20220502
DTEND;VALUE=DATE:20220503
DTSTAMP:20260422T024148
CREATED:20210401T092935Z
LAST-MODIFIED:20210401T092935Z
UID:13039-1651449600-1651535999@www.southbersted.co.uk
SUMMARY:Bank Holiday
DESCRIPTION:
URL:https://www.southbersted.co.uk/calendar/bank-holiday-8/
END:VEVENT
END:VCALENDAR