BEGIN:VCALENDAR
VERSION:2.0
PRODID:-//South Bersted Primary School - ECPv6.15.5//NONSGML v1.0//EN
CALSCALE:GREGORIAN
METHOD:PUBLISH
X-WR-CALNAME:South Bersted Primary School
X-ORIGINAL-URL:https://www.southbersted.co.uk
X-WR-CALDESC:Events for South Bersted Primary School
REFRESH-INTERVAL;VALUE=DURATION:PT1H
X-Robots-Tag:noindex
X-PUBLISHED-TTL:PT1H
BEGIN:VTIMEZONE
TZID:Europe/London
BEGIN:DAYLIGHT
TZOFFSETFROM:+0000
TZOFFSETTO:+0100
TZNAME:BST
DTSTART:20220327T010000
END:DAYLIGHT
BEGIN:STANDARD
TZOFFSETFROM:+0100
TZOFFSETTO:+0000
TZNAME:GMT
DTSTART:20221030T010000
END:STANDARD
END:VTIMEZONE
BEGIN:VEVENT
DTSTART;TZID=Europe/London:20220907T130000
DTEND;TZID=Europe/London:20220907T151500
DTSTAMP:20260421T234816
CREATED:20220907T114033Z
LAST-MODIFIED:20220907T114033Z
UID:15181-1662555600-1662563700@www.southbersted.co.uk
SUMMARY:Reception Class - Group A
DESCRIPTION:Children in Group A should attend for the afternoon session (1.00 – 3.15pm)
URL:https://www.southbersted.co.uk/calendar/reception-class-group-a/
END:VEVENT
BEGIN:VEVENT
DTSTART;TZID=Europe/London:20220907T085000
DTEND;TZID=Europe/London:20220907T123000
DTSTAMP:20260421T234816
CREATED:20220907T114747Z
LAST-MODIFIED:20220907T114747Z
UID:15202-1662540600-1662553800@www.southbersted.co.uk
SUMMARY:Reception Class - Group B
DESCRIPTION:Children in Group B should attend for the morning session (8.50 – 12.30pm).  Lunch will be provided.
URL:https://www.southbersted.co.uk/calendar/reception-class-group-b/
END:VEVENT
BEGIN:VEVENT
DTSTART;VALUE=DATE:20220906
DTEND;VALUE=DATE:20220907
DTSTAMP:20260421T234816
CREATED:20220907T110150Z
LAST-MODIFIED:20220907T110202Z
UID:15175-1662422400-1662508799@www.southbersted.co.uk
SUMMARY:Reception Class - Meet the Teacher 1:1 sessions
DESCRIPTION:Please attend at your child’s pre-booked appointment time
URL:https://www.southbersted.co.uk/calendar/reception-class-meet-the-teacher-11-sessions/
END:VEVENT
BEGIN:VEVENT
DTSTART;TZID=Europe/London:20220905T084500
DTEND;TZID=Europe/London:20220905T084500
DTSTAMP:20260421T234816
CREATED:20220722T110321Z
LAST-MODIFIED:20220722T111336Z
UID:15068-1662367500-1662367500@www.southbersted.co.uk
SUMMARY:Start of Autumn Term
DESCRIPTION:Please note that there is a change to the start of the school day – school will commence at 8.45am
URL:https://www.southbersted.co.uk/calendar/start-of-autumn-term-5/
END:VEVENT
BEGIN:VEVENT
DTSTART;VALUE=DATE:20220905
DTEND;VALUE=DATE:20220906
DTSTAMP:20260421T234816
CREATED:20220907T110647Z
LAST-MODIFIED:20220907T110647Z
UID:15178-1662336000-1662422399@www.southbersted.co.uk
SUMMARY:Reception Class - Meet the Teacher 1:1 sessions
DESCRIPTION:Please attend only for your child’s pre-booked timeslot.
URL:https://www.southbersted.co.uk/calendar/reception-class-meet-the-teacher-11-sessions-2/
END:VEVENT
BEGIN:VEVENT
DTSTART;VALUE=DATE:20220902
DTEND;VALUE=DATE:20220903
DTSTAMP:20260421T234816
CREATED:20220722T110211Z
LAST-MODIFIED:20220722T110211Z
UID:15065-1662076800-1662163199@www.southbersted.co.uk
SUMMARY:INSET DAY
DESCRIPTION:
URL:https://www.southbersted.co.uk/calendar/inset-day-21/
END:VEVENT
BEGIN:VEVENT
DTSTART;VALUE=DATE:20220901
DTEND;VALUE=DATE:20220902
DTSTAMP:20260421T234816
CREATED:20220722T110154Z
LAST-MODIFIED:20220722T110154Z
UID:15062-1661990400-1662076799@www.southbersted.co.uk
SUMMARY:INSET DAY
DESCRIPTION:
URL:https://www.southbersted.co.uk/calendar/inset-day-20/
END:VEVENT
BEGIN:VEVENT
DTSTART;VALUE=DATE:20220829
DTEND;VALUE=DATE:20220830
DTSTAMP:20260421T234816
CREATED:20210401T093057Z
LAST-MODIFIED:20210401T093057Z
UID:13048-1661731200-1661817599@www.southbersted.co.uk
SUMMARY:Bank Holiday
DESCRIPTION:
URL:https://www.southbersted.co.uk/calendar/bank-holiday-11/
END:VEVENT
BEGIN:VEVENT
DTSTART;VALUE=DATE:20220722
DTEND;VALUE=DATE:20220901
DTSTAMP:20260421T234816
CREATED:20210401T092553Z
LAST-MODIFIED:20210719T115104Z
UID:13033-1658448000-1661990399@www.southbersted.co.uk
SUMMARY:SUMMER HOLIDAYS
DESCRIPTION:
URL:https://www.southbersted.co.uk/calendar/summer-holidays-4/
END:VEVENT
BEGIN:VEVENT
DTSTART;TZID=Europe/London:20220721T151500
DTEND;TZID=Europe/London:20220721T151500
DTSTAMP:20260421T234816
CREATED:20210401T092141Z
LAST-MODIFIED:20210719T114914Z
UID:13024-1658416500-1658416500@www.southbersted.co.uk
SUMMARY:End of Academic Year
DESCRIPTION:
URL:https://www.southbersted.co.uk/calendar/end-of-academic-year/
END:VEVENT
BEGIN:VEVENT
DTSTART;TZID=Europe/London:20220720T134000
DTEND;TZID=Europe/London:20220720T150000
DTSTAMP:20260421T234816
CREATED:20220722T105443Z
LAST-MODIFIED:20220722T105443Z
UID:15053-1658324400-1658329200@www.southbersted.co.uk
SUMMARY:Dance Extravaganza
DESCRIPTION:Parents/carers are invited to join us.  Gates open at 1.40pm.
URL:https://www.southbersted.co.uk/calendar/dance-extravaganza-4/
END:VEVENT
BEGIN:VEVENT
DTSTART;TZID=Europe/London:20220718T153000
DTEND;TZID=Europe/London:20220718T183000
DTSTAMP:20260421T234816
CREATED:20220722T105615Z
LAST-MODIFIED:20220722T105615Z
UID:15056-1658158200-1658169000@www.southbersted.co.uk
SUMMARY:Open Evening
DESCRIPTION:Parents and carers are invited to visit the school to view their child’s work and meet the new class teacher for next year
URL:https://www.southbersted.co.uk/calendar/open-evening/
END:VEVENT
BEGIN:VEVENT
DTSTART;TZID=Europe/London:20220718T151500
DTEND;TZID=Europe/London:20220718T153000
DTSTAMP:20260421T234816
CREATED:20220722T105814Z
LAST-MODIFIED:20220722T110036Z
UID:15059-1658157300-1658158200@www.southbersted.co.uk
SUMMARY:Year 5 'Fiver' Sale
DESCRIPTION:Year 5 will be holding a small sale after school – they have various items for sale which they have created as part of their ‘fiver’ entrepreneur challenge.  Please do come along from 3.15pm (in the hall) – items priced at 50p -£1.00 per item
URL:https://www.southbersted.co.uk/calendar/year-5-fiver-sale/
END:VEVENT
BEGIN:VEVENT
DTSTART;VALUE=DATE:20220711
DTEND;VALUE=DATE:20220714
DTSTAMP:20260421T234816
CREATED:20211103T135016Z
LAST-MODIFIED:20211103T135443Z
UID:14037-1657497600-1657756799@www.southbersted.co.uk
SUMMARY:Y6 Residential
DESCRIPTION:Further details to follow
URL:https://www.southbersted.co.uk/calendar/y6-residential/
END:VEVENT
BEGIN:VEVENT
DTSTART;VALUE=DATE:20220708
DTEND;VALUE=DATE:20220709
DTSTAMP:20260421T234816
CREATED:20220331T123732Z
LAST-MODIFIED:20220331T123732Z
UID:14534-1657238400-1657324799@www.southbersted.co.uk
SUMMARY:Reserve date for KS2 Sports Day
DESCRIPTION:In the event of bad weather on 1st July\, KS2 Sports Day will be moved to 8th July.
URL:https://www.southbersted.co.uk/calendar/reserve-date-for-ks2-sports-day/
END:VEVENT
BEGIN:VEVENT
DTSTART;TZID=Europe/London:20220707T153000
DTEND;TZID=Europe/London:20220707T173000
DTSTAMP:20260421T234816
CREATED:20220617T135248Z
LAST-MODIFIED:20220617T135248Z
UID:14925-1657207800-1657215000@www.southbersted.co.uk
SUMMARY:Area Athletics at Felpham Community College
DESCRIPTION:Parents to transport their child to and from this event.  Further details to follow.
URL:https://www.southbersted.co.uk/calendar/area-athletics-at-felpham-community-college/
END:VEVENT
BEGIN:VEVENT
DTSTART;TZID=Europe/London:20220706T154500
DTEND;TZID=Europe/London:20220706T164500
DTSTAMP:20260421T234816
CREATED:20220621T120904Z
LAST-MODIFIED:20220621T121024Z
UID:14962-1657122300-1657125900@www.southbersted.co.uk
SUMMARY:Year 3/4 Football Match (Bersted Green Primary)
DESCRIPTION:Participating pupils will be walked to the event by South Bersted school staff.  Please collect your child from Bersted Green Primary at the end of the event.
URL:https://www.southbersted.co.uk/calendar/year-3-4-football-match-bersted-green-primary/
END:VEVENT
BEGIN:VEVENT
DTSTART;TZID=Europe/London:20220705T090000
DTEND;TZID=Europe/London:20220705T120000
DTSTAMP:20260421T234816
CREATED:20220622T095542Z
LAST-MODIFIED:20220622T095555Z
UID:14967-1657011600-1657022400@www.southbersted.co.uk
SUMMARY:Year 5 visit to Bognor Beach
DESCRIPTION:Year 5 will visit the beach to look at signs of erosion.  We will walk to and from the beach\, returning in time for lunch.
URL:https://www.southbersted.co.uk/calendar/year-5-visit-to-bognor-beach/
END:VEVENT
BEGIN:VEVENT
DTSTART;VALUE=DATE:20220704
DTEND;VALUE=DATE:20220705
DTSTAMP:20260421T234816
CREATED:20220331T123629Z
LAST-MODIFIED:20220331T123629Z
UID:14528-1656892800-1656979199@www.southbersted.co.uk
SUMMARY:Reserve Date for KS1 Sports Day
DESCRIPTION:In the event of bad weather on 29th June\, KS1 Sports Day will be moved to 4th July.
URL:https://www.southbersted.co.uk/calendar/reserve-date-for-ks1-sports-day/
END:VEVENT
BEGIN:VEVENT
DTSTART;VALUE=DATE:20220701
DTEND;VALUE=DATE:20220702
DTSTAMP:20260421T234816
CREATED:20220331T123656Z
LAST-MODIFIED:20220331T123656Z
UID:14531-1656633600-1656719999@www.southbersted.co.uk
SUMMARY:KS2 Sports Day
DESCRIPTION:Further details to follow
URL:https://www.southbersted.co.uk/calendar/ks2-sports-day/
END:VEVENT
BEGIN:VEVENT
DTSTART;TZID=Europe/London:20220629T090000
DTEND;TZID=Europe/London:20220629T150000
DTSTAMP:20260421T234816
CREATED:20220615T114233Z
LAST-MODIFIED:20220615T114233Z
UID:14909-1656493200-1656514800@www.southbersted.co.uk
SUMMARY:Year 3 visiting the RNLI in Littlehampton
DESCRIPTION:This is an all day visit which will take place within normal school hours
URL:https://www.southbersted.co.uk/calendar/year-3-visiting-the-rnli-in-littlehampton/
END:VEVENT
BEGIN:VEVENT
DTSTART;VALUE=DATE:20220629
DTEND;VALUE=DATE:20220630
DTSTAMP:20260421T234816
CREATED:20220331T123523Z
LAST-MODIFIED:20220331T123523Z
UID:14525-1656460800-1656547199@www.southbersted.co.uk
SUMMARY:Key Stage 1 Sports Day
DESCRIPTION:Further details to follow
URL:https://www.southbersted.co.uk/calendar/key-stage-1-sports-day/
END:VEVENT
BEGIN:VEVENT
DTSTART;TZID=Europe/London:20220628T090000
DTEND;TZID=Europe/London:20220628T150000
DTSTAMP:20260421T234816
CREATED:20220608T133755Z
LAST-MODIFIED:20220608T133755Z
UID:14755-1656406800-1656428400@www.southbersted.co.uk
SUMMARY:Year 2 visiting West Dean Gardens
DESCRIPTION:This visit will take place within normal school hours. \nChildren will need to bring a waterproof jacket\, a small backpack\, a refillable water bottle and a sun hat.  Please apply suncream before school. \n 
URL:https://www.southbersted.co.uk/calendar/year-2-visiting-west-dean-gardens-4/
END:VEVENT
BEGIN:VEVENT
DTSTART;TZID=Europe/London:20220627T130000
DTEND;TZID=Europe/London:20220627T150000
DTSTAMP:20260421T234816
CREATED:20220627T091205Z
LAST-MODIFIED:20220627T091223Z
UID:14989-1656334800-1656342000@www.southbersted.co.uk
SUMMARY:Year 5 visiting Bersted Green Primary (BBC Orchestra Event)
DESCRIPTION:
URL:https://www.southbersted.co.uk/calendar/year-5-visiting-bersted-green-primary-bbc-orchestra-event/
END:VEVENT
BEGIN:VEVENT
DTSTART;TZID=Europe/London:20220627T103000
DTEND;TZID=Europe/London:20220627T113000
DTSTAMP:20260421T234816
CREATED:20211004T130038Z
LAST-MODIFIED:20211004T130142Z
UID:13930-1656325800-1656329400@www.southbersted.co.uk
SUMMARY:Year 6 Leavers Service at Chichester Cathedral
DESCRIPTION:
URL:https://www.southbersted.co.uk/calendar/year-6-leavers-service-at-chichester-cathedral-3/
END:VEVENT
BEGIN:VEVENT
DTSTART;TZID=Europe/London:20220624T151500
DTEND;TZID=Europe/London:20220625T100000
DTSTAMP:20260421T234816
CREATED:20220608T105312Z
LAST-MODIFIED:20220608T105733Z
UID:14747-1656083700-1656151200@www.southbersted.co.uk
SUMMARY:Year 4 Climbing/Archery/Camping
DESCRIPTION:During the day children will take part in archery and climbing activities. \nChildren should be collected at 10.00am prompt on Saturday 25th June.
URL:https://www.southbersted.co.uk/calendar/year-4-camping/
END:VEVENT
BEGIN:VEVENT
DTSTART;VALUE=DATE:20220624
DTEND;VALUE=DATE:20220625
DTSTAMP:20260421T234816
CREATED:20220622T110443Z
LAST-MODIFIED:20220622T113251Z
UID:14970-1656028800-1656115199@www.southbersted.co.uk
SUMMARY:Year 5 - Magic Day at FCC
DESCRIPTION:Children should arrive at school at the normal time. \n 
URL:https://www.southbersted.co.uk/calendar/year-5-magic-day-at-fcc-3/
END:VEVENT
BEGIN:VEVENT
DTSTART;TZID=Europe/London:20220621T124500
DTEND;TZID=Europe/London:20220621T151500
DTSTAMP:20260421T234816
CREATED:20211206T120042Z
LAST-MODIFIED:20211206T120042Z
UID:14173-1655815500-1655824500@www.southbersted.co.uk
SUMMARY:Future Flyers (Final Session)
DESCRIPTION:Participating children should be collected from school at 12.45pm. Please ensure your child has his/her Future Flyers t-shirt with them. \nParents and carers are invited to join the session from 3.00 – 3.15pm.
URL:https://www.southbersted.co.uk/calendar/future-flyers-final-session-3/
END:VEVENT
BEGIN:VEVENT
DTSTART;TZID=Europe/London:20220610T123000
DTEND;TZID=Europe/London:20220610T150000
DTSTAMP:20260421T234816
CREATED:20220607T121830Z
LAST-MODIFIED:20220607T121830Z
UID:14739-1654864200-1654873200@www.southbersted.co.uk
SUMMARY:Mini Red Tennis Festival at The Arena
DESCRIPTION:Participating children should wear PE kit to school on the day. \nChildren will be walked to the event by school staff.  Participating children must be collected from The Arena at 3.00pm
URL:https://www.southbersted.co.uk/calendar/mini-red-tennis-festival-at-the-arena/
END:VEVENT
BEGIN:VEVENT
DTSTART;TZID=Europe/London:20220608T090000
DTEND;TZID=Europe/London:20220608T120000
DTSTAMP:20260421T234816
CREATED:20220607T121714Z
LAST-MODIFIED:20220607T121714Z
UID:14736-1654678800-1654689600@www.southbersted.co.uk
SUMMARY:Disney Festival at The Arena
DESCRIPTION:Participating children should wear PE kit to school.  Children will walk to and from this event within the normal school day.
URL:https://www.southbersted.co.uk/calendar/disney-festival-at-the-arena/
END:VEVENT
END:VCALENDAR