BEGIN:VCALENDAR
VERSION:2.0
PRODID:-//South Bersted Primary School - ECPv6.15.5//NONSGML v1.0//EN
CALSCALE:GREGORIAN
METHOD:PUBLISH
X-WR-CALNAME:South Bersted Primary School
X-ORIGINAL-URL:https://www.southbersted.co.uk
X-WR-CALDESC:Events for South Bersted Primary School
REFRESH-INTERVAL;VALUE=DURATION:PT1H
X-Robots-Tag:noindex
X-PUBLISHED-TTL:PT1H
BEGIN:VTIMEZONE
TZID:Europe/London
BEGIN:DAYLIGHT
TZOFFSETFROM:+0000
TZOFFSETTO:+0100
TZNAME:BST
DTSTART:20220327T010000
END:DAYLIGHT
BEGIN:STANDARD
TZOFFSETFROM:+0100
TZOFFSETTO:+0000
TZNAME:GMT
DTSTART:20221030T010000
END:STANDARD
END:VTIMEZONE
BEGIN:VEVENT
DTSTART;VALUE=DATE:20221101
DTEND;VALUE=DATE:20221102
DTSTAMP:20260421T162822
CREATED:20221007T142552Z
LAST-MODIFIED:20221007T142552Z
UID:15484-1667260800-1667347199@www.southbersted.co.uk
SUMMARY:Flu Vaccinations
DESCRIPTION:The School Nursing Team will be visiting to administer nasal flu vaccinations to all children who have parental consent
URL:https://www.southbersted.co.uk/calendar/flu-vaccinations/
END:VEVENT
BEGIN:VEVENT
DTSTART;VALUE=DATE:20221024
DTEND;VALUE=DATE:20221029
DTSTAMP:20260421T162822
CREATED:20220722T110410Z
LAST-MODIFIED:20220722T110410Z
UID:15074-1666569600-1667001599@www.southbersted.co.uk
SUMMARY:HALF TERM
DESCRIPTION:
URL:https://www.southbersted.co.uk/calendar/half-term-13/
END:VEVENT
BEGIN:VEVENT
DTSTART;VALUE=DATE:20221021
DTEND;VALUE=DATE:20221022
DTSTAMP:20260421T162822
CREATED:20220722T110341Z
LAST-MODIFIED:20220722T110341Z
UID:15071-1666310400-1666396799@www.southbersted.co.uk
SUMMARY:INSET DAY
DESCRIPTION:
URL:https://www.southbersted.co.uk/calendar/inset-day-22/
END:VEVENT
BEGIN:VEVENT
DTSTART;TZID=Europe/London:20221019T093000
DTEND;TZID=Europe/London:20221019T150000
DTSTAMP:20260421T162822
CREATED:20221018T132521Z
LAST-MODIFIED:20221018T132521Z
UID:15520-1666171800-1666191600@www.southbersted.co.uk
SUMMARY:Commonwealth Games Event at The Arena
DESCRIPTION:Participating children will be walked to the event by South Bersted School staff.  Parents/Carers should collect their child from the venue at the end of the event.
URL:https://www.southbersted.co.uk/calendar/commonwealth-games-event-at-the-arena/
END:VEVENT
BEGIN:VEVENT
DTSTART;TZID=Europe/London:20221017T140000
DTEND;TZID=Europe/London:20221017T150000
DTSTAMP:20260421T162822
CREATED:20220907T121021Z
LAST-MODIFIED:20220915T133612Z
UID:15226-1666015200-1666018800@www.southbersted.co.uk
SUMMARY:Anxiety Workshop (2 of 5) (RESCHEDULED)
DESCRIPTION:The session will take place in the hall.  Sessions will run every Monday for 5 weeks.  To book a place please contact the school office. \nSessions will be run by Vik Machin\, Mental Health Advisory Teacher from the WSCC Mental Health Support Team.
URL:https://www.southbersted.co.uk/calendar/anxiety-workshop-2-of-5/
END:VEVENT
BEGIN:VEVENT
DTSTART;TZID=Europe/London:20221017T130000
DTEND;TZID=Europe/London:20221017T150000
DTSTAMP:20260421T162822
CREATED:20220923T083457Z
LAST-MODIFIED:20220923T083457Z
UID:15364-1666011600-1666018800@www.southbersted.co.uk
SUMMARY:Year 1 Outdoor Learning
DESCRIPTION:Please ensure your child has a waterproof coat in school
URL:https://www.southbersted.co.uk/calendar/year-1-outdoor-learning-5/
END:VEVENT
BEGIN:VEVENT
DTSTART;TZID=Europe/London:20221012T130000
DTEND;TZID=Europe/London:20221012T150000
DTSTAMP:20260421T162822
CREATED:20221004T125957Z
LAST-MODIFIED:20221004T125957Z
UID:15471-1665579600-1665586800@www.southbersted.co.uk
SUMMARY:Rowing Event at The Arena
DESCRIPTION:Participating children should wear PE kit to school on this date. \nChildren should be collected from The Arena at the end of the event.
URL:https://www.southbersted.co.uk/calendar/rowing-event-at-the-arena/
END:VEVENT
BEGIN:VEVENT
DTSTART;TZID=Europe/London:20221011T141500
DTEND;TZID=Europe/London:20221011T150000
DTSTAMP:20260421T162822
CREATED:20220927T092017Z
LAST-MODIFIED:20220927T092017Z
UID:15396-1665497700-1665500400@www.southbersted.co.uk
SUMMARY:Year 1 Toy Discovery Afternoon
DESCRIPTION:Parents and carers\, grandparents and great-grandparents are invited to share their own childhood toys
URL:https://www.southbersted.co.uk/calendar/year-1-toy-discovery-afternoon-4/
END:VEVENT
BEGIN:VEVENT
DTSTART;TZID=Europe/London:20221011T090000
DTEND;TZID=Europe/London:20221011T150000
DTSTAMP:20260421T162822
CREATED:20220922T113657Z
LAST-MODIFIED:20220922T113657Z
UID:15345-1665478800-1665500400@www.southbersted.co.uk
SUMMARY:Year 5 visiting Chichester Planetarium
DESCRIPTION:Children should wear full school uniform and must have a waterproof jacket with them
URL:https://www.southbersted.co.uk/calendar/year-5-visiting-chichester-planetarium-4/
END:VEVENT
BEGIN:VEVENT
DTSTART;TZID=Europe/London:20221010T140000
DTEND;TZID=Europe/London:20221010T150000
DTSTAMP:20260421T162822
CREATED:20220907T121143Z
LAST-MODIFIED:20220907T121143Z
UID:15235-1665410400-1665414000@www.southbersted.co.uk
SUMMARY:Anxiety Workshop (5 of 5)
DESCRIPTION:The session will take place in the hall.  Sessions will run every Monday for 5 weeks.  To book a place please contact the school office. \nSessions will be run by Vik Machin\, Mental Health Advisory Teacher from the WSCC Mental Health Support Team.
URL:https://www.southbersted.co.uk/calendar/anxiety-workshop-5-of-5/
END:VEVENT
BEGIN:VEVENT
DTSTART;TZID=Europe/London:20221010T130000
DTEND;TZID=Europe/London:20221010T150000
DTSTAMP:20260421T162822
CREATED:20220923T083431Z
LAST-MODIFIED:20220923T083431Z
UID:15361-1665406800-1665414000@www.southbersted.co.uk
SUMMARY:Year 2 Outdoor Learning
DESCRIPTION:Please ensure your child has a waterproof coat in school
URL:https://www.southbersted.co.uk/calendar/year-2-outdoor-learning-5/
END:VEVENT
BEGIN:VEVENT
DTSTART;TZID=Europe/London:20221010T084500
DTEND;TZID=Europe/London:20221010T093000
DTSTAMP:20260421T162822
CREATED:20220927T102349Z
LAST-MODIFIED:20220927T131953Z
UID:15399-1665391500-1665394200@www.southbersted.co.uk
SUMMARY:Y6 Residential 2023 - Parent Information Meeting
DESCRIPTION:Year 6 parents and carers are invited to attend an information meeting regarding the Year 6 residential which will take place in July 2023
URL:https://www.southbersted.co.uk/calendar/y6-residential-2023-parent-information-meeting/
END:VEVENT
BEGIN:VEVENT
DTSTART;TZID=Europe/London:20221007T130000
DTEND;TZID=Europe/London:20221007T150000
DTSTAMP:20260421T162822
CREATED:20220923T083406Z
LAST-MODIFIED:20220923T083406Z
UID:15358-1665147600-1665154800@www.southbersted.co.uk
SUMMARY:Year 3 Outdoor Learning
DESCRIPTION:Please ensure your child has a waterproof coat in school
URL:https://www.southbersted.co.uk/calendar/year-3-outdoor-learning-5/
END:VEVENT
BEGIN:VEVENT
DTSTART;TZID=Europe/London:20221005T090000
DTEND;TZID=Europe/London:20221005T093000
DTSTAMP:20260421T162822
CREATED:20221004T130139Z
LAST-MODIFIED:20221004T130139Z
UID:15474-1664960400-1664962200@www.southbersted.co.uk
SUMMARY:Friends of South Bersted Meeting
DESCRIPTION:Parents\, carers and grandparents are invited to join us to find out how you can get involved with the Friends of South Bersted
URL:https://www.southbersted.co.uk/calendar/friends-of-south-bersted-meeting-4/
END:VEVENT
BEGIN:VEVENT
DTSTART;TZID=Europe/London:20221004T083000
DTEND;TZID=Europe/London:20221004T100000
DTSTAMP:20260421T162822
CREATED:20220915T133320Z
LAST-MODIFIED:20220915T133320Z
UID:15323-1664872200-1664877600@www.southbersted.co.uk
SUMMARY:Reception - Bedtime Breakfast Event
DESCRIPTION:Children should wear pyjamas to school on this date.  Parents should book their place via the Events facility within ParentMail.\nA light breakfast will be provided.
URL:https://www.southbersted.co.uk/calendar/reception-bedtime-breakfast-event-3/
END:VEVENT
BEGIN:VEVENT
DTSTART;TZID=Europe/London:20221003T140000
DTEND;TZID=Europe/London:20221003T150000
DTSTAMP:20260421T162822
CREATED:20220907T121114Z
LAST-MODIFIED:20220907T121114Z
UID:15232-1664805600-1664809200@www.southbersted.co.uk
SUMMARY:Anxiety Workshop (4 of 5)
DESCRIPTION:The session will take place in the hall.  Sessions will run every Monday for 5 weeks.  To book a place please contact the school office. \nSessions will be run by Vik Machin\, Mental Health Advisory Teacher from the WSCC Mental Health Support Team.
URL:https://www.southbersted.co.uk/calendar/anxiety-workshop-4-of-5/
END:VEVENT
BEGIN:VEVENT
DTSTART;TZID=Europe/London:20221003T084500
DTEND;TZID=Europe/London:20221003T091500
DTSTAMP:20260421T162822
CREATED:20220929T184037Z
LAST-MODIFIED:20220929T184037Z
UID:15433-1664786700-1664788500@www.southbersted.co.uk
SUMMARY:Year 1 - Phonics Parent Information Meeting
DESCRIPTION:Parents and Carers are invited to attend a short meeting to learn more about our new phonics scheme ‘Supersonic Phonic Friends)
URL:https://www.southbersted.co.uk/calendar/year-1-phonics-parent-information-meeting/
END:VEVENT
BEGIN:VEVENT
DTSTART;TZID=Europe/London:20220929T084500
DTEND;TZID=Europe/London:20220929T091500
DTSTAMP:20260421T162822
CREATED:20220907T110046Z
LAST-MODIFIED:20220907T110046Z
UID:15172-1664441100-1664442900@www.southbersted.co.uk
SUMMARY:Year 6 - Meet and Greet the Teacher Session
DESCRIPTION:Year 6 parents and carers are invited to join us for tea/coffee in the hall from 8.45am.
URL:https://www.southbersted.co.uk/calendar/year-6-meet-and-greet-the-teacher-session/
END:VEVENT
BEGIN:VEVENT
DTSTART;TZID=Europe/London:20220928T130000
DTEND;TZID=Europe/London:20220928T150000
DTSTAMP:20260421T162822
CREATED:20220923T083336Z
LAST-MODIFIED:20220923T083336Z
UID:15355-1664370000-1664377200@www.southbersted.co.uk
SUMMARY:Year 4 Outdoor Learning
DESCRIPTION:Please ensure your child has a waterproof coat in school
URL:https://www.southbersted.co.uk/calendar/year-4-outdoor-learning-5/
END:VEVENT
BEGIN:VEVENT
DTSTART;TZID=Europe/London:20220927T084500
DTEND;TZID=Europe/London:20220927T091500
DTSTAMP:20260421T162822
CREATED:20220907T110009Z
LAST-MODIFIED:20220907T110009Z
UID:15169-1664268300-1664270100@www.southbersted.co.uk
SUMMARY:Year 5 - Meet and Greet the Teacher Session
DESCRIPTION:Year 5 parents and carers are invited to join us for tea/coffee in the hall from 8.45am.
URL:https://www.southbersted.co.uk/calendar/year-5-meet-and-greet-the-teacher-session/
END:VEVENT
BEGIN:VEVENT
DTSTART;TZID=Europe/London:20220926T140000
DTEND;TZID=Europe/London:20220926T150000
DTSTAMP:20260421T162822
CREATED:20220907T121046Z
LAST-MODIFIED:20220907T121046Z
UID:15229-1664200800-1664204400@www.southbersted.co.uk
SUMMARY:Anxiety Workshop (3 of 5)
DESCRIPTION:The session will take place in the hall.  Sessions will run every Monday for 5 weeks.  To book a place please contact the school office. \nSessions will be run by Vik Machin\, Mental Health Advisory Teacher from the WSCC Mental Health Support Team.
URL:https://www.southbersted.co.uk/calendar/anxiety-workshop-3-of-5/
END:VEVENT
BEGIN:VEVENT
DTSTART;TZID=Europe/London:20220921T130000
DTEND;TZID=Europe/London:20220921T150000
DTSTAMP:20260421T162822
CREATED:20220923T083127Z
LAST-MODIFIED:20220923T083258Z
UID:15352-1663765200-1663772400@www.southbersted.co.uk
SUMMARY:Year 5 Outdoor Learning
DESCRIPTION:Please ensure your child has a waterproof coat in school
URL:https://www.southbersted.co.uk/calendar/year-5-outdoor-learning-5/
END:VEVENT
BEGIN:VEVENT
DTSTART;TZID=Europe/London:20220920T084500
DTEND;TZID=Europe/London:20220920T093000
DTSTAMP:20260421T162822
CREATED:20220907T105348Z
LAST-MODIFIED:20220915T133405Z
UID:15153-1663663500-1663666200@www.southbersted.co.uk
SUMMARY:Reception - Meet and Greet the Teacher Session (Rescheduled)
DESCRIPTION:Parents and carers are invited to join us for tea/coffee in the hall from 8.45am.
URL:https://www.southbersted.co.uk/calendar/reception-meet-and-greet-the-teacher/
END:VEVENT
BEGIN:VEVENT
DTSTART;VALUE=DATE:20220919
DTEND;VALUE=DATE:20220920
DTSTAMP:20260421T162822
CREATED:20220915T133445Z
LAST-MODIFIED:20220915T133445Z
UID:15328-1663545600-1663631999@www.southbersted.co.uk
SUMMARY:BANK HOLIDAY
DESCRIPTION:School will be closed due to the funeral of Queen Elizabeth II
URL:https://www.southbersted.co.uk/calendar/bank-holiday-13/
END:VEVENT
BEGIN:VEVENT
DTSTART;TZID=Europe/London:20220916T084500
DTEND;TZID=Europe/London:20220916T091500
DTSTAMP:20260421T162822
CREATED:20220907T105922Z
LAST-MODIFIED:20220907T105922Z
UID:15166-1663317900-1663319700@www.southbersted.co.uk
SUMMARY:Year 4 - Meet and Greet the Teacher Session
DESCRIPTION:Year 4 parents and carers are invited to join us for tea/coffee in the hall from 8.45am.
URL:https://www.southbersted.co.uk/calendar/year-4-meet-and-greet-the-teacher-session/
END:VEVENT
BEGIN:VEVENT
DTSTART;TZID=Europe/London:20220915T084500
DTEND;TZID=Europe/London:20220915T091500
DTSTAMP:20260421T162822
CREATED:20220907T105839Z
LAST-MODIFIED:20220907T105839Z
UID:15163-1663231500-1663233300@www.southbersted.co.uk
SUMMARY:Year 3 - Meet and Greet the Teacher Session
DESCRIPTION:Year 3 parents and carers are invited to join us for tea/coffee in the hall from 8.45am.
URL:https://www.southbersted.co.uk/calendar/year-3-meet-and-greet-the-teacher-session/
END:VEVENT
BEGIN:VEVENT
DTSTART;VALUE=DATE:20220915
DTEND;VALUE=DATE:20220916
DTSTAMP:20260421T162822
CREATED:20220907T114614Z
LAST-MODIFIED:20220907T114614Z
UID:15199-1663200000-1663286399@www.southbersted.co.uk
SUMMARY:Reception Class
DESCRIPTION:All children in Reception Class should attend all day from today.
URL:https://www.southbersted.co.uk/calendar/reception-class/
END:VEVENT
BEGIN:VEVENT
DTSTART;TZID=Europe/London:20220914T130000
DTEND;TZID=Europe/London:20220914T151500
DTSTAMP:20260421T162822
CREATED:20220907T120254Z
LAST-MODIFIED:20220907T120254Z
UID:15220-1663160400-1663168500@www.southbersted.co.uk
SUMMARY:Reception Class - Group B
DESCRIPTION:Children in Group B should attend for the afternoon session (1.00 – 3.15pm)
URL:https://www.southbersted.co.uk/calendar/reception-class-group-b-6/
END:VEVENT
BEGIN:VEVENT
DTSTART;TZID=Europe/London:20220914T085000
DTEND;TZID=Europe/London:20220914T123000
DTSTAMP:20260421T162822
CREATED:20220907T114544Z
LAST-MODIFIED:20220907T114544Z
UID:15196-1663145400-1663158600@www.southbersted.co.uk
SUMMARY:Reception Class - Group A
DESCRIPTION:Children in Group A should attend for the morning session (8.50 – 12.30pm).  Lunch will be provided.
URL:https://www.southbersted.co.uk/calendar/reception-class-group-a-6/
END:VEVENT
BEGIN:VEVENT
DTSTART;TZID=Europe/London:20220914T084500
DTEND;TZID=Europe/London:20220914T091500
DTSTAMP:20260421T162822
CREATED:20220907T105602Z
LAST-MODIFIED:20220907T105602Z
UID:15157-1663145100-1663146900@www.southbersted.co.uk
SUMMARY:Year 1 - Meet and Greet the Teacher Session
DESCRIPTION:Year 1 parents and carers are invited to join us for tea/coffee in the hall from 8.45am.
URL:https://www.southbersted.co.uk/calendar/year-1-meet-and-greet-the-teacher-session/
END:VEVENT
END:VCALENDAR