BEGIN:VCALENDAR
VERSION:2.0
PRODID:-//South Bersted Primary School - ECPv6.15.5//NONSGML v1.0//EN
CALSCALE:GREGORIAN
METHOD:PUBLISH
X-WR-CALNAME:South Bersted Primary School
X-ORIGINAL-URL:https://www.southbersted.co.uk
X-WR-CALDESC:Events for South Bersted Primary School
REFRESH-INTERVAL;VALUE=DURATION:PT1H
X-Robots-Tag:noindex
X-PUBLISHED-TTL:PT1H
BEGIN:VTIMEZONE
TZID:Europe/London
BEGIN:DAYLIGHT
TZOFFSETFROM:+0000
TZOFFSETTO:+0100
TZNAME:BST
DTSTART:20220327T010000
END:DAYLIGHT
BEGIN:STANDARD
TZOFFSETFROM:+0100
TZOFFSETTO:+0000
TZNAME:GMT
DTSTART:20221030T010000
END:STANDARD
END:VTIMEZONE
BEGIN:VEVENT
DTSTART;VALUE=DATE:20221215
DTEND;VALUE=DATE:20221216
DTSTAMP:20260421T162034
CREATED:20221116T223627Z
LAST-MODIFIED:20221116T223650Z
UID:15671-1671062400-1671148799@www.southbersted.co.uk
SUMMARY:Christmas Jumper Day
DESCRIPTION:Children can wear a Christmas jumper in place of their normal school jumper or cardigan. \n(Please contact the office if you would like to borrow a Christmas jumper for your child)
URL:https://www.southbersted.co.uk/calendar/christmas-jumper-day-5/
END:VEVENT
BEGIN:VEVENT
DTSTART;TZID=Europe/London:20221214T103000
DTEND;TZID=Europe/London:20221214T110000
DTSTAMP:20260421T162034
CREATED:20221124T111247Z
LAST-MODIFIED:20221124T111247Z
UID:15712-1671013800-1671015600@www.southbersted.co.uk
SUMMARY:Christingle Service (in school)
DESCRIPTION:Children and staff only.  Children will bring their Christingle home at the end of the day.
URL:https://www.southbersted.co.uk/calendar/christingle-service-in-school-2/
END:VEVENT
BEGIN:VEVENT
DTSTART;VALUE=DATE:20221214
DTEND;VALUE=DATE:20221215
DTSTAMP:20260421T162034
CREATED:20221124T111332Z
LAST-MODIFIED:20221124T111332Z
UID:15715-1670976000-1671062399@www.southbersted.co.uk
SUMMARY:Friends of South Bersted Raffle Draw
DESCRIPTION:Winners will be notified by dojo or phone call
URL:https://www.southbersted.co.uk/calendar/friends-of-south-bersted-raffle-draw-2/
END:VEVENT
BEGIN:VEVENT
DTSTART;VALUE=DATE:20221213
DTEND;VALUE=DATE:20221214
DTSTAMP:20260421T162034
CREATED:20221121T120130Z
LAST-MODIFIED:20221121T120130Z
UID:15679-1670889600-1670975999@www.southbersted.co.uk
SUMMARY:Year 6 Evacuation Day
DESCRIPTION:Children should come to school dressed in 1940’s/World War 2 attire
URL:https://www.southbersted.co.uk/calendar/year-6-evacuation-day-5/
END:VEVENT
BEGIN:VEVENT
DTSTART;TZID=Europe/London:20221212T151500
DTEND;TZID=Europe/London:20221212T173000
DTSTAMP:20260421T162034
CREATED:20221116T223251Z
LAST-MODIFIED:20221116T223251Z
UID:15664-1670858100-1670866200@www.southbersted.co.uk
SUMMARY:Years 3-6 Christmas Film Night
DESCRIPTION:Tickets available via ParentMail.
URL:https://www.southbersted.co.uk/calendar/years-3-6-christmas-film-night/
END:VEVENT
BEGIN:VEVENT
DTSTART;TZID=Europe/London:20221209T091500
DTEND;TZID=Europe/London:20221209T101500
DTSTAMP:20260421T162034
CREATED:20221020T110258Z
LAST-MODIFIED:20221020T110811Z
UID:15551-1670577300-1670580900@www.southbersted.co.uk
SUMMARY:Year 1 and 2 Christmas Performance
DESCRIPTION:Ticket information will be issued in due course
URL:https://www.southbersted.co.uk/calendar/year-1-and-2-christmas-performance-5/
END:VEVENT
BEGIN:VEVENT
DTSTART;TZID=Europe/London:20221208T154500
DTEND;TZID=Europe/London:20221208T174500
DTSTAMP:20260421T162034
CREATED:20221201T113825Z
LAST-MODIFIED:20221201T113825Z
UID:15737-1670514300-1670521500@www.southbersted.co.uk
SUMMARY:FAB Football & Netball Fixture
DESCRIPTION:Participating children should arrive at The Arena by 3.45pm prompt. \nChildren will be supplied with a team kit which must be returned (unwashed) by Friday 9th December.
URL:https://www.southbersted.co.uk/calendar/fab-football-netball-fixture-3/
END:VEVENT
BEGIN:VEVENT
DTSTART;TZID=Europe/London:20221208T140000
DTEND;TZID=Europe/London:20221208T150000
DTSTAMP:20260421T162034
CREATED:20221020T110225Z
LAST-MODIFIED:20221020T110829Z
UID:15548-1670508000-1670511600@www.southbersted.co.uk
SUMMARY:Year 1 and 2 Christmas Performance
DESCRIPTION:Ticket information will be issued in due course
URL:https://www.southbersted.co.uk/calendar/year-1-and-2-christmas-performance-4/
END:VEVENT
BEGIN:VEVENT
DTSTART;TZID=Europe/London:20221207T130000
DTEND;TZID=Europe/London:20221207T160000
DTSTAMP:20260421T162034
CREATED:20221201T113553Z
LAST-MODIFIED:20221201T113553Z
UID:15731-1670418000-1670428800@www.southbersted.co.uk
SUMMARY:Bronze Ambassador Conference - The Arena
DESCRIPTION:Participating children should be collected from The Arena at 4.00pm.
URL:https://www.southbersted.co.uk/calendar/bronze-ambassador-conference-the-arena-2/
END:VEVENT
BEGIN:VEVENT
DTSTART;TZID=Europe/London:20221207T091500
DTEND;TZID=Europe/London:20221207T100000
DTSTAMP:20260421T162034
CREATED:20221020T110000Z
LAST-MODIFIED:20221020T110128Z
UID:15545-1670404500-1670407200@www.southbersted.co.uk
SUMMARY:Reception Christmas Performance
DESCRIPTION:Ticket information will be sent out in due course.
URL:https://www.southbersted.co.uk/calendar/reception-christmas-performance-2/
END:VEVENT
BEGIN:VEVENT
DTSTART;TZID=Europe/London:20221206T141500
DTEND;TZID=Europe/London:20221206T150000
DTSTAMP:20260421T162034
CREATED:20221020T105815Z
LAST-MODIFIED:20221020T105815Z
UID:15542-1670336100-1670338800@www.southbersted.co.uk
SUMMARY:Reception Christmas Performance
DESCRIPTION:Ticket information will be sent out in due course.
URL:https://www.southbersted.co.uk/calendar/reception-christmas-performance/
END:VEVENT
BEGIN:VEVENT
DTSTART;TZID=Europe/London:20221205T151500
DTEND;TZID=Europe/London:20221205T173000
DTSTAMP:20260421T162034
CREATED:20221116T223149Z
LAST-MODIFIED:20221116T223201Z
UID:15661-1670253300-1670261400@www.southbersted.co.uk
SUMMARY:YR/1/2 Christmas Film Night
DESCRIPTION:Tickets available via ParentMail.
URL:https://www.southbersted.co.uk/calendar/yr-1-2-christmas-film-night/
END:VEVENT
BEGIN:VEVENT
DTSTART;TZID=Europe/London:20221205T130000
DTEND;TZID=Europe/London:20221205T150000
DTSTAMP:20260421T162034
CREATED:20221020T110732Z
LAST-MODIFIED:20221020T110732Z
UID:15570-1670245200-1670252400@www.southbersted.co.uk
SUMMARY:Year 1 Outdoor Learning
DESCRIPTION:Children must bring a waterproof coat to school
URL:https://www.southbersted.co.uk/calendar/year-1-outdoor-learning-6/
END:VEVENT
BEGIN:VEVENT
DTSTART;VALUE=DATE:20221205
DTEND;VALUE=DATE:20221206
DTSTAMP:20260421T162034
CREATED:20221124T110342Z
LAST-MODIFIED:20221124T110342Z
UID:15706-1670198400-1670284799@www.southbersted.co.uk
SUMMARY:Children's Christmas Post Box begins
DESCRIPTION:Post boxes will be located in KS2 communal area and Library area.  Please ensure the envelope states recipients name and class.\nLast posting date – Thursday 15th December.
URL:https://www.southbersted.co.uk/calendar/childrens-christmas-post-box-begins-2/
END:VEVENT
BEGIN:VEVENT
DTSTART;VALUE=DATE:20221205
DTEND;VALUE=DATE:20221206
DTSTAMP:20260421T162034
CREATED:20221121T120257Z
LAST-MODIFIED:20221121T120257Z
UID:15682-1670198400-1670284799@www.southbersted.co.uk
SUMMARY:Year 3 Victorian Day
DESCRIPTION:Children should come to school dressed in Victorian style school clothing
URL:https://www.southbersted.co.uk/calendar/year-3-victorian-day-4/
END:VEVENT
BEGIN:VEVENT
DTSTART;TZID=Europe/London:20221129T130000
DTEND;TZID=Europe/London:20221129T150000
DTSTAMP:20260421T162034
CREATED:20221020T110659Z
LAST-MODIFIED:20221020T110659Z
UID:15567-1669726800-1669734000@www.southbersted.co.uk
SUMMARY:Year 2 Outdoor Learning
DESCRIPTION:Children must bring a waterproof coat to school
URL:https://www.southbersted.co.uk/calendar/year-2-outdoor-learning-6/
END:VEVENT
BEGIN:VEVENT
DTSTART;TZID=Europe/London:20221125T130000
DTEND;TZID=Europe/London:20221125T150000
DTSTAMP:20260421T162034
CREATED:20221020T110626Z
LAST-MODIFIED:20221020T110632Z
UID:15563-1669381200-1669388400@www.southbersted.co.uk
SUMMARY:Year 3 Outdoor Learning
DESCRIPTION:Children must bring a waterproof coat to school
URL:https://www.southbersted.co.uk/calendar/year-3-outdoor-learning-6/
END:VEVENT
BEGIN:VEVENT
DTSTART;VALUE=DATE:20221125
DTEND;VALUE=DATE:20221126
DTSTAMP:20260421T162034
CREATED:20221121T120335Z
LAST-MODIFIED:20221121T131126Z
UID:15685-1669334400-1669420799@www.southbersted.co.uk
SUMMARY:Reception Superhero Day
DESCRIPTION:Children should wear a superhero costume\, with a cape.
URL:https://www.southbersted.co.uk/calendar/reception-superhero-day-3/
END:VEVENT
BEGIN:VEVENT
DTSTART;TZID=Europe/London:20221124T133000
DTEND;TZID=Europe/London:20221124T150000
DTSTAMP:20260421T162034
CREATED:20221124T125503Z
LAST-MODIFIED:20221124T125503Z
UID:15722-1669296600-1669302000@www.southbersted.co.uk
SUMMARY:Year 1 visiting South Bersted Church
DESCRIPTION:Year 1 will be visiting the church to meet with Tim the Vicar\, to learn more about ‘Why does Christmas matter to Christians?’
URL:https://www.southbersted.co.uk/calendar/year-1-visiting-south-bersted-church/
END:VEVENT
BEGIN:VEVENT
DTSTART;TZID=Europe/London:20221122T130000
DTEND;TZID=Europe/London:20221122T153000
DTSTAMP:20260421T162034
CREATED:20221116T152317Z
LAST-MODIFIED:20221116T152317Z
UID:15655-1669122000-1669131000@www.southbersted.co.uk
SUMMARY:Y5/6 Girls Football Event
DESCRIPTION:Participating children will be walked to the event by school staff.   Please collect your child from The Arena at the end of the event.
URL:https://www.southbersted.co.uk/calendar/y5-6-girls-football-event/
END:VEVENT
BEGIN:VEVENT
DTSTART;TZID=Europe/London:20221121T130000
DTEND;TZID=Europe/London:20221121T150000
DTSTAMP:20260421T162034
CREATED:20221019T143750Z
LAST-MODIFIED:20221019T143750Z
UID:15536-1669035600-1669042800@www.southbersted.co.uk
SUMMARY:Year 1 Toy Workshop (Novium Museum)
DESCRIPTION:This workshop will take place in school
URL:https://www.southbersted.co.uk/calendar/year-1-toy-workshop-novium-museum/
END:VEVENT
BEGIN:VEVENT
DTSTART;TZID=Europe/London:20221121T093000
DTEND;TZID=Europe/London:20221121T120000
DTSTAMP:20260421T162034
CREATED:20221116T152548Z
LAST-MODIFIED:20221116T152548Z
UID:15658-1669023000-1669032000@www.southbersted.co.uk
SUMMARY:Year 5/6 Football Event
DESCRIPTION:Participating children will be walked to and from the event by school staff.
URL:https://www.southbersted.co.uk/calendar/year-5-6-football-event-2/
END:VEVENT
BEGIN:VEVENT
DTSTART;TZID=Europe/London:20221116T130000
DTEND;TZID=Europe/London:20221116T150000
DTSTAMP:20260421T162034
CREATED:20221020T110551Z
LAST-MODIFIED:20221020T110551Z
UID:15560-1668603600-1668610800@www.southbersted.co.uk
SUMMARY:Year 4 Outdoor Learning
DESCRIPTION:Children must bring a waterproof coat to school
URL:https://www.southbersted.co.uk/calendar/year-4-outdoor-learning-6/
END:VEVENT
BEGIN:VEVENT
DTSTART;TZID=Europe/London:20221114T090000
DTEND;TZID=Europe/London:20221114T150000
DTSTAMP:20260421T162034
CREATED:20221019T134545Z
LAST-MODIFIED:20221019T134545Z
UID:15532-1668416400-1668438000@www.southbersted.co.uk
SUMMARY:Year 6 visiting Tangmere Military Aviation Museum
DESCRIPTION:Visit to the museum to support our Big Question.
URL:https://www.southbersted.co.uk/calendar/year-6-visiting-tangmere-military-aviation-museum/
END:VEVENT
BEGIN:VEVENT
DTSTART;TZID=Europe/London:20221109T153000
DTEND;TZID=Europe/London:20221109T190000
DTSTAMP:20260421T162034
CREATED:20221019T132141Z
LAST-MODIFIED:20221019T132141Z
UID:15529-1668007800-1668020400@www.southbersted.co.uk
SUMMARY:Parent Teacher Consultations
DESCRIPTION:Please book your appointment via ‘Parents Evenings’ within your ParentMail account.
URL:https://www.southbersted.co.uk/calendar/parent-teacher-consultations-12/
END:VEVENT
BEGIN:VEVENT
DTSTART;TZID=Europe/London:20221109T130000
DTEND;TZID=Europe/London:20221109T150000
DTSTAMP:20260421T162034
CREATED:20221020T110521Z
LAST-MODIFIED:20221020T110521Z
UID:15557-1667998800-1668006000@www.southbersted.co.uk
SUMMARY:Year 5 Outdoor Learning
DESCRIPTION:Children must bring a waterproof coat to school
URL:https://www.southbersted.co.uk/calendar/year-5-outdoor-learning-6/
END:VEVENT
BEGIN:VEVENT
DTSTART;TZID=Europe/London:20221107T153000
DTEND;TZID=Europe/London:20221107T170000
DTSTAMP:20260421T162034
CREATED:20221019T132112Z
LAST-MODIFIED:20221019T132112Z
UID:15526-1667835000-1667840400@www.southbersted.co.uk
SUMMARY:Parent Teacher Consultations
DESCRIPTION:Please book your appointment via ‘Parents Evenings’ within your ParentMail account.
URL:https://www.southbersted.co.uk/calendar/parent-teacher-consultations-11/
END:VEVENT
BEGIN:VEVENT
DTSTART;VALUE=DATE:20221107
DTEND;VALUE=DATE:20221108
DTSTAMP:20260421T162034
CREATED:20221004T133741Z
LAST-MODIFIED:20221004T133741Z
UID:15477-1667779200-1667865599@www.southbersted.co.uk
SUMMARY:West Sussex Fire and Rescue Service visiting YR/Y2/Y5
DESCRIPTION:West Sussex Fire and Rescue Service will be visiting us to give their annual Fire Safety talks to children in Reception\, Year 2 and Year 5.
URL:https://www.southbersted.co.uk/calendar/west-sussex-fire-and-rescue-service-visiting-yr-y2-y5/
END:VEVENT
BEGIN:VEVENT
DTSTART;TZID=Europe/London:20221102T130000
DTEND;TZID=Europe/London:20221102T150000
DTSTAMP:20260421T162034
CREATED:20221020T110457Z
LAST-MODIFIED:20221020T110457Z
UID:15554-1667394000-1667401200@www.southbersted.co.uk
SUMMARY:Year 6 Outdoor Learning
DESCRIPTION:Children must bring a waterproof coat to school
URL:https://www.southbersted.co.uk/calendar/year-6-outdoor-learning-5/
END:VEVENT
BEGIN:VEVENT
DTSTART;TZID=Europe/London:20221101T090000
DTEND;TZID=Europe/London:20221101T150000
DTSTAMP:20260421T162034
CREATED:20220922T113802Z
LAST-MODIFIED:20220922T120522Z
UID:15348-1667293200-1667314800@www.southbersted.co.uk
SUMMARY:Year 5 visiting Ford Materials Recycling Centre
DESCRIPTION:Children must wear full school uniform including long trousers/leggings and school jumper or cardigan.  Long hair must be tied back
URL:https://www.southbersted.co.uk/calendar/year-5-visiting-ford-materials-recycling-centre-3/
END:VEVENT
END:VCALENDAR