BEGIN:VCALENDAR
VERSION:2.0
PRODID:-//South Bersted Primary School - ECPv6.15.5//NONSGML v1.0//EN
CALSCALE:GREGORIAN
METHOD:PUBLISH
X-WR-CALNAME:South Bersted Primary School
X-ORIGINAL-URL:https://www.southbersted.co.uk
X-WR-CALDESC:Events for South Bersted Primary School
REFRESH-INTERVAL;VALUE=DURATION:PT1H
X-Robots-Tag:noindex
X-PUBLISHED-TTL:PT1H
BEGIN:VTIMEZONE
TZID:Europe/London
BEGIN:DAYLIGHT
TZOFFSETFROM:+0000
TZOFFSETTO:+0100
TZNAME:BST
DTSTART:20220327T010000
END:DAYLIGHT
BEGIN:STANDARD
TZOFFSETFROM:+0100
TZOFFSETTO:+0000
TZNAME:GMT
DTSTART:20221030T010000
END:STANDARD
BEGIN:DAYLIGHT
TZOFFSETFROM:+0000
TZOFFSETTO:+0100
TZNAME:BST
DTSTART:20230326T010000
END:DAYLIGHT
BEGIN:STANDARD
TZOFFSETFROM:+0100
TZOFFSETTO:+0000
TZNAME:GMT
DTSTART:20231029T010000
END:STANDARD
END:VTIMEZONE
BEGIN:VEVENT
DTSTART;TZID=Europe/London:20230223T090000
DTEND;TZID=Europe/London:20230223T120000
DTSTAMP:20260419T143525
CREATED:20230130T142015Z
LAST-MODIFIED:20230130T142015Z
UID:15907-1677142800-1677153600@www.southbersted.co.uk
SUMMARY:Year 6 Swimming
DESCRIPTION:
URL:https://www.southbersted.co.uk/calendar/year-6-swimming/
END:VEVENT
BEGIN:VEVENT
DTSTART;VALUE=DATE:20230213
DTEND;VALUE=DATE:20230218
DTSTAMP:20260419T143525
CREATED:20220722T110706Z
LAST-MODIFIED:20220722T110706Z
UID:15089-1676246400-1676678399@www.southbersted.co.uk
SUMMARY:HALF TERM
DESCRIPTION:
URL:https://www.southbersted.co.uk/calendar/half-term-14/
END:VEVENT
BEGIN:VEVENT
DTSTART;VALUE=DATE:20230208
DTEND;VALUE=DATE:20230209
DTSTAMP:20260419T143525
CREATED:20230127T105841Z
LAST-MODIFIED:20230127T105841Z
UID:15893-1675814400-1675900799@www.southbersted.co.uk
SUMMARY:Bognor Bookfest Event
DESCRIPTION:All children in Years 1-6 will have an opportunity to meet visiting author Candy Gourlay and will receive a free signed copy of one of her books.
URL:https://www.southbersted.co.uk/calendar/bognor-bookfest-event/
END:VEVENT
BEGIN:VEVENT
DTSTART;VALUE=DATE:20230207
DTEND;VALUE=DATE:20230208
DTSTAMP:20260419T143525
CREATED:20230110T114203Z
LAST-MODIFIED:20230110T114203Z
UID:15838-1675728000-1675814399@www.southbersted.co.uk
SUMMARY:Year 3 visiting Fishbourne Roman Palace
DESCRIPTION:Children should come to school as normal\, in full school uniform.  Please ensure your child has a warm waterproof coat with them and a small backpack.
URL:https://www.southbersted.co.uk/calendar/year-3-visiting-fishbourne-roman-palace-6/
END:VEVENT
BEGIN:VEVENT
DTSTART;VALUE=DATE:20230206
DTEND;VALUE=DATE:20230207
DTSTAMP:20260419T143525
CREATED:20230110T114049Z
LAST-MODIFIED:20230110T114049Z
UID:15835-1675641600-1675727999@www.southbersted.co.uk
SUMMARY:Year 1 Outdoor Learning
DESCRIPTION:Children should wear clothes suitable for Outdoor Learning\, including a warm waterproof coat.  Wellies or old shoes should be worn (children should also bring a spare pair of shoes with them in a named bag).
URL:https://www.southbersted.co.uk/calendar/year-1-outdoor-learning-7/
END:VEVENT
BEGIN:VEVENT
DTSTART;VALUE=DATE:20230130
DTEND;VALUE=DATE:20230131
DTSTAMP:20260419T143525
CREATED:20230110T114021Z
LAST-MODIFIED:20230110T114021Z
UID:15832-1675036800-1675123199@www.southbersted.co.uk
SUMMARY:Year 2 Outdoor Learning
DESCRIPTION:Children should wear clothes suitable for Outdoor Learning\, including a warm waterproof coat.  Wellies or old shoes should be worn (children should also bring a spare pair of shoes with them in a named bag).
URL:https://www.southbersted.co.uk/calendar/year-2-outdoor-learning-7/
END:VEVENT
BEGIN:VEVENT
DTSTART;TZID=Europe/London:20230127T130000
DTEND;TZID=Europe/London:20230127T150000
DTSTAMP:20260419T143525
CREATED:20230317T150511Z
LAST-MODIFIED:20230317T150511Z
UID:16219-1674824400-1674831600@www.southbersted.co.uk
SUMMARY:Future Flyers (Session 1 of 4)
DESCRIPTION:Parents of participating children should collect their child from school at 12.45pm and take to The Arena.
URL:https://www.southbersted.co.uk/calendar/future-flyers-session-1-of-4-2/
END:VEVENT
BEGIN:VEVENT
DTSTART;VALUE=DATE:20230127
DTEND;VALUE=DATE:20230128
DTSTAMP:20260419T143525
CREATED:20230110T113953Z
LAST-MODIFIED:20230126T093559Z
UID:15829-1674777600-1674863999@www.southbersted.co.uk
SUMMARY:(CANCELLED) Year 3 Outdoor Learning
DESCRIPTION:CANCELLED – a new date will be confirmed ASAP
URL:https://www.southbersted.co.uk/calendar/year-3-outdoor-learning-7/
END:VEVENT
BEGIN:VEVENT
DTSTART;TZID=Europe/London:20230125T104500
DTEND;TZID=Europe/London:20230125T114500
DTSTAMP:20260419T143525
CREATED:20230117T143151Z
LAST-MODIFIED:20230117T143151Z
UID:15866-1674643500-1674647100@www.southbersted.co.uk
SUMMARY:Reception Class visiting Church
DESCRIPTION:
URL:https://www.southbersted.co.uk/calendar/reception-class-visiting-church/
END:VEVENT
BEGIN:VEVENT
DTSTART;VALUE=DATE:20230124
DTEND;VALUE=DATE:20230125
DTSTAMP:20260419T143525
CREATED:20230117T143226Z
LAST-MODIFIED:20230117T143226Z
UID:15869-1674518400-1674604799@www.southbersted.co.uk
SUMMARY:Fit4Kids Workshops (All year groups)
DESCRIPTION:All children should wear PE kit
URL:https://www.southbersted.co.uk/calendar/fit4kids-workshops-all-year-groups/
END:VEVENT
BEGIN:VEVENT
DTSTART;TZID=Europe/London:20230120T090000
DTEND;TZID=Europe/London:20230120T093000
DTSTAMP:20260419T143525
CREATED:20221213T113139Z
LAST-MODIFIED:20221213T114928Z
UID:15782-1674205200-1674207000@www.southbersted.co.uk
SUMMARY:Year 2 SATs Parent/Carer Information Meeting
DESCRIPTION:
URL:https://www.southbersted.co.uk/calendar/year-2-sats-parent-carer-information-meeting/
END:VEVENT
BEGIN:VEVENT
DTSTART;TZID=Europe/London:20230119T090000
DTEND;TZID=Europe/London:20230119T130000
DTSTAMP:20260419T143525
CREATED:20230113T102155Z
LAST-MODIFIED:20230113T102155Z
UID:15856-1674118800-1674133200@www.southbersted.co.uk
SUMMARY:My Dentist visiting Years 3-6
DESCRIPTION:My Dentist will visit Reception\, Years 3-6 to talk about how to look after our teeth
URL:https://www.southbersted.co.uk/calendar/my-dentist-visiting-years-3-6/
END:VEVENT
BEGIN:VEVENT
DTSTART;VALUE=DATE:20230119
DTEND;VALUE=DATE:20230120
DTSTAMP:20260419T143525
CREATED:20230110T113824Z
LAST-MODIFIED:20230111T110946Z
UID:15820-1674086400-1674172799@www.southbersted.co.uk
SUMMARY:Year 6 Outdoor Learning
DESCRIPTION:Children should wear clothes suitable for Outdoor Learning\, including a warm waterproof coat.  Wellies or old shoes should be worn (children should also bring a spare pair of shoes with them in a named bag).
URL:https://www.southbersted.co.uk/calendar/year-6-outdoor-learning-6/
END:VEVENT
BEGIN:VEVENT
DTSTART;TZID=Europe/London:20230118T103000
DTEND;TZID=Europe/London:20230118T120000
DTSTAMP:20260419T143525
CREATED:20230113T101854Z
LAST-MODIFIED:20230113T101949Z
UID:15850-1674037800-1674043200@www.southbersted.co.uk
SUMMARY:Richard Hotham Memorial
DESCRIPTION:Mr Goodwin and Junior Governors will attend the memorial service at St Mary Magdalene Church
URL:https://www.southbersted.co.uk/calendar/richard-hotham-memorial/
END:VEVENT
BEGIN:VEVENT
DTSTART;TZID=Europe/London:20230118T090000
DTEND;TZID=Europe/London:20230118T093000
DTSTAMP:20260419T143525
CREATED:20221213T115007Z
LAST-MODIFIED:20221213T115046Z
UID:15785-1674032400-1674034200@www.southbersted.co.uk
SUMMARY:Year 1 Phonics Screening Parent/Carer Information Meeting
DESCRIPTION:
URL:https://www.southbersted.co.uk/calendar/year-1-phonics-screening-parent-carer-information-meeting/
END:VEVENT
BEGIN:VEVENT
DTSTART;VALUE=DATE:20230118
DTEND;VALUE=DATE:20230119
DTSTAMP:20260419T143525
CREATED:20230110T113928Z
LAST-MODIFIED:20230110T113928Z
UID:15826-1674000000-1674086399@www.southbersted.co.uk
SUMMARY:Year 4 Outdoor Learning
DESCRIPTION:Children should wear clothes suitable for Outdoor Learning\, including a warm waterproof coat.  Wellies or old shoes should be worn (children should also bring a spare pair of shoes with them in a named bag).
URL:https://www.southbersted.co.uk/calendar/year-4-outdoor-learning-7/
END:VEVENT
BEGIN:VEVENT
DTSTART;TZID=Europe/London:20230112T090000
DTEND;TZID=Europe/London:20230112T130000
DTSTAMP:20260419T143525
CREATED:20230113T102122Z
LAST-MODIFIED:20230113T102122Z
UID:15853-1673514000-1673528400@www.southbersted.co.uk
SUMMARY:MyDentist visiting Years R/1/2
DESCRIPTION:My Dentist will visit Reception\, Year 1 and Year 2 to talk about how to look after our teeth
URL:https://www.southbersted.co.uk/calendar/mydentist-visiting-years-r-1-2/
END:VEVENT
BEGIN:VEVENT
DTSTART;TZID=Europe/London:20230110T144500
DTEND;TZID=Europe/London:20230110T164500
DTSTAMP:20260419T143525
CREATED:20221201T113655Z
LAST-MODIFIED:20221201T113655Z
UID:15734-1673361900-1673369100@www.southbersted.co.uk
SUMMARY:Year 5/6 Basketball Event
DESCRIPTION:Participating children should be collected from The Arena at 4.45pm.
URL:https://www.southbersted.co.uk/calendar/year-5-6-basketball-event/
END:VEVENT
BEGIN:VEVENT
DTSTART;TZID=Europe/London:20230110T090000
DTEND;TZID=Europe/London:20230110T100000
DTSTAMP:20260419T143525
CREATED:20230105T121715Z
LAST-MODIFIED:20230105T121715Z
UID:15805-1673341200-1673344800@www.southbersted.co.uk
SUMMARY:Year 1 Local Walk
DESCRIPTION:To support the Great Fire of London topic.  Children must have a waterproof coat with them on the day. \n  \n  \n  \n 
URL:https://www.southbersted.co.uk/calendar/year-1-local-walk-4/
END:VEVENT
BEGIN:VEVENT
DTSTART;VALUE=DATE:20230110
DTEND;VALUE=DATE:20230111
DTSTAMP:20260419T143525
CREATED:20230110T113853Z
LAST-MODIFIED:20230110T113853Z
UID:15823-1673308800-1673395199@www.southbersted.co.uk
SUMMARY:Year 5 Outdoor Learning
DESCRIPTION:Children should wear clothes suitable for Outdoor Learning\, including a warm waterproof coat.  Wellies or old shoes should be worn (children should also bring a spare pair of shoes with them in a named bag).
URL:https://www.southbersted.co.uk/calendar/year-5-outdoor-learning-7/
END:VEVENT
BEGIN:VEVENT
DTSTART;TZID=Europe/London:20230109T090000
DTEND;TZID=Europe/London:20230109T093000
DTSTAMP:20260419T143525
CREATED:20221213T104003Z
LAST-MODIFIED:20221213T113109Z
UID:15779-1673254800-1673256600@www.southbersted.co.uk
SUMMARY:Year 6 SATs - Parent/Carer Information Meeting
DESCRIPTION:
URL:https://www.southbersted.co.uk/calendar/year-6-sats-parent-carer-information-meeting/
END:VEVENT
BEGIN:VEVENT
DTSTART;TZID=Europe/London:20230104T084500
DTEND;TZID=Europe/London:20230104T084500
DTSTAMP:20260419T143525
CREATED:20220722T110627Z
LAST-MODIFIED:20220722T110627Z
UID:15086-1672821900-1672821900@www.southbersted.co.uk
SUMMARY:Start of Spring Term
DESCRIPTION:
URL:https://www.southbersted.co.uk/calendar/start-of-spring-term-5/
END:VEVENT
BEGIN:VEVENT
DTSTART;VALUE=DATE:20230103
DTEND;VALUE=DATE:20230104
DTSTAMP:20260419T143525
CREATED:20220722T110549Z
LAST-MODIFIED:20220722T110549Z
UID:15083-1672704000-1672790399@www.southbersted.co.uk
SUMMARY:INSET DAY
DESCRIPTION:
URL:https://www.southbersted.co.uk/calendar/inset-day-23/
END:VEVENT
BEGIN:VEVENT
DTSTART;VALUE=DATE:20221219
DTEND;VALUE=DATE:20230103
DTSTAMP:20260419T143525
CREATED:20220722T110527Z
LAST-MODIFIED:20220722T110527Z
UID:15080-1671408000-1672703999@www.southbersted.co.uk
SUMMARY:Christmas Holidays
DESCRIPTION:
URL:https://www.southbersted.co.uk/calendar/christmas-holidays-2/
END:VEVENT
BEGIN:VEVENT
DTSTART;TZID=Europe/London:20221216T151500
DTEND;TZID=Europe/London:20221216T151500
DTSTAMP:20260419T143525
CREATED:20220722T110501Z
LAST-MODIFIED:20220722T110501Z
UID:15077-1671203700-1671203700@www.southbersted.co.uk
SUMMARY:Break up for Christmas holidays
DESCRIPTION:
URL:https://www.southbersted.co.uk/calendar/break-up-for-christmas-holidays/
END:VEVENT
BEGIN:VEVENT
DTSTART;VALUE=DATE:20221216
DTEND;VALUE=DATE:20221217
DTSTAMP:20260419T143525
CREATED:20221116T223717Z
LAST-MODIFIED:20221116T223717Z
UID:15674-1671148800-1671235199@www.southbersted.co.uk
SUMMARY:Christmas Jumper Day
DESCRIPTION:Children can wear a Christmas jumper in place of their normal school jumper or cardigan. \n(Please contact the office if you would like to borrow a Christmas jumper for your child)
URL:https://www.southbersted.co.uk/calendar/christmas-jumper-day-6/
END:VEVENT
BEGIN:VEVENT
DTSTART;TZID=Europe/London:20221215T174500
DTEND;TZID=Europe/London:20221215T190000
DTSTAMP:20260419T143525
CREATED:20221020T150601Z
LAST-MODIFIED:20221121T141253Z
UID:15577-1671126300-1671130800@www.southbersted.co.uk
SUMMARY:Key Stage 2 Carol Service
DESCRIPTION:This service will take place at the church.  Parents and carers are invited to join us.
URL:https://www.southbersted.co.uk/calendar/key-stage-2-carol-service-4/
END:VEVENT
BEGIN:VEVENT
DTSTART;TZID=Europe/London:20221215T120000
DTEND;TZID=Europe/London:20221215T130000
DTSTAMP:20260419T143525
CREATED:20221116T223446Z
LAST-MODIFIED:20221116T223446Z
UID:15668-1671105600-1671109200@www.southbersted.co.uk
SUMMARY:Chartwells Christmas Lunch
DESCRIPTION:Order via www.mealselector.co.uk. \n(Free school meals – order via the school office)
URL:https://www.southbersted.co.uk/calendar/chartwells-christmas-lunch-4/
END:VEVENT
BEGIN:VEVENT
DTSTART;VALUE=DATE:20221215
DTEND;VALUE=DATE:20221217
DTSTAMP:20260419T143525
CREATED:20221124T111545Z
LAST-MODIFIED:20221124T111624Z
UID:15718-1671062400-1671235199@www.southbersted.co.uk
SUMMARY:Christmas Grotto
DESCRIPTION:All children will have an opportunity to meet Father Christmas and receive a gift (visits will take place across both days).\nThere will be no charge for this – gifts will be provided by The Friends of South Bersted
URL:https://www.southbersted.co.uk/calendar/christmas-grotto/
END:VEVENT
BEGIN:VEVENT
DTSTART;VALUE=DATE:20221215
DTEND;VALUE=DATE:20221216
DTSTAMP:20260419T143525
CREATED:20221124T110721Z
LAST-MODIFIED:20221124T110721Z
UID:15709-1671062400-1671148799@www.southbersted.co.uk
SUMMARY:Christmas Cards - last posting date
DESCRIPTION:
URL:https://www.southbersted.co.uk/calendar/christmas-cards-last-posting-date/
END:VEVENT
END:VCALENDAR