BEGIN:VCALENDAR
VERSION:2.0
PRODID:-//South Bersted Primary School - ECPv6.15.5//NONSGML v1.0//EN
CALSCALE:GREGORIAN
METHOD:PUBLISH
X-WR-CALNAME:South Bersted Primary School
X-ORIGINAL-URL:https://www.southbersted.co.uk
X-WR-CALDESC:Events for South Bersted Primary School
REFRESH-INTERVAL;VALUE=DURATION:PT1H
X-Robots-Tag:noindex
X-PUBLISHED-TTL:PT1H
BEGIN:VTIMEZONE
TZID:Europe/London
BEGIN:DAYLIGHT
TZOFFSETFROM:+0000
TZOFFSETTO:+0100
TZNAME:BST
DTSTART:20190331T010000
END:DAYLIGHT
BEGIN:STANDARD
TZOFFSETFROM:+0100
TZOFFSETTO:+0000
TZNAME:GMT
DTSTART:20191027T010000
END:STANDARD
END:VTIMEZONE
BEGIN:VEVENT
DTSTART;TZID=Europe/London:20190611T170000
DTEND;TZID=Europe/London:20190611T190000
DTSTAMP:20260426T031418
CREATED:20180919T135014Z
LAST-MODIFIED:20180919T135014Z
UID:11528-1560272400-1560279600@www.southbersted.co.uk
SUMMARY:Governors Monthly Meeting
DESCRIPTION:
URL:https://www.southbersted.co.uk/calendar/governors-monthly-meeting-6-2/
END:VEVENT
BEGIN:VEVENT
DTSTART;TZID=Europe/London:20190610T084500
DTEND;TZID=Europe/London:20190610T110000
DTSTAMP:20260426T031418
CREATED:20190402T102246Z
LAST-MODIFIED:20190402T102246Z
UID:9177-1560156300-1560164400@www.southbersted.co.uk
SUMMARY:Top Up Swimming Y6
DESCRIPTION:Further details to follow
URL:https://www.southbersted.co.uk/calendar/top-up-swimming-y6-4/
END:VEVENT
BEGIN:VEVENT
DTSTART;TZID=Europe/London:20190610T084500
DTEND;TZID=Europe/London:20190610T110000
DTSTAMP:20260426T031418
CREATED:20190402T102246Z
LAST-MODIFIED:20190402T102246Z
UID:11655-1560156300-1560164400@www.southbersted.co.uk
SUMMARY:Top Up Swimming Y6
DESCRIPTION:Further details to follow
URL:https://www.southbersted.co.uk/calendar/top-up-swimming-y6-4-2/
END:VEVENT
BEGIN:VEVENT
DTSTART;VALUE=DATE:20190610
DTEND;VALUE=DATE:20190615
DTSTAMP:20260426T031418
CREATED:20190306T113813Z
LAST-MODIFIED:20190306T113813Z
UID:9048-1560124800-1560556799@www.southbersted.co.uk
SUMMARY:Year 1/2 Phonics Screening Week
DESCRIPTION:All Year 1 (and some Year 2 children) will take the phonics screening test this week
URL:https://www.southbersted.co.uk/calendar/year-1-2-phonics-screening-week/
END:VEVENT
BEGIN:VEVENT
DTSTART;VALUE=DATE:20190610
DTEND;VALUE=DATE:20190615
DTSTAMP:20260426T031418
CREATED:20190306T113813Z
LAST-MODIFIED:20190306T113813Z
UID:11632-1560124800-1560556799@www.southbersted.co.uk
SUMMARY:Year 1/2 Phonics Screening Week
DESCRIPTION:All Year 1 (and some Year 2 children) will take the phonics screening test this week
URL:https://www.southbersted.co.uk/calendar/year-1-2-phonics-screening-week-2/
END:VEVENT
BEGIN:VEVENT
DTSTART;TZID=Europe/London:20190607T090000
DTEND;TZID=Europe/London:20190607T093000
DTSTAMP:20260426T031418
CREATED:20190430T100703Z
LAST-MODIFIED:20190430T100703Z
UID:9240-1559898000-1559899800@www.southbersted.co.uk
SUMMARY:Year 5 Class Collective Worship
DESCRIPTION:Year 5 parents and carers are invited to join us for Collective Worship from 9.00am
URL:https://www.southbersted.co.uk/calendar/year-5-class-collective-worship-2/
END:VEVENT
BEGIN:VEVENT
DTSTART;TZID=Europe/London:20190607T090000
DTEND;TZID=Europe/London:20190607T093000
DTSTAMP:20260426T031418
CREATED:20190430T100703Z
LAST-MODIFIED:20190430T100703Z
UID:11673-1559898000-1559899800@www.southbersted.co.uk
SUMMARY:Year 5 Class Collective Worship
DESCRIPTION:Year 5 parents and carers are invited to join us for Collective Worship from 9.00am
URL:https://www.southbersted.co.uk/calendar/year-5-class-collective-worship-2-2/
END:VEVENT
BEGIN:VEVENT
DTSTART;TZID=Europe/London:20190605T133000
DTEND;TZID=Europe/London:20190605T153000
DTSTAMP:20260426T031418
CREATED:20190523T122658Z
LAST-MODIFIED:20190523T122658Z
UID:9361-1559741400-1559748600@www.southbersted.co.uk
SUMMARY:Quadkids Athletics (Y5/6 x 10)
DESCRIPTION:This event will take place at The Arena.  Children will take part in a variety of events including  75m sprint\, 600m run\, vortex howler throw and standing long jump.
URL:https://www.southbersted.co.uk/calendar/quadkids-athletics-y5-6-x-10/
END:VEVENT
BEGIN:VEVENT
DTSTART;TZID=Europe/London:20190605T133000
DTEND;TZID=Europe/London:20190605T153000
DTSTAMP:20260426T031418
CREATED:20190523T122658Z
LAST-MODIFIED:20190523T122658Z
UID:11693-1559741400-1559748600@www.southbersted.co.uk
SUMMARY:Quadkids Athletics (Y5/6 x 10)
DESCRIPTION:This event will take place at The Arena.  Children will take part in a variety of events including  75m sprint\, 600m run\, vortex howler throw and standing long jump.
URL:https://www.southbersted.co.uk/calendar/quadkids-athletics-y5-6-x-10-2/
END:VEVENT
BEGIN:VEVENT
DTSTART;VALUE=DATE:20190605
DTEND;VALUE=DATE:20190608
DTSTAMP:20260426T031418
CREATED:20180919T134746Z
LAST-MODIFIED:20180919T134746Z
UID:7976-1559692800-1559951999@www.southbersted.co.uk
SUMMARY:Year 4 Residential
DESCRIPTION:Information packs will be given out at the Parent Information Meeting on 13th March (2.30pm).  If you are unable to attend the meeting\, your pack will be sent home with your child.
URL:https://www.southbersted.co.uk/calendar/year-4-residential/
END:VEVENT
BEGIN:VEVENT
DTSTART;VALUE=DATE:20190605
DTEND;VALUE=DATE:20190608
DTSTAMP:20260426T031418
CREATED:20180919T134746Z
LAST-MODIFIED:20180919T134746Z
UID:11527-1559692800-1559951999@www.southbersted.co.uk
SUMMARY:Year 4 Residential
DESCRIPTION:Information packs will be given out at the Parent Information Meeting on 13th March (2.30pm).  If you are unable to attend the meeting\, your pack will be sent home with your child.
URL:https://www.southbersted.co.uk/calendar/year-4-residential-3/
END:VEVENT
BEGIN:VEVENT
DTSTART;TZID=Europe/London:20190603T143000
DTEND;TZID=Europe/London:20190603T150000
DTSTAMP:20260426T031418
CREATED:20190523T120501Z
LAST-MODIFIED:20190523T120501Z
UID:9358-1559572200-1559574000@www.southbersted.co.uk
SUMMARY:Year 1 Huff and Puff Parent Meeting
DESCRIPTION:We would like as many Year 1 parents as possible to join us for this meeting when we will be joined by Sean O’Connor from The Regis School to find out more about the Huff & Puff event being held in July.
URL:https://www.southbersted.co.uk/calendar/year-1-huff-and-puff-parent-meeting/
END:VEVENT
BEGIN:VEVENT
DTSTART;TZID=Europe/London:20190603T143000
DTEND;TZID=Europe/London:20190603T150000
DTSTAMP:20260426T031418
CREATED:20190523T120501Z
LAST-MODIFIED:20190523T120501Z
UID:11692-1559572200-1559574000@www.southbersted.co.uk
SUMMARY:Year 1 Huff and Puff Parent Meeting
DESCRIPTION:We would like as many Year 1 parents as possible to join us for this meeting when we will be joined by Sean O’Connor from The Regis School to find out more about the Huff & Puff event being held in July.
URL:https://www.southbersted.co.uk/calendar/year-1-huff-and-puff-parent-meeting-2/
END:VEVENT
BEGIN:VEVENT
DTSTART;TZID=Europe/London:20190603T084500
DTEND;TZID=Europe/London:20190603T110000
DTSTAMP:20260426T031418
CREATED:20190402T102152Z
LAST-MODIFIED:20190402T102152Z
UID:9174-1559551500-1559559600@www.southbersted.co.uk
SUMMARY:Top Up Swimming Y6
DESCRIPTION:Further details to follow
URL:https://www.southbersted.co.uk/calendar/top-up-swimming-y6-3/
END:VEVENT
BEGIN:VEVENT
DTSTART;TZID=Europe/London:20190603T084500
DTEND;TZID=Europe/London:20190603T110000
DTSTAMP:20260426T031418
CREATED:20190402T102152Z
LAST-MODIFIED:20190402T102152Z
UID:11654-1559551500-1559559600@www.southbersted.co.uk
SUMMARY:Top Up Swimming Y6
DESCRIPTION:Further details to follow
URL:https://www.southbersted.co.uk/calendar/top-up-swimming-y6-3-2/
END:VEVENT
BEGIN:VEVENT
DTSTART;VALUE=DATE:20190528
DTEND;VALUE=DATE:20190601
DTSTAMP:20260426T031418
CREATED:20181010T133031Z
LAST-MODIFIED:20181010T133031Z
UID:8204-1559001600-1559347199@www.southbersted.co.uk
SUMMARY:Half Term
DESCRIPTION:
URL:https://www.southbersted.co.uk/calendar/half-term-3/
END:VEVENT
BEGIN:VEVENT
DTSTART;VALUE=DATE:20190528
DTEND;VALUE=DATE:20190601
DTSTAMP:20260426T031418
CREATED:20181010T133031Z
LAST-MODIFIED:20181010T133031Z
UID:11566-1559001600-1559347199@www.southbersted.co.uk
SUMMARY:Half Term
DESCRIPTION:
URL:https://www.southbersted.co.uk/calendar/half-term-3-2/
END:VEVENT
BEGIN:VEVENT
DTSTART;VALUE=DATE:20190527
DTEND;VALUE=DATE:20190528
DTSTAMP:20260426T031418
CREATED:20181010T132528Z
LAST-MODIFIED:20181010T132528Z
UID:8195-1558915200-1559001599@www.southbersted.co.uk
SUMMARY:Bank Holiday
DESCRIPTION:
URL:https://www.southbersted.co.uk/calendar/bank-holiday-3/
END:VEVENT
BEGIN:VEVENT
DTSTART;VALUE=DATE:20190527
DTEND;VALUE=DATE:20190528
DTSTAMP:20260426T031418
CREATED:20181010T132528Z
LAST-MODIFIED:20181010T132528Z
UID:11562-1558915200-1559001599@www.southbersted.co.uk
SUMMARY:Bank Holiday
DESCRIPTION:
URL:https://www.southbersted.co.uk/calendar/bank-holiday-3-2/
END:VEVENT
BEGIN:VEVENT
DTSTART;TZID=Europe/London:20190523T151500
DTEND;TZID=Europe/London:20190523T160000
DTSTAMP:20260426T031418
CREATED:20190517T083312Z
LAST-MODIFIED:20190517T083312Z
UID:9346-1558624500-1558627200@www.southbersted.co.uk
SUMMARY:Creative Home Learning Exhibition
DESCRIPTION:The children’s creative home learning will be on display after school for parents to come and view the wonderful creations.  Work will be displayed in the individual classrooms.  We hope you will be able to join us from 3.15pm.
URL:https://www.southbersted.co.uk/calendar/creative-home-learning-exhibition-3/
END:VEVENT
BEGIN:VEVENT
DTSTART;TZID=Europe/London:20190523T151500
DTEND;TZID=Europe/London:20190523T160000
DTSTAMP:20260426T031418
CREATED:20190517T083312Z
LAST-MODIFIED:20190517T083312Z
UID:11691-1558624500-1558627200@www.southbersted.co.uk
SUMMARY:Creative Home Learning Exhibition
DESCRIPTION:The children’s creative home learning will be on display after school for parents to come and view the wonderful creations.  Work will be displayed in the individual classrooms.  We hope you will be able to join us from 3.15pm.
URL:https://www.southbersted.co.uk/calendar/creative-home-learning-exhibition-3-2/
END:VEVENT
BEGIN:VEVENT
DTSTART;TZID=Europe/London:20190522T090000
DTEND;TZID=Europe/London:20190522T120000
DTSTAMP:20260426T031418
CREATED:20190515T103016Z
LAST-MODIFIED:20190515T103016Z
UID:9339-1558515600-1558526400@www.southbersted.co.uk
SUMMARY:Year 1 - Local walk to the beach
DESCRIPTION:Year 1 will be going on a short walk to the beach.  The walk will take place during the morning of Wednesday 22nd May. \nWe will leave school after registration and will return to school in time for lunch.  Children should come to school as normal\, dressed in full school uniform.  Please note the following: \n\nAll children must bring a named sun hat \nAll children must bring a lightweight waterproof jacket\nPlease apply a high factor sun cream to your child before school\n\n 
URL:https://www.southbersted.co.uk/calendar/year-1-local-walk-to-the-beach/
END:VEVENT
BEGIN:VEVENT
DTSTART;TZID=Europe/London:20190522T090000
DTEND;TZID=Europe/London:20190522T120000
DTSTAMP:20260426T031418
CREATED:20190515T103016Z
LAST-MODIFIED:20190515T103016Z
UID:11690-1558515600-1558526400@www.southbersted.co.uk
SUMMARY:Year 1 - Local walk to the beach
DESCRIPTION:Year 1 will be going on a short walk to the beach.  The walk will take place during the morning of Wednesday 22nd May. \nWe will leave school after registration and will return to school in time for lunch.  Children should come to school as normal\, dressed in full school uniform.  Please note the following: \n\nAll children must bring a named sun hat \nAll children must bring a lightweight waterproof jacket\nPlease apply a high factor sun cream to your child before school\n\n 
URL:https://www.southbersted.co.uk/calendar/year-1-local-walk-to-the-beach-2/
END:VEVENT
BEGIN:VEVENT
DTSTART;TZID=Europe/London:20190520T084500
DTEND;TZID=Europe/London:20190520T110000
DTSTAMP:20260426T031418
CREATED:20190402T102054Z
LAST-MODIFIED:20190402T102054Z
UID:9171-1558341900-1558350000@www.southbersted.co.uk
SUMMARY:Top Up Swimming Y6
DESCRIPTION:Further details to follow
URL:https://www.southbersted.co.uk/calendar/top-up-swimming-y6-2/
END:VEVENT
BEGIN:VEVENT
DTSTART;TZID=Europe/London:20190520T084500
DTEND;TZID=Europe/London:20190520T110000
DTSTAMP:20260426T031418
CREATED:20190402T102054Z
LAST-MODIFIED:20190402T102054Z
UID:11653-1558341900-1558350000@www.southbersted.co.uk
SUMMARY:Top Up Swimming Y6
DESCRIPTION:Further details to follow
URL:https://www.southbersted.co.uk/calendar/top-up-swimming-y6-2-2/
END:VEVENT
BEGIN:VEVENT
DTSTART;TZID=Europe/London:20190520T083000
DTEND;TZID=Europe/London:20190520T150000
DTSTAMP:20260426T031418
CREATED:20190402T101805Z
LAST-MODIFIED:20190402T101805Z
UID:9165-1558341000-1558364400@www.southbersted.co.uk
SUMMARY:Year 5 Pilgrimage Workshop at Chichester Cathedral
DESCRIPTION:Further details to follow
URL:https://www.southbersted.co.uk/calendar/year-5-pilgrimage-workshop-at-chichester-cathedral/
END:VEVENT
BEGIN:VEVENT
DTSTART;TZID=Europe/London:20190520T083000
DTEND;TZID=Europe/London:20190520T150000
DTSTAMP:20260426T031418
CREATED:20190402T101805Z
LAST-MODIFIED:20190402T101805Z
UID:11651-1558341000-1558364400@www.southbersted.co.uk
SUMMARY:Year 5 Pilgrimage Workshop at Chichester Cathedral
DESCRIPTION:Further details to follow
URL:https://www.southbersted.co.uk/calendar/year-5-pilgrimage-workshop-at-chichester-cathedral-2/
END:VEVENT
BEGIN:VEVENT
DTSTART;TZID=Europe/London:20190517T103000
DTEND;TZID=Europe/London:20190517T130000
DTSTAMP:20260426T031418
CREATED:20190402T101941Z
LAST-MODIFIED:20190402T101941Z
UID:9168-1558089000-1558098000@www.southbersted.co.uk
SUMMARY:Top Up Swimming Y6
DESCRIPTION:Further details to follow
URL:https://www.southbersted.co.uk/calendar/top-up-swimming-y6/
END:VEVENT
BEGIN:VEVENT
DTSTART;TZID=Europe/London:20190517T103000
DTEND;TZID=Europe/London:20190517T130000
DTSTAMP:20260426T031418
CREATED:20190402T101941Z
LAST-MODIFIED:20190402T101941Z
UID:11652-1558089000-1558098000@www.southbersted.co.uk
SUMMARY:Top Up Swimming Y6
DESCRIPTION:Further details to follow
URL:https://www.southbersted.co.uk/calendar/top-up-swimming-y6-6/
END:VEVENT
BEGIN:VEVENT
DTSTART;TZID=Europe/London:20190513T080000
DTEND;TZID=Europe/London:20190517T084000
DTSTAMP:20260426T031418
CREATED:20190430T103351Z
LAST-MODIFIED:20190430T103351Z
UID:9260-1557734400-1558082400@www.southbersted.co.uk
SUMMARY:Year 6 'Toast Cafe'
DESCRIPTION:Year 6 children are invited to attend our free ‘Toast Cafe’ breakfast session every morning during SATs week
URL:https://www.southbersted.co.uk/calendar/year-6-toast-cafe/
END:VEVENT
END:VCALENDAR