BEGIN:VCALENDAR
VERSION:2.0
PRODID:-//South Bersted Primary School - ECPv6.15.5//NONSGML v1.0//EN
CALSCALE:GREGORIAN
METHOD:PUBLISH
X-WR-CALNAME:South Bersted Primary School
X-ORIGINAL-URL:https://www.southbersted.co.uk
X-WR-CALDESC:Events for South Bersted Primary School
REFRESH-INTERVAL;VALUE=DURATION:PT1H
X-Robots-Tag:noindex
X-PUBLISHED-TTL:PT1H
BEGIN:VTIMEZONE
TZID:Europe/London
BEGIN:DAYLIGHT
TZOFFSETFROM:+0000
TZOFFSETTO:+0100
TZNAME:BST
DTSTART:20190331T010000
END:DAYLIGHT
BEGIN:STANDARD
TZOFFSETFROM:+0100
TZOFFSETTO:+0000
TZNAME:GMT
DTSTART:20191027T010000
END:STANDARD
END:VTIMEZONE
BEGIN:VEVENT
DTSTART;TZID=Europe/London:20190620T090000
DTEND;TZID=Europe/London:20190620T120000
DTSTAMP:20260426T002829
CREATED:20190327T131117Z
LAST-MODIFIED:20190327T131117Z
UID:11644-1561021200-1561032000@www.southbersted.co.uk
SUMMARY:Year 1 visiting Vitacress Nurseries
DESCRIPTION:Further details to follow
URL:https://www.southbersted.co.uk/calendar/year-1-visiting-vitacress-nurseries-2/
END:VEVENT
BEGIN:VEVENT
DTSTART;TZID=Europe/London:20190620T085000
DTEND;TZID=Europe/London:20190620T161500
DTSTAMP:20260426T002829
CREATED:20190430T131944Z
LAST-MODIFIED:20190430T131944Z
UID:9277-1561020600-1561047300@www.southbersted.co.uk
SUMMARY:Year 5 field visit to Brighton
DESCRIPTION:Please note we will return to school at 4.15pm.  Please arrange to collect your child from school at 4.15pm.
URL:https://www.southbersted.co.uk/calendar/year-5-field-visit-to-brighton/
END:VEVENT
BEGIN:VEVENT
DTSTART;TZID=Europe/London:20190620T085000
DTEND;TZID=Europe/London:20190620T161500
DTSTAMP:20260426T002829
CREATED:20190430T131944Z
LAST-MODIFIED:20190430T131944Z
UID:11687-1561020600-1561047300@www.southbersted.co.uk
SUMMARY:Year 5 field visit to Brighton
DESCRIPTION:Please note we will return to school at 4.15pm.  Please arrange to collect your child from school at 4.15pm.
URL:https://www.southbersted.co.uk/calendar/year-5-field-visit-to-brighton-2/
END:VEVENT
BEGIN:VEVENT
DTSTART;TZID=Europe/London:20190619T140000
DTEND;TZID=Europe/London:20190619T150000
DTSTAMP:20260426T002829
CREATED:20190430T103901Z
LAST-MODIFIED:20190430T103901Z
UID:9266-1560952800-1560956400@www.southbersted.co.uk
SUMMARY:New Reception Intake - Welcome Session
DESCRIPTION:New reception children who will be joining us in September are invited to attend today from 2.00 – 3.00pm.
URL:https://www.southbersted.co.uk/calendar/new-reception-intake-welcome-session-2019-06-19/
END:VEVENT
BEGIN:VEVENT
DTSTART;TZID=Europe/London:20190619T140000
DTEND;TZID=Europe/London:20190619T150000
DTSTAMP:20260426T002829
CREATED:20190430T103901Z
LAST-MODIFIED:20190430T103901Z
UID:11683-1560952800-1560956400@www.southbersted.co.uk
SUMMARY:New Reception Intake - Welcome Session
DESCRIPTION:New reception children who will be joining us in September are invited to attend today from 2.00 – 3.00pm.
URL:https://www.southbersted.co.uk/calendar/new-reception-intake-welcome-session-2019-06-19-2/
END:VEVENT
BEGIN:VEVENT
DTSTART;TZID=Europe/London:20190619T090000
DTEND;TZID=Europe/London:20190619T093000
DTSTAMP:20260426T002829
CREATED:20190430T100845Z
LAST-MODIFIED:20190430T100845Z
UID:9246-1560934800-1560936600@www.southbersted.co.uk
SUMMARY:Year 2 Class Collective Worship
DESCRIPTION:Year 2 parents and carers are invited to join us for Collective Worship from 9.00am
URL:https://www.southbersted.co.uk/calendar/year-2-class-collective-worship-2/
END:VEVENT
BEGIN:VEVENT
DTSTART;TZID=Europe/London:20190619T090000
DTEND;TZID=Europe/London:20190619T093000
DTSTAMP:20260426T002829
CREATED:20190430T100845Z
LAST-MODIFIED:20190430T100845Z
UID:11675-1560934800-1560936600@www.southbersted.co.uk
SUMMARY:Year 2 Class Collective Worship
DESCRIPTION:Year 2 parents and carers are invited to join us for Collective Worship from 9.00am
URL:https://www.southbersted.co.uk/calendar/year-2-class-collective-worship-2-2/
END:VEVENT
BEGIN:VEVENT
DTSTART;TZID=Europe/London:20190617T084500
DTEND;TZID=Europe/London:20190617T110000
DTSTAMP:20260426T002829
CREATED:20190402T102322Z
LAST-MODIFIED:20190402T102322Z
UID:9180-1560761100-1560769200@www.southbersted.co.uk
SUMMARY:Top Up Swimming Y6
DESCRIPTION:Further details to follow
URL:https://www.southbersted.co.uk/calendar/top-up-swimming-y6-5/
END:VEVENT
BEGIN:VEVENT
DTSTART;TZID=Europe/London:20190617T084500
DTEND;TZID=Europe/London:20190617T110000
DTSTAMP:20260426T002829
CREATED:20190402T102322Z
LAST-MODIFIED:20190402T102322Z
UID:11656-1560761100-1560769200@www.southbersted.co.uk
SUMMARY:Top Up Swimming Y6
DESCRIPTION:Further details to follow
URL:https://www.southbersted.co.uk/calendar/top-up-swimming-y6-5-2/
END:VEVENT
BEGIN:VEVENT
DTSTART;VALUE=DATE:20190617
DTEND;VALUE=DATE:20190618
DTSTAMP:20260426T002829
CREATED:20180924T095207Z
LAST-MODIFIED:20180924T095207Z
UID:8072-1560729600-1560815999@www.southbersted.co.uk
SUMMARY:(Film Night tickets on sale - whole school)
DESCRIPTION:Tickets for the Film Night will be available to purchase for all year groups from today.  £3.00 per child to include a hotdog\, drink\, popcorn and a small packet of sweets. \nTickets are limited and will be sold on a first come first served basis.
URL:https://www.southbersted.co.uk/calendar/disco-tickets-on-sale-whole-school/
END:VEVENT
BEGIN:VEVENT
DTSTART;VALUE=DATE:20190617
DTEND;VALUE=DATE:20190618
DTSTAMP:20260426T002829
CREATED:20180924T095207Z
LAST-MODIFIED:20180924T095207Z
UID:11548-1560729600-1560815999@www.southbersted.co.uk
SUMMARY:(Film Night tickets on sale - whole school)
DESCRIPTION:Tickets for the Film Night will be available to purchase for all year groups from today.  £3.00 per child to include a hotdog\, drink\, popcorn and a small packet of sweets. \nTickets are limited and will be sold on a first come first served basis.
URL:https://www.southbersted.co.uk/calendar/disco-tickets-on-sale-whole-school-2/
END:VEVENT
BEGIN:VEVENT
DTSTART;TZID=Europe/London:20190614T090000
DTEND;TZID=Europe/London:20190614T093000
DTSTAMP:20260426T002829
CREATED:20190430T100758Z
LAST-MODIFIED:20190430T100758Z
UID:9243-1560502800-1560504600@www.southbersted.co.uk
SUMMARY:Reception Class - Class Collective Worship
DESCRIPTION:Reception Class parents and carers are invited to join us for Collective Worship from 9.00am
URL:https://www.southbersted.co.uk/calendar/reception-class-class-collective-worship/
END:VEVENT
BEGIN:VEVENT
DTSTART;TZID=Europe/London:20190614T090000
DTEND;TZID=Europe/London:20190614T093000
DTSTAMP:20260426T002829
CREATED:20190430T100758Z
LAST-MODIFIED:20190430T100758Z
UID:11674-1560502800-1560504600@www.southbersted.co.uk
SUMMARY:Reception Class - Class Collective Worship
DESCRIPTION:Reception Class parents and carers are invited to join us for Collective Worship from 9.00am
URL:https://www.southbersted.co.uk/calendar/reception-class-class-collective-worship-2/
END:VEVENT
BEGIN:VEVENT
DTSTART;TZID=Europe/London:20190613T090000
DTEND;TZID=Europe/London:20190613T151500
DTSTAMP:20260426T002829
CREATED:20190430T132136Z
LAST-MODIFIED:20190430T132136Z
UID:9280-1560416400-1560438900@www.southbersted.co.uk
SUMMARY:Year 5 field trip (Bognor area)
DESCRIPTION:This visit will take place within normal school hours.
URL:https://www.southbersted.co.uk/calendar/year-5-field-trip-bognor-area/
END:VEVENT
BEGIN:VEVENT
DTSTART;TZID=Europe/London:20190613T090000
DTEND;TZID=Europe/London:20190613T151500
DTSTAMP:20260426T002829
CREATED:20190430T132136Z
LAST-MODIFIED:20190430T132136Z
UID:11688-1560416400-1560438900@www.southbersted.co.uk
SUMMARY:Year 5 field trip (Bognor area)
DESCRIPTION:This visit will take place within normal school hours.
URL:https://www.southbersted.co.uk/calendar/year-5-field-trip-bognor-area-2/
END:VEVENT
BEGIN:VEVENT
DTSTART;VALUE=DATE:20190613
DTEND;VALUE=DATE:20190614
DTSTAMP:20260426T002829
CREATED:20180924T095103Z
LAST-MODIFIED:20180924T095103Z
UID:8069-1560384000-1560470399@www.southbersted.co.uk
SUMMARY:(Film Night tickets on sale - Year 6 only)
DESCRIPTION:Tickets priced at £3.00 per child to include a drink\, hotdog\, popcorn and a small packet of sweets. \nYear 6 have an early opportunity to purchase tickets before they go on sale to the rest of the school.
URL:https://www.southbersted.co.uk/calendar/disco-tickets-on-sale-year-6-only/
END:VEVENT
BEGIN:VEVENT
DTSTART;VALUE=DATE:20190613
DTEND;VALUE=DATE:20190614
DTSTAMP:20260426T002829
CREATED:20180924T095103Z
LAST-MODIFIED:20180924T095103Z
UID:11547-1560384000-1560470399@www.southbersted.co.uk
SUMMARY:(Film Night tickets on sale - Year 6 only)
DESCRIPTION:Tickets priced at £3.00 per child to include a drink\, hotdog\, popcorn and a small packet of sweets. \nYear 6 have an early opportunity to purchase tickets before they go on sale to the rest of the school.
URL:https://www.southbersted.co.uk/calendar/disco-tickets-on-sale-year-6-only-2/
END:VEVENT
BEGIN:VEVENT
DTSTART;TZID=Europe/London:20190612T140000
DTEND;TZID=Europe/London:20190612T150000
DTSTAMP:20260426T002829
CREATED:20190430T103901Z
LAST-MODIFIED:20190430T103901Z
UID:9263-1560348000-1560351600@www.southbersted.co.uk
SUMMARY:New Reception Intake - Welcome Session
DESCRIPTION:New reception children who will be joining us in September are invited to attend today from 2.00 – 3.00pm.
URL:https://www.southbersted.co.uk/calendar/new-reception-intake-welcome-session/
END:VEVENT
BEGIN:VEVENT
DTSTART;TZID=Europe/London:20190612T140000
DTEND;TZID=Europe/London:20190612T150000
DTSTAMP:20260426T002829
CREATED:20190430T103901Z
LAST-MODIFIED:20190430T103901Z
UID:11682-1560348000-1560351600@www.southbersted.co.uk
SUMMARY:New Reception Intake - Welcome Session
DESCRIPTION:New reception children who will be joining us in September are invited to attend today from 2.00 – 3.00pm.
URL:https://www.southbersted.co.uk/calendar/new-reception-intake-welcome-session-2/
END:VEVENT
BEGIN:VEVENT
DTSTART;TZID=Europe/London:20190611T170000
DTEND;TZID=Europe/London:20190611T190000
DTSTAMP:20260426T002829
CREATED:20180919T135014Z
LAST-MODIFIED:20180919T135014Z
UID:7979-1560272400-1560279600@www.southbersted.co.uk
SUMMARY:Governors Monthly Meeting
DESCRIPTION:
URL:https://www.southbersted.co.uk/calendar/governors-monthly-meeting-6/
END:VEVENT
BEGIN:VEVENT
DTSTART;TZID=Europe/London:20190611T170000
DTEND;TZID=Europe/London:20190611T190000
DTSTAMP:20260426T002829
CREATED:20180919T135014Z
LAST-MODIFIED:20180919T135014Z
UID:11528-1560272400-1560279600@www.southbersted.co.uk
SUMMARY:Governors Monthly Meeting
DESCRIPTION:
URL:https://www.southbersted.co.uk/calendar/governors-monthly-meeting-6-2/
END:VEVENT
BEGIN:VEVENT
DTSTART;TZID=Europe/London:20190610T084500
DTEND;TZID=Europe/London:20190610T110000
DTSTAMP:20260426T002829
CREATED:20190402T102246Z
LAST-MODIFIED:20190402T102246Z
UID:9177-1560156300-1560164400@www.southbersted.co.uk
SUMMARY:Top Up Swimming Y6
DESCRIPTION:Further details to follow
URL:https://www.southbersted.co.uk/calendar/top-up-swimming-y6-4/
END:VEVENT
BEGIN:VEVENT
DTSTART;TZID=Europe/London:20190610T084500
DTEND;TZID=Europe/London:20190610T110000
DTSTAMP:20260426T002829
CREATED:20190402T102246Z
LAST-MODIFIED:20190402T102246Z
UID:11655-1560156300-1560164400@www.southbersted.co.uk
SUMMARY:Top Up Swimming Y6
DESCRIPTION:Further details to follow
URL:https://www.southbersted.co.uk/calendar/top-up-swimming-y6-4-2/
END:VEVENT
BEGIN:VEVENT
DTSTART;VALUE=DATE:20190610
DTEND;VALUE=DATE:20190615
DTSTAMP:20260426T002829
CREATED:20190306T113813Z
LAST-MODIFIED:20190306T113813Z
UID:9048-1560124800-1560556799@www.southbersted.co.uk
SUMMARY:Year 1/2 Phonics Screening Week
DESCRIPTION:All Year 1 (and some Year 2 children) will take the phonics screening test this week
URL:https://www.southbersted.co.uk/calendar/year-1-2-phonics-screening-week/
END:VEVENT
BEGIN:VEVENT
DTSTART;VALUE=DATE:20190610
DTEND;VALUE=DATE:20190615
DTSTAMP:20260426T002829
CREATED:20190306T113813Z
LAST-MODIFIED:20190306T113813Z
UID:11632-1560124800-1560556799@www.southbersted.co.uk
SUMMARY:Year 1/2 Phonics Screening Week
DESCRIPTION:All Year 1 (and some Year 2 children) will take the phonics screening test this week
URL:https://www.southbersted.co.uk/calendar/year-1-2-phonics-screening-week-2/
END:VEVENT
BEGIN:VEVENT
DTSTART;TZID=Europe/London:20190607T090000
DTEND;TZID=Europe/London:20190607T093000
DTSTAMP:20260426T002829
CREATED:20190430T100703Z
LAST-MODIFIED:20190430T100703Z
UID:9240-1559898000-1559899800@www.southbersted.co.uk
SUMMARY:Year 5 Class Collective Worship
DESCRIPTION:Year 5 parents and carers are invited to join us for Collective Worship from 9.00am
URL:https://www.southbersted.co.uk/calendar/year-5-class-collective-worship-2/
END:VEVENT
BEGIN:VEVENT
DTSTART;TZID=Europe/London:20190607T090000
DTEND;TZID=Europe/London:20190607T093000
DTSTAMP:20260426T002829
CREATED:20190430T100703Z
LAST-MODIFIED:20190430T100703Z
UID:11673-1559898000-1559899800@www.southbersted.co.uk
SUMMARY:Year 5 Class Collective Worship
DESCRIPTION:Year 5 parents and carers are invited to join us for Collective Worship from 9.00am
URL:https://www.southbersted.co.uk/calendar/year-5-class-collective-worship-2-2/
END:VEVENT
BEGIN:VEVENT
DTSTART;TZID=Europe/London:20190605T133000
DTEND;TZID=Europe/London:20190605T153000
DTSTAMP:20260426T002829
CREATED:20190523T122658Z
LAST-MODIFIED:20190523T122658Z
UID:9361-1559741400-1559748600@www.southbersted.co.uk
SUMMARY:Quadkids Athletics (Y5/6 x 10)
DESCRIPTION:This event will take place at The Arena.  Children will take part in a variety of events including  75m sprint\, 600m run\, vortex howler throw and standing long jump.
URL:https://www.southbersted.co.uk/calendar/quadkids-athletics-y5-6-x-10/
END:VEVENT
BEGIN:VEVENT
DTSTART;TZID=Europe/London:20190605T133000
DTEND;TZID=Europe/London:20190605T153000
DTSTAMP:20260426T002829
CREATED:20190523T122658Z
LAST-MODIFIED:20190523T122658Z
UID:11693-1559741400-1559748600@www.southbersted.co.uk
SUMMARY:Quadkids Athletics (Y5/6 x 10)
DESCRIPTION:This event will take place at The Arena.  Children will take part in a variety of events including  75m sprint\, 600m run\, vortex howler throw and standing long jump.
URL:https://www.southbersted.co.uk/calendar/quadkids-athletics-y5-6-x-10-2/
END:VEVENT
BEGIN:VEVENT
DTSTART;VALUE=DATE:20190605
DTEND;VALUE=DATE:20190608
DTSTAMP:20260426T002829
CREATED:20180919T134746Z
LAST-MODIFIED:20180919T134746Z
UID:7976-1559692800-1559951999@www.southbersted.co.uk
SUMMARY:Year 4 Residential
DESCRIPTION:Information packs will be given out at the Parent Information Meeting on 13th March (2.30pm).  If you are unable to attend the meeting\, your pack will be sent home with your child.
URL:https://www.southbersted.co.uk/calendar/year-4-residential/
END:VEVENT
END:VCALENDAR