BEGIN:VCALENDAR
VERSION:2.0
PRODID:-//South Bersted Primary School - ECPv6.15.5//NONSGML v1.0//EN
CALSCALE:GREGORIAN
METHOD:PUBLISH
X-WR-CALNAME:South Bersted Primary School
X-ORIGINAL-URL:https://www.southbersted.co.uk
X-WR-CALDESC:Events for South Bersted Primary School
REFRESH-INTERVAL;VALUE=DURATION:PT1H
X-Robots-Tag:noindex
X-PUBLISHED-TTL:PT1H
BEGIN:VTIMEZONE
TZID:Europe/London
BEGIN:DAYLIGHT
TZOFFSETFROM:+0000
TZOFFSETTO:+0100
TZNAME:BST
DTSTART:20190331T010000
END:DAYLIGHT
BEGIN:STANDARD
TZOFFSETFROM:+0100
TZOFFSETTO:+0000
TZNAME:GMT
DTSTART:20191027T010000
END:STANDARD
END:VTIMEZONE
BEGIN:VEVENT
DTSTART;TZID=Europe/London:20190705T151500
DTEND;TZID=Europe/London:20190705T164500
DTSTAMP:20260425T230234
CREATED:20180924T095601Z
LAST-MODIFIED:20180924T095601Z
UID:11550-1562339700-1562345100@www.southbersted.co.uk
SUMMARY:Summer Fete
DESCRIPTION:Please do come and join us after school for our Summer Fair.\nWe will have lots of activities and stalls including:\nTeddy Tombola * Sweetie Tombola * Lucky Boxes\nBouncy Castle * Beat the Goalie * Raffle\nSecond Hand Uniform will also be on sale during this event \n 
URL:https://www.southbersted.co.uk/calendar/summer-fete-2/
END:VEVENT
BEGIN:VEVENT
DTSTART;TZID=Europe/London:20190705T123000
DTEND;TZID=Europe/London:20190705T151500
DTSTAMP:20260425T230234
CREATED:20190314T142449Z
LAST-MODIFIED:20190314T142449Z
UID:9079-1562329800-1562339700@www.southbersted.co.uk
SUMMARY:Future Flyers 2018/19 (Final Session)
DESCRIPTION:Parents/carers are responsible for transporting their child to and from this event.  Children must arrive by 12.25pm latest. \nAs this is the last session\, parents are invited to join at 3.00pm for a 15 minute overview and presentation
URL:https://www.southbersted.co.uk/calendar/future-flyers-2018-19-final-session/
END:VEVENT
BEGIN:VEVENT
DTSTART;TZID=Europe/London:20190705T123000
DTEND;TZID=Europe/London:20190705T151500
DTSTAMP:20260425T230234
CREATED:20190314T142449Z
LAST-MODIFIED:20190314T142449Z
UID:11638-1562329800-1562339700@www.southbersted.co.uk
SUMMARY:Future Flyers 2018/19 (Final Session)
DESCRIPTION:Parents/carers are responsible for transporting their child to and from this event.  Children must arrive by 12.25pm latest. \nAs this is the last session\, parents are invited to join at 3.00pm for a 15 minute overview and presentation
URL:https://www.southbersted.co.uk/calendar/future-flyers-2018-19-final-session-2/
END:VEVENT
BEGIN:VEVENT
DTSTART;TZID=Europe/London:20190705T090000
DTEND;TZID=Europe/London:20190705T093000
DTSTAMP:20260425T230234
CREATED:20190430T101112Z
LAST-MODIFIED:20190430T101112Z
UID:9253-1562317200-1562319000@www.southbersted.co.uk
SUMMARY:Year 3 Class Collective Worship
DESCRIPTION:Year 3 parents and carers are invited to join us for Collective Worship from 9.00am
URL:https://www.southbersted.co.uk/calendar/year-3-class-collective-worship-2/
END:VEVENT
BEGIN:VEVENT
DTSTART;TZID=Europe/London:20190705T090000
DTEND;TZID=Europe/London:20190705T093000
DTSTAMP:20260425T230234
CREATED:20190430T101112Z
LAST-MODIFIED:20190430T101112Z
UID:11678-1562317200-1562319000@www.southbersted.co.uk
SUMMARY:Year 3 Class Collective Worship
DESCRIPTION:Year 3 parents and carers are invited to join us for Collective Worship from 9.00am
URL:https://www.southbersted.co.uk/calendar/year-3-class-collective-worship-2-2/
END:VEVENT
BEGIN:VEVENT
DTSTART;TZID=Europe/London:20190704T160000
DTEND;TZID=Europe/London:20190704T180000
DTSTAMP:20260425T230234
CREATED:20190626T104106Z
LAST-MODIFIED:20190626T104106Z
UID:9410-1562256000-1562263200@www.southbersted.co.uk
SUMMARY:Area Athletics Event at FCC
DESCRIPTION:Participating children should arrive at FCC by 4.00pm.  Please take note of the parking arrangements on the letter.
URL:https://www.southbersted.co.uk/calendar/area-athletics-event-at-fcc/
END:VEVENT
BEGIN:VEVENT
DTSTART;TZID=Europe/London:20190704T160000
DTEND;TZID=Europe/London:20190704T180000
DTSTAMP:20260425T230234
CREATED:20190626T104106Z
LAST-MODIFIED:20190626T104106Z
UID:11694-1562256000-1562263200@www.southbersted.co.uk
SUMMARY:Area Athletics Event at FCC
DESCRIPTION:Participating children should arrive at FCC by 4.00pm.  Please take note of the parking arrangements on the letter.
URL:https://www.southbersted.co.uk/calendar/area-athletics-event-at-fcc-2/
END:VEVENT
BEGIN:VEVENT
DTSTART;TZID=Europe/London:20190703T140000
DTEND;TZID=Europe/London:20190703T150000
DTSTAMP:20260425T230234
CREATED:20190430T103901Z
LAST-MODIFIED:20190430T103901Z
UID:9268-1562162400-1562166000@www.southbersted.co.uk
SUMMARY:New Reception Intake - Welcome Session
DESCRIPTION:New reception children who will be joining us in September are invited to attend today from 2.00 – 3.00pm.
URL:https://www.southbersted.co.uk/calendar/new-reception-intake-welcome-session-2019-07-03/
END:VEVENT
BEGIN:VEVENT
DTSTART;TZID=Europe/London:20190703T140000
DTEND;TZID=Europe/London:20190703T150000
DTSTAMP:20260425T230234
CREATED:20190430T103901Z
LAST-MODIFIED:20190430T103901Z
UID:11685-1562162400-1562166000@www.southbersted.co.uk
SUMMARY:New Reception Intake - Welcome Session
DESCRIPTION:New reception children who will be joining us in September are invited to attend today from 2.00 – 3.00pm.
URL:https://www.southbersted.co.uk/calendar/new-reception-intake-welcome-session-2019-07-03-2/
END:VEVENT
BEGIN:VEVENT
DTSTART;TZID=Europe/London:20190701T100000
DTEND;TZID=Europe/London:20190701T120000
DTSTAMP:20260425T230234
CREATED:20190402T100806Z
LAST-MODIFIED:20190402T100806Z
UID:9159-1561975200-1561982400@www.southbersted.co.uk
SUMMARY:Year 6 Leavers Service - Chichester Cathedral
DESCRIPTION:Year 6 children will be attending the leavers service at Chichester Cathedral.  Parents and carers are invited to join us from 10.30am.  Further details will be sent out in due course.
URL:https://www.southbersted.co.uk/calendar/year-6-leavers-service-chichester-cathedral/
END:VEVENT
BEGIN:VEVENT
DTSTART;TZID=Europe/London:20190701T100000
DTEND;TZID=Europe/London:20190701T120000
DTSTAMP:20260425T230234
CREATED:20190402T100806Z
LAST-MODIFIED:20190402T100806Z
UID:11649-1561975200-1561982400@www.southbersted.co.uk
SUMMARY:Year 6 Leavers Service - Chichester Cathedral
DESCRIPTION:Year 6 children will be attending the leavers service at Chichester Cathedral.  Parents and carers are invited to join us from 10.30am.  Further details will be sent out in due course.
URL:https://www.southbersted.co.uk/calendar/year-6-leavers-service-chichester-cathedral-2/
END:VEVENT
BEGIN:VEVENT
DTSTART;TZID=Europe/London:20190701T085000
DTEND;TZID=Europe/London:20190701T151500
DTSTAMP:20260425T230234
CREATED:20190430T132257Z
LAST-MODIFIED:20190430T132257Z
UID:9283-1561971000-1561994100@www.southbersted.co.uk
SUMMARY:Year 5 Magic Day at FCC
DESCRIPTION:All children will take part in a day of activities at Felpham Community College.  Transport will be provided by FCC.
URL:https://www.southbersted.co.uk/calendar/year-5-magic-day-at-fcc/
END:VEVENT
BEGIN:VEVENT
DTSTART;TZID=Europe/London:20190701T085000
DTEND;TZID=Europe/London:20190701T151500
DTSTAMP:20260425T230234
CREATED:20190430T132257Z
LAST-MODIFIED:20190430T132257Z
UID:11689-1561971000-1561994100@www.southbersted.co.uk
SUMMARY:Year 5 Magic Day at FCC
DESCRIPTION:All children will take part in a day of activities at Felpham Community College.  Transport will be provided by FCC.
URL:https://www.southbersted.co.uk/calendar/year-5-magic-day-at-fcc-2/
END:VEVENT
BEGIN:VEVENT
DTSTART;TZID=Europe/London:20190628T090000
DTEND;TZID=Europe/London:20190628T150000
DTSTAMP:20260425T230234
CREATED:20190402T105604Z
LAST-MODIFIED:20190402T105604Z
UID:9204-1561712400-1561734000@www.southbersted.co.uk
SUMMARY:Whole School Sports Day
DESCRIPTION:Further information to follow \n*** in the event of bad weather\, the sports day will take place on Friday 12th July ***
URL:https://www.southbersted.co.uk/calendar/whole-school-sports-day-2/
END:VEVENT
BEGIN:VEVENT
DTSTART;TZID=Europe/London:20190628T090000
DTEND;TZID=Europe/London:20190628T150000
DTSTAMP:20260425T230234
CREATED:20190402T105604Z
LAST-MODIFIED:20190402T105604Z
UID:11672-1561712400-1561734000@www.southbersted.co.uk
SUMMARY:Whole School Sports Day
DESCRIPTION:Further information to follow \n*** in the event of bad weather\, the sports day will take place on Friday 12th July ***
URL:https://www.southbersted.co.uk/calendar/whole-school-sports-day-2-2/
END:VEVENT
BEGIN:VEVENT
DTSTART;TZID=Europe/London:20190626T140000
DTEND;TZID=Europe/London:20190626T150000
DTSTAMP:20260425T230234
CREATED:20190430T103901Z
LAST-MODIFIED:20190430T103901Z
UID:9267-1561557600-1561561200@www.southbersted.co.uk
SUMMARY:New Reception Intake - Welcome Session
DESCRIPTION:New reception children who will be joining us in September are invited to attend today from 2.00 – 3.00pm.
URL:https://www.southbersted.co.uk/calendar/new-reception-intake-welcome-session-2019-06-26/
END:VEVENT
BEGIN:VEVENT
DTSTART;TZID=Europe/London:20190626T140000
DTEND;TZID=Europe/London:20190626T150000
DTSTAMP:20260425T230234
CREATED:20190430T103901Z
LAST-MODIFIED:20190430T103901Z
UID:11684-1561557600-1561561200@www.southbersted.co.uk
SUMMARY:New Reception Intake - Welcome Session
DESCRIPTION:New reception children who will be joining us in September are invited to attend today from 2.00 – 3.00pm.
URL:https://www.southbersted.co.uk/calendar/new-reception-intake-welcome-session-2019-06-26-2/
END:VEVENT
BEGIN:VEVENT
DTSTART;TZID=Europe/London:20190626T090000
DTEND;TZID=Europe/London:20190626T093000
DTSTAMP:20260425T230234
CREATED:20190430T101016Z
LAST-MODIFIED:20190430T101016Z
UID:9251-1561539600-1561541400@www.southbersted.co.uk
SUMMARY:Year 1 Class Collective Worship
DESCRIPTION:Year 1 parents and carers are invited to join us for Collective Worship from 9.00am
URL:https://www.southbersted.co.uk/calendar/year-1-class-collective-worship-2/
END:VEVENT
BEGIN:VEVENT
DTSTART;TZID=Europe/London:20190626T090000
DTEND;TZID=Europe/London:20190626T093000
DTSTAMP:20260425T230234
CREATED:20190430T101016Z
LAST-MODIFIED:20190430T101016Z
UID:11677-1561539600-1561541400@www.southbersted.co.uk
SUMMARY:Year 1 Class Collective Worship
DESCRIPTION:Year 1 parents and carers are invited to join us for Collective Worship from 9.00am
URL:https://www.southbersted.co.uk/calendar/year-1-class-collective-worship-2-2/
END:VEVENT
BEGIN:VEVENT
DTSTART;VALUE=DATE:20190626
DTEND;VALUE=DATE:20190627
DTSTAMP:20260425T230234
CREATED:20180919T135045Z
LAST-MODIFIED:20180919T135045Z
UID:7981-1561507200-1561593599@www.southbersted.co.uk
SUMMARY:Year 2 visiting West Dean Gardens
DESCRIPTION:
URL:https://www.southbersted.co.uk/calendar/year-2-visiting-west-dean-gardens/
END:VEVENT
BEGIN:VEVENT
DTSTART;VALUE=DATE:20190626
DTEND;VALUE=DATE:20190627
DTSTAMP:20260425T230234
CREATED:20180919T135045Z
LAST-MODIFIED:20180919T135045Z
UID:11529-1561507200-1561593599@www.southbersted.co.uk
SUMMARY:Year 2 visiting West Dean Gardens
DESCRIPTION:
URL:https://www.southbersted.co.uk/calendar/year-2-visiting-west-dean-gardens-3/
END:VEVENT
BEGIN:VEVENT
DTSTART;TZID=Europe/London:20190625T090000
DTEND;TZID=Europe/London:20190625T150000
DTSTAMP:20260425T230234
CREATED:20190321T110028Z
LAST-MODIFIED:20190321T110028Z
UID:9098-1561453200-1561474800@www.southbersted.co.uk
SUMMARY:Year 3 visit to Staunton Country Park
DESCRIPTION:Further details to follows. \nAny parents are available to help should contact the school office.
URL:https://www.southbersted.co.uk/calendar/year-3-visit-to-staunton-country-park/
END:VEVENT
BEGIN:VEVENT
DTSTART;TZID=Europe/London:20190625T090000
DTEND;TZID=Europe/London:20190625T150000
DTSTAMP:20260425T230234
CREATED:20190321T110028Z
LAST-MODIFIED:20190321T110028Z
UID:11642-1561453200-1561474800@www.southbersted.co.uk
SUMMARY:Year 3 visit to Staunton Country Park
DESCRIPTION:Further details to follows. \nAny parents are available to help should contact the school office.
URL:https://www.southbersted.co.uk/calendar/year-3-visit-to-staunton-country-park-2/
END:VEVENT
BEGIN:VEVENT
DTSTART;TZID=Europe/London:20190621T151500
DTEND;TZID=Europe/London:20190621T171500
DTSTAMP:20260425T230234
CREATED:20180924T094726Z
LAST-MODIFIED:20180924T094726Z
UID:8064-1561130100-1561137300@www.southbersted.co.uk
SUMMARY:Film Night (All Year Groups)
DESCRIPTION:***Please note this is also a non uniform day*** \nTickets priced at £3.00 per child\, to include a hotdog\, drink\, popcorn and a small packet of sweets. \nAs this is the last Film Night for Year 6\, they will have an opportunity to purchase tickets before they go on sale to the rest of the school.  Tickets for Year 6 will be on sale from Thursday 13th June.  Tickets will then go on sale to the rest of the school from Monday 17th June 2019. Please note that tickets are limited and will be sold on a first come-first served basis.\n\nPlease note the Film Night will take place straight from school\, and children should be collected at 5.15pm prompt.
URL:https://www.southbersted.co.uk/calendar/disco-all-year-groups/
END:VEVENT
BEGIN:VEVENT
DTSTART;TZID=Europe/London:20190621T151500
DTEND;TZID=Europe/London:20190621T171500
DTSTAMP:20260425T230234
CREATED:20180924T094726Z
LAST-MODIFIED:20180924T094726Z
UID:11546-1561130100-1561137300@www.southbersted.co.uk
SUMMARY:Film Night (All Year Groups)
DESCRIPTION:***Please note this is also a non uniform day*** \nTickets priced at £3.00 per child\, to include a hotdog\, drink\, popcorn and a small packet of sweets. \nAs this is the last Film Night for Year 6\, they will have an opportunity to purchase tickets before they go on sale to the rest of the school.  Tickets for Year 6 will be on sale from Thursday 13th June.  Tickets will then go on sale to the rest of the school from Monday 17th June 2019. Please note that tickets are limited and will be sold on a first come-first served basis.\n\nPlease note the Film Night will take place straight from school\, and children should be collected at 5.15pm prompt.
URL:https://www.southbersted.co.uk/calendar/disco-all-year-groups-2/
END:VEVENT
BEGIN:VEVENT
DTSTART;TZID=Europe/London:20190621T090000
DTEND;TZID=Europe/London:20190621T093000
DTSTAMP:20260425T230234
CREATED:20190430T100930Z
LAST-MODIFIED:20190430T100930Z
UID:9249-1561107600-1561109400@www.southbersted.co.uk
SUMMARY:Year 4 Class Collective Worship
DESCRIPTION:Year 4 parents and carers are invited to join us for Collective Worship from 9.00am
URL:https://www.southbersted.co.uk/calendar/year-4-class-collective-worship-2/
END:VEVENT
BEGIN:VEVENT
DTSTART;TZID=Europe/London:20190621T090000
DTEND;TZID=Europe/London:20190621T093000
DTSTAMP:20260425T230234
CREATED:20190430T100930Z
LAST-MODIFIED:20190430T100930Z
UID:11676-1561107600-1561109400@www.southbersted.co.uk
SUMMARY:Year 4 Class Collective Worship
DESCRIPTION:Year 4 parents and carers are invited to join us for Collective Worship from 9.00am
URL:https://www.southbersted.co.uk/calendar/year-4-class-collective-worship-2-2/
END:VEVENT
BEGIN:VEVENT
DTSTART;VALUE=DATE:20190621
DTEND;VALUE=DATE:20190622
DTSTAMP:20260425T230234
CREATED:20181011T084153Z
LAST-MODIFIED:20181011T084153Z
UID:8217-1561075200-1561161599@www.southbersted.co.uk
SUMMARY:Non-Uniform Day
DESCRIPTION:All children are invited to wear non-uniform on this day\, in return for a bottle donation (bubble bath\, wine etc).  Please hand any bottles to the class teacher or the school office. \nDonated bottles will be used for the Bottle Tombola at our Summer Fair.
URL:https://www.southbersted.co.uk/calendar/non-uniform-day-2/
END:VEVENT
BEGIN:VEVENT
DTSTART;VALUE=DATE:20190621
DTEND;VALUE=DATE:20190622
DTSTAMP:20260425T230234
CREATED:20181011T084153Z
LAST-MODIFIED:20181011T084153Z
UID:11570-1561075200-1561161599@www.southbersted.co.uk
SUMMARY:Non-Uniform Day
DESCRIPTION:All children are invited to wear non-uniform on this day\, in return for a bottle donation (bubble bath\, wine etc).  Please hand any bottles to the class teacher or the school office. \nDonated bottles will be used for the Bottle Tombola at our Summer Fair.
URL:https://www.southbersted.co.uk/calendar/non-uniform-day-2-2/
END:VEVENT
BEGIN:VEVENT
DTSTART;TZID=Europe/London:20190620T090000
DTEND;TZID=Europe/London:20190620T120000
DTSTAMP:20260425T230234
CREATED:20190327T131117Z
LAST-MODIFIED:20190327T131117Z
UID:9121-1561021200-1561032000@www.southbersted.co.uk
SUMMARY:Year 1 visiting Vitacress Nurseries
DESCRIPTION:Further details to follow
URL:https://www.southbersted.co.uk/calendar/year-1-visiting-vitacress-nurseries/
END:VEVENT
END:VCALENDAR